Workbook

Sheet REKAP PER UNSUR
A1: IKM SKM STANDAR BIDANG PELAYANAN KESEHATAN | U1: U1 | V1: Persyaratan
A2: 1) IKM Tim Kerja Registrasi Lisensi dan Mutu Pelayanan | U2: U2 | V2: Prosedur
B3: Nilai Unsur Pelayanan | N3: 1 | O3: D | P3: 25 | Q3: D | R3: Tidak Baik | U3: U3 | V3: Jangka Waktu
B4: U1 | C4: U2 | D4: U3 | E4: U4 | F4: U5 | G4: U6 | H4: U7 | I4: U8 | J4: U9 | N4: 2.6 | O4: C | P4: 65 | Q4: C | R4: Kurang Baik | U4: U4 | V4: Tarif
A5: IKM per unsur | B5: ='Regli-S'!F19 -> 3.5974026 | C5: ='Regli-S'!G19 -> 3.5714286 | D5: ='Regli-S'!H19 -> 3.5844156 | E5: ='Regli-S'!I19 -> 3.8701299 | F5: ='Regli-S'!J19 -> 3.5454545 | G5: ='Regli-S'!K19 -> 3.5844156 | H5: ='Regli-S'!L19 -> 3.5714286 | I5: ='Regli-S'!M19 -> 3.8701299 | J5: ='Regli-S'!N19 -> 3.5454545 | L5: =ROUND((AVERAGE(B5:J5)/4)*100,2) -> 90.95 | M5: 77 | N5: 3.07 | O5: B | P5: 76.61 | Q5: B | R5: Baik | U5: U5 | V5: Produk
A6: Kategori | B6: =VLOOKUP(B5,$N$3:$O$6,2,TRUE) -> A | C6: =VLOOKUP(C5,$N$3:$O$6,2,TRUE) -> A | D6: =VLOOKUP(D5,$N$3:$O$6,2,TRUE) -> A | E6: =VLOOKUP(E5,$N$3:$O$6,2,TRUE) -> A | F6: =VLOOKUP(F5,$N$3:$O$6,2,TRUE) -> A | G6: =VLOOKUP(G5,$N$3:$O$6,2,TRUE) -> A | H6: =VLOOKUP(H5,$N$3:$O$6,2,TRUE) -> A | I6: =VLOOKUP(I5,$N$3:$O$6,2,TRUE) -> A | J6: =VLOOKUP(J5,$N$3:$O$6,2,TRUE) -> A | N6: 3.54 | O6: A | P6: 88.31 | Q6: A | R6: Sangat Baik | U6: U6 | V6: Kompetensi
A7: IKM Unit Layanan | B7: =TEXT(L5,"0,00")&" ("&VLOOKUP(L5,$P$3:$Q$6,2,TRUE)&" dan Kinerja Pelayanan "&VLOOKUP(L7,$Q$3:$R$6,2,FALSE)&")" -> 90,95 (A dan Kinerja Pelayanan Sangat Baik) | L7: =VLOOKUP(L5,$P$3:$Q$6,2,TRUE) -> A | U7: U7 | V7: Perilaku
U8: U8 | V8: Pengaduan
A9: 2) IKM Tim Kerja Kesehatan Khusus | U9: U9 | V9: Sarpras
B10: Nilai Unsur Pelayanan
B11: U1 | C11: U2 | D11: U3 | E11: U4 | F11: U5 | G11: U6 | H11: U7 | I11: U8 | J11: U9
A12: IKM per unsur | B12: ='Kesus-S'!F19 -> 3.4942529 | C12: ='Kesus-S'!G19 -> 3.5172414 | D12: ='Kesus-S'!H19 -> 3.4597701 | E12: ='Kesus-S'!I19 -> 3.9425287 | F12: ='Kesus-S'!J19 -> 3.4712644 | G12: ='Kesus-S'!K19 -> 3.5517241 | H12: ='Kesus-S'!L19 -> 3.6436782 | I12: ='Kesus-S'!M19 -> 3.9885057 | J12: ='Kesus-S'!N19 -> 3.7356322 | L12: =ROUND((AVERAGE(B12:J12)/4)*100,2) -> 91.12 | M12: 87
A13: Kategori | B13: =VLOOKUP(B12,$N$3:$O$6,2,TRUE) -> B | C13: =VLOOKUP(C12,$N$3:$O$6,2,TRUE) -> B | D13: =VLOOKUP(D12,$N$3:$O$6,2,TRUE) -> B | E13: =VLOOKUP(E12,$N$3:$O$6,2,TRUE) -> A | F13: =VLOOKUP(F12,$N$3:$O$6,2,TRUE) -> B | G13: =VLOOKUP(G12,$N$3:$O$6,2,TRUE) -> A | H13: =VLOOKUP(H12,$N$3:$O$6,2,TRUE) -> A | I13: =VLOOKUP(I12,$N$3:$O$6,2,TRUE) -> A | J13: =VLOOKUP(J12,$N$3:$O$6,2,TRUE) -> A
A14: IKM Unit Layanan | B14: =TEXT(L12,"0,00")&" ("&VLOOKUP(L12,$P$3:$Q$6,2,TRUE)&" dan Kinerja Pelayanan "&VLOOKUP(L14,$Q$3:$R$6,2,FALSE)&")" -> 91,12 (A dan Kinerja Pelayanan Sangat Baik) | L14: =VLOOKUP(L12,$P$3:$Q$6,2,TRUE) -> A
A16: 3) IKM Tim Kerja Kesehatan dasar dan Rujukan
B17: Nilai Unsur Pelayanan | U17: Nilai Unsur Pelayanan
B18: U1 | C18: U2 | D18: U3 | E18: U4 | F18: U5 | G18: U6 | H18: U7 | I18: U8 | J18: U9 | U18: U1 | V18: U2 | W18: U3 | X18: U4 | Y18: U5 | Z18: U6 | AA18: U7 | AB18: U8 | AC18: U9
A19: IKM per unsur | B19: ='Kesdas-S'!F19 -> 3.5238095 | C19: ='Kesdas-S'!G19 -> 3.5714286 | D19: ='Kesdas-S'!H19 -> 3.6190476 | E19: ='Kesdas-S'!I19 -> 3.7619048 | F19: ='Kesdas-S'!J19 -> 3.5714286 | G19: ='Kesdas-S'!K19 -> 3.5714286 | H19: ='Kesdas-S'!L19 -> 3.7142857 | I19: ='Kesdas-S'!M19 -> 4 | J19: ='Kesdas-S'!N19 -> 3.5238095 | L19: =ROUND((AVERAGE(B19:J19)/4)*100,2) -> 91.27 | M19: 33 | T19: IKM per unsur | U19: =SUM(B5,B12,B19)/COUNT(B5,B12,B19) -> 3.5384883 | V19: =SUM(C5,C12,C19)/COUNT(C5,C12,C19) -> 3.5533662 | W19: =SUM(D5,D12,D19)/COUNT(D5,D12,D19) -> 3.5544111 | X19: =SUM(E5,E12,E19)/COUNT(E5,E12,E19) -> 3.8581878 | Y19: =SUM(F5,F12,F19)/COUNT(F5,F12,F19) -> 3.5293825 | Z19: =SUM(G5,G12,G19)/COUNT(G5,G12,G19) -> 3.5691894 | AA19: =SUM(H5,H12,H19)/COUNT(H5,H12,H19) -> 3.6431308 | AB19: =SUM(I5,I12,I19)/COUNT(I5,I12,I19) -> 3.9528785 | AC19: =SUM(J5,J12,J19)/COUNT(J5,J12,J19) -> 3.6016321 | AE19: =ROUND((AVERAGE(U19:AC19)/4)*100,2) -> 91.11 | AF19: 3
A20: Kategori | B20: =VLOOKUP(B19,$N$3:$O$6,2,TRUE) -> B | C20: =VLOOKUP(C19,$N$3:$O$6,2,TRUE) -> A | D20: =VLOOKUP(D19,$N$3:$O$6,2,TRUE) -> A | E20: =VLOOKUP(E19,$N$3:$O$6,2,TRUE) -> A | F20: =VLOOKUP(F19,$N$3:$O$6,2,TRUE) -> A | G20: =VLOOKUP(G19,$N$3:$O$6,2,TRUE) -> A | H20: =VLOOKUP(H19,$N$3:$O$6,2,TRUE) -> A | I20: =VLOOKUP(I19,$N$3:$O$6,2,TRUE) -> A | J20: =VLOOKUP(J19,$N$3:$O$6,2,TRUE) -> B | T20: Kategori | U20: =VLOOKUP(U19,$N$3:$O$6,2,TRUE) -> B | V20: =VLOOKUP(V19,$N$3:$O$6,2,TRUE) -> A | W20: =VLOOKUP(W19,$N$3:$O$6,2,TRUE) -> A | X20: =VLOOKUP(X19,$N$3:$O$6,2,TRUE) -> A | Y20: =VLOOKUP(Y19,$N$3:$O$6,2,TRUE) -> B | Z20: =VLOOKUP(Z19,$N$3:$O$6,2,TRUE) -> A | AA20: =VLOOKUP(AA19,$N$3:$O$6,2,TRUE) -> A | AB20: =VLOOKUP(AB19,$N$3:$O$6,2,TRUE) -> A | AC20: =VLOOKUP(AC19,$N$3:$O$6,2,TRUE) -> A
A21: IKM Unit Layanan | B21: =TEXT(L19,"0,00")&" ("&VLOOKUP(L19,$P$3:$Q$6,2,TRUE)&" dan Kinerja Pelayanan "&VLOOKUP(L21,$Q$3:$R$6,2,FALSE)&")" -> 91,27 (A dan Kinerja Pelayanan Sangat Baik) | L21: =VLOOKUP(L19,$P$3:$Q$6,2,TRUE) -> A | T21: IKM Unit Layanan | U21: =TEXT(AE19,"0,00")&" ("&VLOOKUP(AE19,$P$3:$Q$6,2,TRUE)&" dan Kinerja Pelayanan "&VLOOKUP(AE21,$Q$3:$R$6,2,FALSE)&")" -> 91,11 (A dan Kinerja Pelayanan Sangat Baik) | AE21: =VLOOKUP(AE19,$P$3:$Q$6,2,TRUE) -> A
A23: IKM SKM STANDAR BIDANG SUMBER DAYA KESEHATAN
A24: 1) IKM Tim Kerja Pengembangan Sumber Daya Kesehatan
B25: Nilai Unsur Pelayanan | AJ25: Nilai Unsur Pelayanan
B26: U1 | C26: U2 | D26: U3 | E26: U4 | F26: U5 | G26: U6 | H26: U7 | I26: U8 | J26: U9 | AJ26: U1 | AK26: U2 | AL26: U3 | AM26: U4 | AN26: U5 | AO26: U6 | AP26: U7 | AQ26: U8 | AR26: U9 | AT26: =AVERAGE(AJ29:AR29) -> 3.656244
A27: IKM per unsur | B27: ='PSDK-S'!F19 -> 3.6267281 | C27: ='PSDK-S'!G19 -> 3.6589862 | D27: ='PSDK-S'!H19 -> 3.5990783 | E27: ='PSDK-S'!I19 -> 3.8341014 | F27: ='PSDK-S'!J19 -> 3.6175115 | G27: ='PSDK-S'!K19 -> 3.6635945 | H27: ='PSDK-S'!L19 -> 3.6313364 | I27: ='PSDK-S'!M19 -> 3.9262673 | J27: ='PSDK-S'!N19 -> 3.6543779 | L27: =ROUND((AVERAGE(B27:J27)/4)*100,2) -> 92.26 | M27: 168 | AI27: Bidang YANKES | AJ27: =U19 -> 3.5384883 | AK27: =V19 -> 3.5533662 | AL27: =W19 -> 3.5544111 | AM27: =X19 -> 3.8581878 | AN27: =Y19 -> 3.5293825 | AO27: =Z19 -> 3.5691894 | AP27: =AA19 -> 3.6431308 | AQ27: =AB19 -> 3.9528785 | AR27: =AC19 -> 3.6016321 | AT27: =ROUND((AVERAGE(AJ29:AR29)/4)*100,2) -> 91.41 | AU27: 3
A28: Kategori | B28: =VLOOKUP(B27,$N$3:$O$6,2,TRUE) -> A | C28: =VLOOKUP(C27,$N$3:$O$6,2,TRUE) -> A | D28: =VLOOKUP(D27,$N$3:$O$6,2,TRUE) -> A | E28: =VLOOKUP(E27,$N$3:$O$6,2,TRUE) -> A | F28: =VLOOKUP(F27,$N$3:$O$6,2,TRUE) -> A | G28: =VLOOKUP(G27,$N$3:$O$6,2,TRUE) -> A | H28: =VLOOKUP(H27,$N$3:$O$6,2,TRUE) -> A | I28: =VLOOKUP(I27,$N$3:$O$6,2,TRUE) -> A | J28: =VLOOKUP(J27,$N$3:$O$6,2,TRUE) -> A | AI28: Bidang SDK | AJ28: =U41 -> 3.6079394 | AK28: =V41 -> 3.5912082 | AL28: =W41 -> 3.570798 | AM28: =X41 -> 3.8440244 | AN28: =Y41 -> 3.5041911 | AO28: =Z41 -> 3.6572652 | AP28: =AA41 -> 3.654302 | AQ28: =AB41 -> 3.8788616 | AR28: =AC41 -> 3.7031348
A29: IKM Unit Layanan | B29: =TEXT(L27,"0,00")&" ("&VLOOKUP(L27,$P$3:$Q$6,2,TRUE)&" dan Kinerja Pelayanan "&VLOOKUP(L29,$Q$3:$R$6,2,FALSE)&")" -> 92,26 (A dan Kinerja Pelayanan Sangat Baik) | L29: =VLOOKUP(L27,$P$3:$Q$6,2,TRUE) -> A | AI29: IKM DINKES | AJ29: =AVERAGE(AJ27:AJ28) -> 3.5732138 | AK29: =AVERAGE(AK27:AK28) -> 3.5722872 | AL29: =AVERAGE(AL27:AL28) -> 3.5626046 | AM29: =AVERAGE(AM27:AM28) -> 3.8511061 | AN29: =AVERAGE(AN27:AN28) -> 3.5167868 | AO29: =AVERAGE(AO27:AO28) -> 3.6132273 | AP29: =AVERAGE(AP27:AP28) -> 3.6487164 | AQ29: =AVERAGE(AQ27:AQ28) -> 3.9158701 | AR29: =AVERAGE(AR27:AR28) -> 3.6523834 | AT29: =VLOOKUP(AT27,$P$3:$Q$6,2,TRUE) -> A
AI30: Kategori | AJ30: =VLOOKUP(AJ29,$N$3:$O$6,2,TRUE) -> A | AK30: =VLOOKUP(AK29,$N$3:$O$6,2,TRUE) -> A | AL30: =VLOOKUP(AL29,$N$3:$O$6,2,TRUE) -> A | AM30: =VLOOKUP(AM29,$N$3:$O$6,2,TRUE) -> A | AN30: =VLOOKUP(AN29,$N$3:$O$6,2,TRUE) -> B | AO30: =VLOOKUP(AO29,$N$3:$O$6,2,TRUE) -> A | AP30: =VLOOKUP(AP29,$N$3:$O$6,2,TRUE) -> A | AQ30: =VLOOKUP(AQ29,$N$3:$O$6,2,TRUE) -> A | AR30: =VLOOKUP(AR29,$N$3:$O$6,2,TRUE) -> A
A31: 2) IKM Tim Kerja Sarana dan Prasarana | AI31: IKM Unit Layanan | AJ31: =TEXT(AT27,"0,00")&" ("&VLOOKUP(AT27,$P$3:$Q$6,2,TRUE)&" dan Kinerja Pelayanan "&VLOOKUP(AT29,$Q$3:$R$6,2,FALSE)&")" -> 91,41 (A dan Kinerja Pelayanan Sangat Baik)
B32: Nilai Unsur Pelayanan
B33: U1 | C33: U2 | D33: U3 | E33: U4 | F33: U5 | G33: U6 | H33: U7 | I33: U8 | J33: U9
A34: IKM per unsur | B34: ='Sarpras-S'!F19 -> 3.6785714 | C34: ='Sarpras-S'!G19 -> 3.5714286 | D34: ='Sarpras-S'!H19 -> 3.6071429 | E34: ='Sarpras-S'!I19 -> 3.8214286 | F34: ='Sarpras-S'!J19 -> 3.5 | G34: ='Sarpras-S'!K19 -> 3.6785714 | H34: ='Sarpras-S'!L19 -> 3.7142857 | I34: ='Sarpras-S'!M19 -> 3.8214286 | J34: ='Sarpras-S'!N19 -> 3.7142857 | L34: =ROUND((AVERAGE(B34:J34)/4)*100,2) -> 91.96 | M34: 28
A35: Kategori | B35: =VLOOKUP(B34,$N$3:$O$6,2,TRUE) -> A | C35: =VLOOKUP(C34,$N$3:$O$6,2,TRUE) -> A | D35: =VLOOKUP(D34,$N$3:$O$6,2,TRUE) -> A | E35: =VLOOKUP(E34,$N$3:$O$6,2,TRUE) -> A | F35: =VLOOKUP(F34,$N$3:$O$6,2,TRUE) -> B | G35: =VLOOKUP(G34,$N$3:$O$6,2,TRUE) -> A | H35: =VLOOKUP(H34,$N$3:$O$6,2,TRUE) -> A | I35: =VLOOKUP(I34,$N$3:$O$6,2,TRUE) -> A | J35: =VLOOKUP(J34,$N$3:$O$6,2,TRUE) -> A
A36: IKM Unit Layanan | B36: =TEXT(L34,"0,00")&" ("&VLOOKUP(L34,$P$3:$Q$6,2,TRUE)&" dan Kinerja Pelayanan "&VLOOKUP(L36,$Q$3:$R$6,2,FALSE)&")" -> 91,96 (A dan Kinerja Pelayanan Sangat Baik) | L36: =VLOOKUP(L34,$P$3:$Q$6,2,TRUE) -> A
A38: 3) IKM Tim Kerja Farmasi, Makanan dan Minuman
B39: Nilai Unsur Pelayanan | U39: Nilai Unsur Pelayanan
B40: U1 | C40: U2 | D40: U3 | E40: U4 | F40: U5 | G40: U6 | H40: U7 | I40: U8 | J40: U9 | U40: U1 | V40: U2 | W40: U3 | X40: U4 | Y40: U5 | Z40: U6 | AA40: U7 | AB40: U8 | AC40: U9
A41: IKM per unsur | B41: ='Farmakmin-S'!F19 -> 3.5185185 | C41: ='Farmakmin-S'!G19 -> 3.5432099 | D41: ='Farmakmin-S'!H19 -> 3.5061728 | E41: ='Farmakmin-S'!I19 -> 3.8765432 | F41: ='Farmakmin-S'!J19 -> 3.3950617 | G41: ='Farmakmin-S'!K19 -> 3.6296296 | H41: ='Farmakmin-S'!L19 -> 3.617284 | I41: ='Farmakmin-S'!M19 -> 3.8888889 | J41: ='Farmakmin-S'!N19 -> 3.7407407 | L41: =ROUND((AVERAGE(B41:J41)/4)*100,2) -> 90.88 | M41: 81 | T41: IKM per unsur | U41: =SUM(B27,B34,B41)/COUNT(B27,B34,B41) -> 3.6079394 | V41: =SUM(C27,C34,C41)/COUNT(C27,C34,C41) -> 3.5912082 | W41: =SUM(D27,D34,D41)/COUNT(D27,D34,D41) -> 3.570798 | X41: =SUM(E27,E34,E41)/COUNT(E27,E34,E41) -> 3.8440244 | Y41: =SUM(F27,F34,F41)/COUNT(F27,F34,F41) -> 3.5041911 | Z41: =SUM(G27,G34,G41)/COUNT(G27,G34,G41) -> 3.6572652 | AA41: =SUM(H27,H34,H41)/COUNT(H27,H34,H41) -> 3.654302 | AB41: =SUM(I27,I34,I41)/COUNT(I27,I34,I41) -> 3.8788616 | AC41: =SUM(J27,J34,J41)/COUNT(J27,J34,J41) -> 3.7031348 | AE41: =ROUND((AVERAGE(U41:AC41)/4)*100,2) -> 91.7 | AF41: 3
A42: Kategori | B42: =VLOOKUP(B41,$N$3:$O$6,2,TRUE) -> B | C42: =VLOOKUP(C41,$N$3:$O$6,2,TRUE) -> A | D42: =VLOOKUP(D41,$N$3:$O$6,2,TRUE) -> B | E42: =VLOOKUP(E41,$N$3:$O$6,2,TRUE) -> A | F42: =VLOOKUP(F41,$N$3:$O$6,2,TRUE) -> B | G42: =VLOOKUP(G41,$N$3:$O$6,2,TRUE) -> A | H42: =VLOOKUP(H41,$N$3:$O$6,2,TRUE) -> A | I42: =VLOOKUP(I41,$N$3:$O$6,2,TRUE) -> A | J42: =VLOOKUP(J41,$N$3:$O$6,2,TRUE) -> A | T42: Kategori | U42: =VLOOKUP(U41,$N$3:$O$6,2,TRUE) -> A | V42: =VLOOKUP(V41,$N$3:$O$6,2,TRUE) -> A | W42: =VLOOKUP(W41,$N$3:$O$6,2,TRUE) -> A | X42: =VLOOKUP(X41,$N$3:$O$6,2,TRUE) -> A | Y42: =VLOOKUP(Y41,$N$3:$O$6,2,TRUE) -> B | Z42: =VLOOKUP(Z41,$N$3:$O$6,2,TRUE) -> A | AA42: =VLOOKUP(AA41,$N$3:$O$6,2,TRUE) -> A | AB42: =VLOOKUP(AB41,$N$3:$O$6,2,TRUE) -> A | AC42: =VLOOKUP(AC41,$N$3:$O$6,2,TRUE) -> A
A43: IKM Unit Layanan | B43: =TEXT(L41,"0,00")&" ("&VLOOKUP(L41,$P$3:$Q$6,2,TRUE)&" dan Kinerja Pelayanan "&VLOOKUP(L43,$Q$3:$R$6,2,FALSE)&")" -> 90,88 (A dan Kinerja Pelayanan Sangat Baik) | L43: =VLOOKUP(L41,$P$3:$Q$6,2,TRUE) -> A | T43: IKM Unit Layanan | U43: =TEXT(AE41,"0,00")&" ("&VLOOKUP(AE41,$P$3:$Q$6,2,TRUE)&" dan Kinerja Pelayanan "&VLOOKUP(AE43,$Q$3:$R$6,2,FALSE)&")" -> 91,70 (A dan Kinerja Pelayanan Sangat Baik) | AE43: =VLOOKUP(AE41,$P$3:$Q$6,2,TRUE) -> A
A45: Pengolahan data SKM berdasarkan kuesioner rapat
A46: SKM RAPAT SEKRETARIAT
A47: 1) IKM Umum dan Kepegawaian
B48: Nilai Unsur Pelayanan
B49: U1 | C49: U2 | D49: U3 | E49: U4 | F49: U5 | G49: U6 | H49: U7 | I49: U8 | J49: U9
A50: IKM per unsur | B50: ='Umpeg-R'!F19 -> 3.5 | C50: ='Umpeg-R'!G19 -> 3.4821429 | D50: ='Umpeg-R'!H19 -> 3.5714286 | E50: ='Umpeg-R'!I19 -> 3.6071429 | F50: ='Umpeg-R'!J19 -> 3.4642857 | G50: ='Umpeg-R'!K19 -> 3.5357143 | H50: ='Umpeg-R'!L19 -> 3.6071429 | I50: ='Umpeg-R'!M19 -> 3.6071429 | J50: ='Umpeg-R'!N19 -> 3.5 | L50: =ROUND((AVERAGE(B50:J50)/4)*100,2) -> 88.54 | M50: 47
A51: Kategori | B51: =VLOOKUP(B50,$N$3:$O$6,2,TRUE) -> B | C51: =VLOOKUP(C50,$N$3:$O$6,2,TRUE) -> B | D51: =VLOOKUP(D50,$N$3:$O$6,2,TRUE) -> A | E51: =VLOOKUP(E50,$N$3:$O$6,2,TRUE) -> A | F51: =VLOOKUP(F50,$N$3:$O$6,2,TRUE) -> B | G51: =VLOOKUP(G50,$N$3:$O$6,2,TRUE) -> B | H51: =VLOOKUP(H50,$N$3:$O$6,2,TRUE) -> A | I51: =VLOOKUP(I50,$N$3:$O$6,2,TRUE) -> A | J51: =VLOOKUP(J50,$N$3:$O$6,2,TRUE) -> B
A52: IKM Unit Layanan | B52: =TEXT(L50,"0,00")&" ("&VLOOKUP(L50,$P$3:$Q$6,2,TRUE)&" dan Kinerja Pelayanan "&VLOOKUP(L52,$Q$3:$R$6,2,FALSE)&")" -> 88,54 (A dan Kinerja Pelayanan Sangat Baik) | L52: =VLOOKUP(L50,$P$3:$Q$6,2,TRUE) -> A
A54: 2) IKM Subbagian Keuangan
B55: Nilai Unsur Pelayanan
B56: U1 | C56: U2 | D56: U3 | E56: U4 | F56: U5 | G56: U6 | H56: U7 | I56: U8 | J56: U9
A57: IKM per unsur | B57: ='Keuangan-R'!F19 -> 3.2631579 | C57: ='Keuangan-R'!G19 -> 3.3947368 | D57: ='Keuangan-R'!H19 -> 3.2894737 | E57: ='Keuangan-R'!I19 -> 3.2894737 | F57: ='Keuangan-R'!J19 -> 3.1842105 | G57: ='Keuangan-R'!K19 -> 3.4210526 | H57: ='Keuangan-R'!L19 -> 3.3947368 | I57: ='Keuangan-R'!M19 -> 3.3421053 | J57: ='Keuangan-R'!N19 -> 3.1842105 | L57: =ROUND((AVERAGE(B57:J57)/4)*100,2) -> 82.68 | M57: 25
A58: Kategori | B58: =VLOOKUP(B57,$N$3:$O$6,2,TRUE) -> B | C58: =VLOOKUP(C57,$N$3:$O$6,2,TRUE) -> B | D58: =VLOOKUP(D57,$N$3:$O$6,2,TRUE) -> B | E58: =VLOOKUP(E57,$N$3:$O$6,2,TRUE) -> B | F58: =VLOOKUP(F57,$N$3:$O$6,2,TRUE) -> B | G58: =VLOOKUP(G57,$N$3:$O$6,2,TRUE) -> B | H58: =VLOOKUP(H57,$N$3:$O$6,2,TRUE) -> B | I58: =VLOOKUP(I57,$N$3:$O$6,2,TRUE) -> B | J58: =VLOOKUP(J57,$N$3:$O$6,2,TRUE) -> B
A59: IKM Unit Layanan | B59: =TEXT(L57,"0,00")&" ("&VLOOKUP(L57,$P$3:$Q$6,2,TRUE)&" dan Kinerja Pelayanan "&VLOOKUP(L59,$Q$3:$R$6,2,FALSE)&")" -> 82,68 (B dan Kinerja Pelayanan Baik) | L59: =VLOOKUP(L57,$P$3:$Q$6,2,TRUE) -> B
A61: 3) IKM Tim Kerja Perencanaan dan Evaluasi
B62: Nilai Unsur Pelayanan | U62: Nilai Unsur Pelayanan
B63: U1 | C63: U2 | D63: U3 | E63: U4 | F63: U5 | G63: U6 | H63: U7 | I63: U8 | J63: U9 | U63: U1 | V63: U2 | W63: U3 | X63: U4 | Y63: U5 | Z63: U6 | AA63: U7 | AB63: U8 | AC63: U9
A64: IKM per unsur | B64: ='PE-R'!F19 -> 3.7 | C64: ='PE-R'!G19 -> 3.6666667 | D64: ='PE-R'!H19 -> 3.7333333 | E64: ='PE-R'!I19 -> 3.7666667 | F64: ='PE-R'!J19 -> 3.5666667 | G64: ='PE-R'!K19 -> 3.7666667 | H64: ='PE-R'!L19 -> 3.7333333 | I64: ='PE-R'!M19 -> 3.5 | J64: ='PE-R'!N19 -> 3.6666667 | L64: =ROUND((AVERAGE(B64:J64)/4)*100,2) -> 91.94 | M64: 25 | T64: IKM per unsur | U64: =SUM(B50,B57,B64)/COUNT(B50,B57,B64) -> 3.4877193 | V64: =SUM(C50,C57,C64)/COUNT(C50,C57,C64) -> 3.5145155 | W64: =SUM(D50,D57,D64)/COUNT(D50,D57,D64) -> 3.5314119 | X64: =SUM(E50,E57,E64)/COUNT(E50,E57,E64) -> 3.5544277 | Y64: =SUM(F50,F57,F64)/COUNT(F50,F57,F64) -> 3.4050543 | Z64: =SUM(G50,G57,G64)/COUNT(G50,G57,G64) -> 3.5744779 | AA64: =SUM(H50,H57,H64)/COUNT(H50,H57,H64) -> 3.5784043 | AB64: =SUM(I50,I57,I64)/COUNT(I50,I57,I64) -> 3.4830827 | AC64: =SUM(J50,J57,J64)/COUNT(J50,J57,J64) -> 3.4502924 | AE64: =ROUND((AVERAGE(U64:AC64)/4)*100,2) -> 87.72 | AF64: 3
A65: Kategori | B65: =VLOOKUP(B64,$N$3:$O$6,2,TRUE) -> A | C65: =VLOOKUP(C64,$N$3:$O$6,2,TRUE) -> A | D65: =VLOOKUP(D64,$N$3:$O$6,2,TRUE) -> A | E65: =VLOOKUP(E64,$N$3:$O$6,2,TRUE) -> A | F65: =VLOOKUP(F64,$N$3:$O$6,2,TRUE) -> A | G65: =VLOOKUP(G64,$N$3:$O$6,2,TRUE) -> A | H65: =VLOOKUP(H64,$N$3:$O$6,2,TRUE) -> A | I65: =VLOOKUP(I64,$N$3:$O$6,2,TRUE) -> B | J65: =VLOOKUP(J64,$N$3:$O$6,2,TRUE) -> A | T65: Kategori | U65: =VLOOKUP(U64,$N$3:$O$6,2,TRUE) -> B | V65: =VLOOKUP(V64,$N$3:$O$6,2,TRUE) -> B | W65: =VLOOKUP(W64,$N$3:$O$6,2,TRUE) -> B | X65: =VLOOKUP(X64,$N$3:$O$6,2,TRUE) -> A | Y65: =VLOOKUP(Y64,$N$3:$O$6,2,TRUE) -> B | Z65: =VLOOKUP(Z64,$N$3:$O$6,2,TRUE) -> A | AA65: =VLOOKUP(AA64,$N$3:$O$6,2,TRUE) -> A | AB65: =VLOOKUP(AB64,$N$3:$O$6,2,TRUE) -> B | AC65: =VLOOKUP(AC64,$N$3:$O$6,2,TRUE) -> B
A66: IKM Unit Layanan | B66: =TEXT(L64,"0,00")&" ("&VLOOKUP(L64,$P$3:$Q$6,2,TRUE)&" dan Kinerja Pelayanan "&VLOOKUP(L66,$Q$3:$R$6,2,FALSE)&")" -> 91,94 (A dan Kinerja Pelayanan Sangat Baik) | L66: =VLOOKUP(L64,$P$3:$Q$6,2,TRUE) -> A | T66: IKM Unit Layanan | U66: =TEXT(AE64,"0,00")&" ("&VLOOKUP(AE64,$P$3:$Q$6,2,TRUE)&" dan Kinerja Pelayanan "&VLOOKUP(AE66,$Q$3:$R$6,2,FALSE)&")" -> 87,72 (B dan Kinerja Pelayanan Baik) | AE66: =VLOOKUP(AE64,$P$3:$Q$6,2,TRUE) -> B
A68: SKM RAPAT PELAYANAN KESEHATAN
A69: 1) IKM Tim Kerja Registrasi Lisensi dan Mutu Pelayanan
B70: Nilai Unsur Pelayanan
B71: U1 | C71: U2 | D71: U3 | E71: U4 | F71: U5 | G71: U6 | H71: U7 | I71: U8 | J71: U9
A72: IKM per unsur | B72: ='Regli-R'!F19 -> 3.637931 | C72: ='Regli-R'!G19 -> 3.6896552 | D72: ='Regli-R'!H19 -> 3.6724138 | E72: ='Regli-R'!I19 -> 3.6724138 | F72: ='Regli-R'!J19 -> 3.6034483 | G72: ='Regli-R'!K19 -> 3.7241379 | H72: ='Regli-R'!L19 -> 3.7241379 | I72: ='Regli-R'!M19 -> 3.637931 | J72: ='Regli-R'!N19 -> 3.5517241 | L72: =ROUND((AVERAGE(B72:J72)/4)*100,2) -> 91.43 | M72: 33
A73: Kategori | B73: =VLOOKUP(B72,$N$3:$O$6,2,TRUE) -> A | C73: =VLOOKUP(C72,$N$3:$O$6,2,TRUE) -> A | D73: =VLOOKUP(D72,$N$3:$O$6,2,TRUE) -> A | E73: =VLOOKUP(E72,$N$3:$O$6,2,TRUE) -> A | F73: =VLOOKUP(F72,$N$3:$O$6,2,TRUE) -> A | G73: =VLOOKUP(G72,$N$3:$O$6,2,TRUE) -> A | H73: =VLOOKUP(H72,$N$3:$O$6,2,TRUE) -> A | I73: =VLOOKUP(I72,$N$3:$O$6,2,TRUE) -> A | J73: =VLOOKUP(J72,$N$3:$O$6,2,TRUE) -> A
A74: IKM Unit Layanan | B74: =TEXT(L72,"0,00")&" ("&VLOOKUP(L72,$P$3:$Q$6,2,TRUE)&" dan Kinerja Pelayanan "&VLOOKUP(L74,$Q$3:$R$6,2,FALSE)&")" -> 91,43 (A dan Kinerja Pelayanan Sangat Baik) | L74: =VLOOKUP(L72,$P$3:$Q$6,2,TRUE) -> A
A76: 2) IKM Tim Kerja Kesehatan Khusus dan Penjaminan
B77: Nilai Unsur Pelayanan
B78: U1 | C78: U2 | D78: U3 | E78: U4 | F78: U5 | G78: U6 | H78: U7 | I78: U8 | J78: U9
A79: IKM per unsur | B79: ='Kesus-R'!F19 -> 3.5151515 | C79: ='Kesus-R'!G19 -> 3.4545455 | D79: ='Kesus-R'!H19 -> 3.5151515 | E79: ='Kesus-R'!I19 -> 3.6060606 | F79: ='Kesus-R'!J19 -> 3.4545455 | G79: ='Kesus-R'!K19 -> 3.5757576 | H79: ='Kesus-R'!L19 -> 3.5151515 | I79: ='Kesus-R'!M19 -> 3.4545455 | J79: ='Kesus-R'!N19 -> 3.3939394 | L79: =ROUND((AVERAGE(B79:J79)/4)*100,2) -> 87.46 | M79: 33
A80: Kategori | B80: =VLOOKUP(B79,$N$3:$O$6,2,TRUE) -> B | C80: =VLOOKUP(C79,$N$3:$O$6,2,TRUE) -> B | D80: =VLOOKUP(D79,$N$3:$O$6,2,TRUE) -> B | E80: =VLOOKUP(E79,$N$3:$O$6,2,TRUE) -> A | F80: =VLOOKUP(F79,$N$3:$O$6,2,TRUE) -> B | G80: =VLOOKUP(G79,$N$3:$O$6,2,TRUE) -> A | H80: =VLOOKUP(H79,$N$3:$O$6,2,TRUE) -> B | I80: =VLOOKUP(I79,$N$3:$O$6,2,TRUE) -> B | J80: =VLOOKUP(J79,$N$3:$O$6,2,TRUE) -> B
A81: IKM Unit Layanan | B81: =TEXT(L79,"0,00")&" ("&VLOOKUP(L79,$P$3:$Q$6,2,TRUE)&" dan Kinerja Pelayanan "&VLOOKUP(L81,$Q$3:$R$6,2,FALSE)&")" -> 87,46 (B dan Kinerja Pelayanan Baik) | L81: =VLOOKUP(L79,$P$3:$Q$6,2,TRUE) -> B
A83: 3) IKM Tim Kerja Kesehatan Dasar dan Rujukan
B84: Nilai Unsur Pelayanan | U84: Nilai Unsur Pelayanan
B85: U1 | C85: U2 | D85: U3 | E85: U4 | F85: U5 | G85: U6 | H85: U7 | I85: U8 | J85: U9 | U85: U1 | V85: U2 | W85: U3 | X85: U4 | Y85: U5 | Z85: U6 | AA85: U7 | AB85: U8 | AC85: U9
A86: IKM per unsur | B86: ='Kesdas-R'!F19 -> 3.3533835 | C86: ='Kesdas-R'!G19 -> 3.3609023 | D86: ='Kesdas-R'!H19 -> 3.4210526 | E86: ='Kesdas-R'!I19 -> 3.4135338 | F86: ='Kesdas-R'!J19 -> 3.3233083 | G86: ='Kesdas-R'!K19 -> 3.4210526 | H86: ='Kesdas-R'!L19 -> 3.4360902 | I86: ='Kesdas-R'!M19 -> 3.4135338 | J86: ='Kesdas-R'!N19 -> 3.3533835 | L86: =ROUND((AVERAGE(B86:J86)/4)*100,2) -> 84.71 | M86: 33 | T86: IKM per unsur | U86: =SUM(B72,B79,B86)/COUNT(B72,B79,B86) -> 3.5021553 | V86: =SUM(C72,C79,C86)/COUNT(C72,C79,C86) -> 3.501701 | W86: =SUM(D72,D79,D86)/COUNT(D72,D79,D86) -> 3.536206 | X86: =SUM(E72,E79,E86)/COUNT(E72,E79,E86) -> 3.5640027 | Y86: =SUM(F72,F79,F86)/COUNT(F72,F79,F86) -> 3.460434 | Z86: =SUM(G72,G79,G86)/COUNT(G72,G79,G86) -> 3.5736494 | AA86: =SUM(H72,H79,H86)/COUNT(H72,H79,H86) -> 3.5584599 | AB86: =SUM(I72,I79,I86)/COUNT(I72,I79,I86) -> 3.5020034 | AC86: =SUM(J72,J79,J86)/COUNT(J72,J79,J86) -> 3.4330157 | AE86: =ROUND((AVERAGE(U86:AC86)/4)*100,2) -> 87.87
A87: Kategori | B87: =VLOOKUP(B86,$N$3:$O$6,2,TRUE) -> B | C87: =VLOOKUP(C86,$N$3:$O$6,2,TRUE) -> B | D87: =VLOOKUP(D86,$N$3:$O$6,2,TRUE) -> B | E87: =VLOOKUP(E86,$N$3:$O$6,2,TRUE) -> B | F87: =VLOOKUP(F86,$N$3:$O$6,2,TRUE) -> B | G87: =VLOOKUP(G86,$N$3:$O$6,2,TRUE) -> B | H87: =VLOOKUP(H86,$N$3:$O$6,2,TRUE) -> B | I87: =VLOOKUP(I86,$N$3:$O$6,2,TRUE) -> B | J87: =VLOOKUP(J86,$N$3:$O$6,2,TRUE) -> B | T87: Kategori | U87: =VLOOKUP(U86,$N$3:$O$6,2,TRUE) -> B | V87: =VLOOKUP(V86,$N$3:$O$6,2,TRUE) -> B | W87: =VLOOKUP(W86,$N$3:$O$6,2,TRUE) -> B | X87: =VLOOKUP(X86,$N$3:$O$6,2,TRUE) -> A | Y87: =VLOOKUP(Y86,$N$3:$O$6,2,TRUE) -> B | Z87: =VLOOKUP(Z86,$N$3:$O$6,2,TRUE) -> A | AA87: =VLOOKUP(AA86,$N$3:$O$6,2,TRUE) -> A | AB87: =VLOOKUP(AB86,$N$3:$O$6,2,TRUE) -> B | AC87: =VLOOKUP(AC86,$N$3:$O$6,2,TRUE) -> B
A88: IKM Unit Layanan | B88: =TEXT(L86,"0,00")&" ("&VLOOKUP(L86,$P$3:$Q$6,2,TRUE)&" dan Kinerja Pelayanan "&VLOOKUP(L88,$Q$3:$R$6,2,FALSE)&")" -> 84,71 (B dan Kinerja Pelayanan Baik) | L88: =VLOOKUP(L86,$P$3:$Q$6,2,TRUE) -> B | T88: IKM Unit Layanan | U88: =TEXT(AE86,"0,00")&" ("&VLOOKUP(AE86,$P$3:$Q$6,2,TRUE)&" dan Kinerja Pelayanan "&VLOOKUP(AE88,$Q$3:$R$6,2,FALSE)&")" -> 87,87 (B dan Kinerja Pelayanan Baik) | AE88: =VLOOKUP(AE86,$P$3:$Q$6,2,TRUE) -> B
A90: SKM RAPAT BIDANG KESEHATAN MASYARAKAT
A91: 1) IKM Tim Kerja Promosi Kesehatan dan Tata Kelola Masyarakat
B92: Nilai Unsur Pelayanan
B93: U1 | C93: U2 | D93: U3 | E93: U4 | F93: U5 | G93: U6 | H93: U7 | I93: U8 | J93: U9
A94: IKM per unsur | B94: ='Promkes-R'!F19 -> 3.2711864 | C94: ='Promkes-R'!G19 -> 3.2881356 | D94: ='Promkes-R'!H19 -> 3.3559322 | E94: ='Promkes-R'!I19 -> 3.2881356 | F94: ='Promkes-R'!J19 -> 3.2033898 | G94: ='Promkes-R'!K19 -> 3.3559322 | H94: ='Promkes-R'!L19 -> 3.3559322 | I94: ='Promkes-R'!M19 -> 3.3728814 | J94: ='Promkes-R'!N19 -> 3.3220339 | L94: =ROUND((AVERAGE(B94:J94)/4)*100,2) -> 82.82 | M94: 40
A95: Kategori | B95: =VLOOKUP(B94,$N$3:$O$6,2,TRUE) -> B | C95: =VLOOKUP(C94,$N$3:$O$6,2,TRUE) -> B | D95: =VLOOKUP(D94,$N$3:$O$6,2,TRUE) -> B | E95: =VLOOKUP(E94,$N$3:$O$6,2,TRUE) -> B | F95: =VLOOKUP(F94,$N$3:$O$6,2,TRUE) -> B | G95: =VLOOKUP(G94,$N$3:$O$6,2,TRUE) -> B | H95: =VLOOKUP(H94,$N$3:$O$6,2,TRUE) -> B | I95: =VLOOKUP(I94,$N$3:$O$6,2,TRUE) -> B | J95: =VLOOKUP(J94,$N$3:$O$6,2,TRUE) -> B
A96: IKM Unit Layanan | B96: =TEXT(L94,"0,00")&" ("&VLOOKUP(L94,$P$3:$Q$6,2,TRUE)&" dan Kinerja Pelayanan "&VLOOKUP(L96,$Q$3:$R$6,2,FALSE)&")" -> 82,82 (B dan Kinerja Pelayanan Baik) | L96: =VLOOKUP(L94,$P$3:$Q$6,2,TRUE) -> B
A98: 2) IKM Tim Kerja Gizi dan Kesehatan Ibu Anak
A99: ` | B99: Nilai Unsur Pelayanan
B100: U1 | C100: U2 | D100: U3 | E100: U4 | F100: U5 | G100: U6 | H100: U7 | I100: U8 | J100: U9
A101: IKM per unsur | B101: ='GiziKIA-R'!F19 -> 3.5185185 | C101: ='GiziKIA-R'!G19 -> 3.537037 | D101: ='GiziKIA-R'!H19 -> 3.6111111 | E101: ='GiziKIA-R'!I19 -> 3.6481481 | F101: ='GiziKIA-R'!J19 -> 3.2222222 | G101: ='GiziKIA-R'!K19 -> 3.6296296 | H101: ='GiziKIA-R'!L19 -> 3.6296296 | I101: ='GiziKIA-R'!M19 -> 3.6111111 | J101: ='GiziKIA-R'!N19 -> 3.6481481 | L101: =ROUND((AVERAGE(B101:J101)/4)*100,2) -> 89.04 | M101: 40
A102: Kategori | B102: =VLOOKUP(B101,$N$3:$O$6,2,TRUE) -> B | C102: =VLOOKUP(C101,$N$3:$O$6,2,TRUE) -> B | D102: =VLOOKUP(D101,$N$3:$O$6,2,TRUE) -> A | E102: =VLOOKUP(E101,$N$3:$O$6,2,TRUE) -> A | F102: =VLOOKUP(F101,$N$3:$O$6,2,TRUE) -> B | G102: =VLOOKUP(G101,$N$3:$O$6,2,TRUE) -> A | H102: =VLOOKUP(H101,$N$3:$O$6,2,TRUE) -> A | I102: =VLOOKUP(I101,$N$3:$O$6,2,TRUE) -> A | J102: =VLOOKUP(J101,$N$3:$O$6,2,TRUE) -> A
A103: IKM Unit Layanan | B103: =TEXT(L101,"0,00")&" ("&VLOOKUP(L101,$P$3:$Q$6,2,TRUE)&" dan Kinerja Pelayanan "&VLOOKUP(L103,$Q$3:$R$6,2,FALSE)&")" -> 89,04 (A dan Kinerja Pelayanan Sangat Baik) | L103: =VLOOKUP(L101,$P$3:$Q$6,2,TRUE) -> A
A105: 3) IKM Tim Kerja Kesehatan Jiwa, Produktif dan Usia Lanjut
A106: ` | B106: Nilai Unsur Pelayanan | U106: Nilai Unsur Pelayanan
B107: U1 | C107: U2 | D107: U3 | E107: U4 | F107: U5 | G107: U6 | H107: U7 | I107: U8 | J107: U9 | U107: U1 | V107: U2 | W107: U3 | X107: U4 | Y107: U5 | Z107: U6 | AA107: U7 | AB107: U8 | AC107: U9
A108: IKM per unsur | B108: ='Keswapol-R'!F19 -> 3.35 | C108: ='Keswapol-R'!G19 -> 3.325 | D108: ='Keswapol-R'!H19 -> 3.375 | E108: ='Keswapol-R'!I19 -> 3.375 | F108: ='Keswapol-R'!J19 -> 3.3 | G108: ='Keswapol-R'!K19 -> 3.375 | H108: ='Keswapol-R'!L19 -> 3.325 | I108: ='Keswapol-R'!M19 -> 3.325 | J108: ='Keswapol-R'!N19 -> 3.325 | L108: =ROUND((AVERAGE(B108:J108)/4)*100,2) -> 83.54 | M108: 40 | T108: IKM per unsur | U108: =SUM(B94,B101,B108)/COUNT(B94,B101,B108) -> 3.3799017 | V108: =SUM(C94,C101,C108)/COUNT(C94,C101,C108) -> 3.3833909 | W108: =SUM(D94,D101,D108)/COUNT(D94,D101,D108) -> 3.4473478 | X108: =SUM(E94,E101,E108)/COUNT(E94,E101,E108) -> 3.4370946 | Y108: =SUM(F94,F101,F108)/COUNT(F94,F101,F108) -> 3.2418707 | Z108: =SUM(G94,G101,G108)/COUNT(G94,G101,G108) -> 3.4535206 | AA108: =SUM(H94,H101,H108)/COUNT(H94,H101,H108) -> 3.4368539 | AB108: =SUM(I94,I101,I108)/COUNT(I94,I101,I108) -> 3.4363308 | AC108: =SUM(J94,J101,J108)/COUNT(J94,J101,J108) -> 3.4317273 | AE108: =ROUND((AVERAGE(U108:AC108)/4)*100,2) -> 85.13
A109: Kategori | B109: =VLOOKUP(B108,$N$3:$O$6,2,TRUE) -> B | C109: =VLOOKUP(C108,$N$3:$O$6,2,TRUE) -> B | D109: =VLOOKUP(D108,$N$3:$O$6,2,TRUE) -> B | E109: =VLOOKUP(E108,$N$3:$O$6,2,TRUE) -> B | F109: =VLOOKUP(F108,$N$3:$O$6,2,TRUE) -> B | G109: =VLOOKUP(G108,$N$3:$O$6,2,TRUE) -> B | H109: =VLOOKUP(H108,$N$3:$O$6,2,TRUE) -> B | I109: =VLOOKUP(I108,$N$3:$O$6,2,TRUE) -> B | J109: =VLOOKUP(J108,$N$3:$O$6,2,TRUE) -> B | T109: Kategori | U109: =VLOOKUP(U108,$N$3:$O$6,2,TRUE) -> B | V109: =VLOOKUP(V108,$N$3:$O$6,2,TRUE) -> B | W109: =VLOOKUP(W108,$N$3:$O$6,2,TRUE) -> B | X109: =VLOOKUP(X108,$N$3:$O$6,2,TRUE) -> B | Y109: =VLOOKUP(Y108,$N$3:$O$6,2,TRUE) -> B | Z109: =VLOOKUP(Z108,$N$3:$O$6,2,TRUE) -> B | AA109: =VLOOKUP(AA108,$N$3:$O$6,2,TRUE) -> B | AB109: =VLOOKUP(AB108,$N$3:$O$6,2,TRUE) -> B | AC109: =VLOOKUP(AC108,$N$3:$O$6,2,TRUE) -> B
A110: IKM Unit Layanan | B110: =TEXT(L108,"0,00")&" ("&VLOOKUP(L108,$P$3:$Q$6,2,TRUE)&" dan Kinerja Pelayanan "&VLOOKUP(L110,$Q$3:$R$6,2,FALSE)&")" -> 83,54 (B dan Kinerja Pelayanan Baik) | L110: =VLOOKUP(L108,$P$3:$Q$6,2,TRUE) -> B | T110: IKM Unit Layanan | U110: =TEXT(AE108,"0,00")&" ("&VLOOKUP(AE108,$P$3:$Q$6,2,TRUE)&" dan Kinerja Pelayanan "&VLOOKUP(AE110,$Q$3:$R$6,2,FALSE)&")" -> 85,13 (B dan Kinerja Pelayanan Baik) | AE110: =VLOOKUP(AE108,$P$3:$Q$6,2,TRUE) -> B
A112: SKM RAPAT BIDANG PENCEGAHAN PENYAKIT DAN PENYEHATAN LINGKUNGAN
A113: 1) IKM Tim Kerja Surveilans dan Imunisasi
...

Sheet REKAP PER INDIKATOR
A1: REKAP INDIKATOR STANDAR | M1: Standar | N1: Capaian
A2: NO | B2: KARAKTERISTIK | C2: INDIKATOR | D2: JUMLAH | E2: PERSENTASE | I2: 25 | J2: D | K2: Tidak Baik | M2: SMT II 2022 | N2: 84.02 | O2: =VLOOKUP(N2,$I$2:$J$5,2,TRUE) -> B
A3: 1 | B3: Jenis kelamin | C3: Laki-Laki | D3: =SUM('Regli-S'!D6,'Kesus-S'!D6,'Kesdas-S'!D6,'PSDK-S'!D6,'Sarpras-S'!D6,'Farmakmin-S'!D6) -> 130 | E3: =D3/SUM(D3:D4) -> 0.25440313 | G3: =SUM(D3:D4) -> 511 | I3: 65 | J3: C | K3: Kurang Baik | M3: SMT I 2023 | N3: 85.18 | O3: =VLOOKUP(N3,$I$2:$J$5,2,TRUE) -> B
C4: Perempuan | D4: =SUM('Regli-S'!D7,'Kesus-S'!D7,'Kesdas-S'!D7,'PSDK-S'!D7,'Sarpras-S'!D7,'Farmakmin-S'!D7) -> 381 | E4: =D4/SUM(D3:D4) -> 0.74559687 | I4: 76.61 | J4: B | K4: Baik | M4: SMT II 2023 | N4: 87.92 | O4: =VLOOKUP(N4,$I$2:$J$5,2,TRUE) -> B
A5: 2 | B5: Pendidikan | C5: SD Kebawah | D5: =SUM('Regli-S'!D8,'Kesus-S'!D8,'Kesdas-S'!D8,'PSDK-S'!D8,'Sarpras-S'!D8,'Farmakmin-S'!D8) -> 7 | E5: =D5/SUM($D$5:$D$10) -> 0.01369863 | I5: 88.31 | J5: A | K5: Sangat Baik | M5: SMT I 2024 | N5: 87.83 | O5: =VLOOKUP(N5,$I$2:$J$5,2,TRUE) -> B
C6: SLTP | D6: =SUM('Regli-S'!D9,'Kesus-S'!D9,'Kesdas-S'!D9,'PSDK-S'!D9,'Sarpras-S'!D9,'Farmakmin-S'!D9) -> 12 | E6: =D6/SUM($D$5:$D$10) -> 0.023483366 | M6: SMT II 2024 | N6: 87.39 | O6: =VLOOKUP(N6,$I$2:$J$5,2,TRUE) -> B
C7: SLTA | D7: =SUM('Regli-S'!D10,'Kesus-S'!D10,'Kesdas-S'!D10,'PSDK-S'!D10,'Sarpras-S'!D10,'Farmakmin-S'!D10) -> 231 | E7: =D7/SUM($D$5:$D$10) -> 0.45205479 | M7: SMT I 2025 | N7: 89.66 | O7: =VLOOKUP(N7,$I$2:$J$5,2,TRUE) -> A
C8: D1 - D3 - D4 | D8: =SUM('Regli-S'!D11,'Kesus-S'!D11,'Kesdas-S'!D11,'PSDK-S'!D11,'Sarpras-S'!D11,'Farmakmin-S'!D11) -> 103 | E8: =D8/SUM($D$5:$D$10) -> 0.20156556 | M8: SMT II 2025 | N8: 89.03 | O8: =VLOOKUP(N8,$I$2:$J$5,2,TRUE) -> A
C9: S-1 | D9: =SUM('Regli-S'!D12,'Kesus-S'!D12,'Kesdas-S'!D12,'PSDK-S'!D12,'Sarpras-S'!D12,'Farmakmin-S'!D12) -> 142 | E9: =D9/SUM($D$5:$D$10) -> 0.2778865 | M9: SMT I 2026 | N9: 91.41 | O9: =VLOOKUP(N9,$I$2:$J$5,2,TRUE) -> A
C10: S-2 ke atas | D10: =SUM('Regli-S'!D13,'Kesus-S'!D13,'Kesdas-S'!D13,'PSDK-S'!D13,'Sarpras-S'!D13,'Farmakmin-S'!D13) -> 16 | E10: =D10/SUM($D$5:$D$10) -> 0.031311155
A11: 3 | B11: Instansi | C11: PNS/TNI/POLRI | D11: =SUM('Regli-S'!D14,'Kesus-S'!D14,'Kesdas-S'!D14,'PSDK-S'!D14,'Sarpras-S'!D14,'Farmakmin-S'!D14) -> 29 | E11: =D11/SUM($D$11:$D$15) -> 0.057312253
C12: Instansi Luar | D12: =SUM('Regli-S'!D15,'Kesus-S'!D15,'Kesdas-S'!D15,'PSDK-S'!D15,'Sarpras-S'!D15,'Farmakmin-S'!D15) -> 13 | E12: =D12/SUM($D$11:$D$15) -> 0.0256917
C13: Wirausahawan/Usahawan | D13: =SUM('Regli-S'!D16,'Kesus-S'!D16,'Kesdas-S'!D16,'PSDK-S'!D16,'Sarpras-S'!D16,'Farmakmin-S'!D16) -> 63 | E13: =D13/SUM($D$11:$D$15) -> 0.12450593
C14: Pelajar/Mahasiswa | D14: =SUM('Regli-S'!D17,'Kesus-S'!D17,'Kesdas-S'!D17,'PSDK-S'!D17,'Sarpras-S'!D17,'Farmakmin-S'!D17) -> 236 | E14: =D14/SUM($D$11:$D$15) -> 0.46640316
C15: Lainnya | D15: =SUM('Regli-S'!D18,'Kesus-S'!D18,'Kesdas-S'!D18,'PSDK-S'!D18,'Sarpras-S'!D18,'Farmakmin-S'!D18) -> 165 | E15: =D15/SUM($D$11:$D$15) -> 0.32608696
A17: REKAP INDIKATOR RAPAT
A18: NO | B18: KARAKTERISTIK | C18: INDIKATOR | D18: JUMLAH | E18: PERSENTASE | M18: Rapat | N18: Capaian
A19: 1 | B19: Jenis kelamin | C19: Laki-Laki | D19: =SUM('Umpeg-R'!$D6,'Keuangan-R'!$D6,'PE-R'!$D6,'Regli-R'!$D6,'Kesus-R'!$D6,'Kesdas-R'!$D6,'Promkes-R'!$D6,'GiziKIA-R'!$D6,'Keswapol-R'!$D6,'Survim-R'!$D6,'P2P-R'!$D6,'Kesling-R'!$D6,'PSDK-R'!$D6,'Sarpras-R'!$D6,'Farmakmin-R'!$D6) -> 223 | E19: =D19/SUM(D19:D20) -> 0.23350785 | G19: =SUM(D19:D20) -> 955 | M19: SMT II 2022 | N19: 82.55 | O19: =VLOOKUP(N19,$I$2:$J$5,2,TRUE) -> B
C20: Perempuan | D20: =SUM('Umpeg-R'!$D7,'Keuangan-R'!$D7,'PE-R'!$D7,'Regli-R'!$D7,'Kesus-R'!$D7,'Kesdas-R'!$D7,'Promkes-R'!$D7,'GiziKIA-R'!$D7,'Keswapol-R'!$D7,'Survim-R'!$D7,'P2P-R'!$D7,'Kesling-R'!$D7,'PSDK-R'!$D7,'Sarpras-R'!$D7,'Farmakmin-R'!$D7) -> 732 | E20: =D20/SUM(D19:D20) -> 0.76649215 | G20: =SUM(D21:D26) -> 955 | M20: SMT I 2023 | N20: 82.94 | O20: =VLOOKUP(N20,$I$2:$J$5,2,TRUE) -> B
A21: 2 | B21: Pendidikan | C21: SD Kebawah | D21: =SUM('Umpeg-R'!D8,'Keuangan-R'!D8,'PE-R'!D8,'Regli-R'!D8,'Kesus-R'!D8,'Kesdas-R'!D8,'Promkes-R'!D8,'GiziKIA-R'!D8,'Keswapol-R'!D8,'Survim-R'!D8,'P2P-R'!D8,'Kesling-R'!D8,'PSDK-R'!D8,'Sarpras-R'!D8,'Farmakmin-R'!D8) -> 0 | E21: =D21/SUM(D21:D26) -> 0 | M21: SMT II 2023 | N21: 82.33 | O21: =VLOOKUP(N21,$I$2:$J$5,2,TRUE) -> B
C22: SLTP | D22: =SUM('Umpeg-R'!D9,'Keuangan-R'!D9,'PE-R'!D9,'Regli-R'!D9,'Kesus-R'!D9,'Kesdas-R'!D9,'Promkes-R'!D9,'GiziKIA-R'!D9,'Keswapol-R'!D9,'Survim-R'!D9,'P2P-R'!D9,'Kesling-R'!D9,'PSDK-R'!D9,'Sarpras-R'!D9,'Farmakmin-R'!D9) -> 6 | E22: =D22/SUM(D21:D26) -> 0.0062827225 | M22: SMT I 2024 | N22: 83.14 | O22: =VLOOKUP(N22,$I$2:$J$5,2,TRUE) -> B
C23: SLTA | D23: =SUM('Umpeg-R'!D10,'Keuangan-R'!D10,'PE-R'!D10,'Regli-R'!D10,'Kesus-R'!D10,'Kesdas-R'!D10,'Promkes-R'!D10,'GiziKIA-R'!D10,'Keswapol-R'!D10,'Survim-R'!D10,'P2P-R'!D10,'Kesling-R'!D10,'PSDK-R'!D10,'Sarpras-R'!D10,'Farmakmin-R'!D10) -> 76 | E23: =D23/SUM(D21:D26) -> 0.079581152 | M23: SMT II 2024 | N23: 84.92 | O23: =VLOOKUP(N23,$I$2:$J$5,2,TRUE) -> B
C24: D1 - D3 - D4 | D24: =SUM('Umpeg-R'!D11,'Keuangan-R'!D11,'PE-R'!D11,'Regli-R'!D11,'Kesus-R'!D11,'Kesdas-R'!D11,'Promkes-R'!D11,'GiziKIA-R'!D11,'Keswapol-R'!D11,'Survim-R'!D11,'P2P-R'!D11,'Kesling-R'!D11,'PSDK-R'!D11,'Sarpras-R'!D11,'Farmakmin-R'!D11) -> 438 | E24: =D24/SUM(D21:D26) -> 0.45863874 | M24: SMT I 2025 | N24: 84.54 | O24: =VLOOKUP(N24,$I$2:$J$5,2,TRUE) -> B
C25: S-1 | D25: =SUM('Umpeg-R'!D12,'Keuangan-R'!D12,'PE-R'!D12,'Regli-R'!D12,'Kesus-R'!D12,'Kesdas-R'!D12,'Promkes-R'!D12,'GiziKIA-R'!D12,'Keswapol-R'!D12,'Survim-R'!D12,'P2P-R'!D12,'Kesling-R'!D12,'PSDK-R'!D12,'Sarpras-R'!D12,'Farmakmin-R'!D12) -> 360 | E25: =D25/SUM(D21:D26) -> 0.37696335 | M25: SMT II 2025 | N25: 85.33 | O25: =VLOOKUP(N25,$I$2:$J$5,2,TRUE) -> B
C26: S-2 ke atas | D26: =SUM('Umpeg-R'!D13,'Keuangan-R'!D13,'PE-R'!D13,'Regli-R'!D13,'Kesus-R'!D13,'Kesdas-R'!D13,'Promkes-R'!D13,'GiziKIA-R'!D13,'Keswapol-R'!D13,'Survim-R'!D13,'P2P-R'!D13,'Kesling-R'!D13,'PSDK-R'!D13,'Sarpras-R'!D13,'Farmakmin-R'!D13) -> 75 | E26: =D26/SUM(D21:D26) -> 0.078534031 | M26: SMT I 2026 | N26: 86.28 | O26: =VLOOKUP(N26,$I$2:$J$5,2,TRUE) -> B
A27: 3 | B27: Instansi | C27: Instansi Pemkab Sleman | D27: =SUM('Umpeg-R'!D14,'Keuangan-R'!D14,'PE-R'!D14,'Regli-R'!D14,'Kesus-R'!D14,'Kesdas-R'!D14,'Promkes-R'!D14,'GiziKIA-R'!D14,'Keswapol-R'!D14,'Survim-R'!D14,'P2P-R'!D14,'Kesling-R'!D14,'PSDK-R'!D14,'Sarpras-R'!D14,'Farmakmin-R'!D14) -> 647 | E27: =D27/SUM(D27:D31) -> 0.68033649
C28: Pegawai Swasta | D28: =SUM('Umpeg-R'!D15,'Keuangan-R'!D15,'PE-R'!D15,'Regli-R'!D15,'Kesus-R'!D15,'Kesdas-R'!D15,'Promkes-R'!D15,'GiziKIA-R'!D15,'Keswapol-R'!D15,'Survim-R'!D15,'P2P-R'!D15,'Kesling-R'!D15,'PSDK-R'!D15,'Sarpras-R'!D15,'Farmakmin-R'!D15) -> 142 | E28: =D28/SUM(D27:D31) -> 0.14931651
C29: Akademisi | D29: =SUM('Umpeg-R'!D16,'Keuangan-R'!D16,'PE-R'!D16,'Regli-R'!D16,'Kesus-R'!D16,'Kesdas-R'!D16,'Promkes-R'!D16,'GiziKIA-R'!D16,'Keswapol-R'!D16,'Survim-R'!D16,'P2P-R'!D16,'Kesling-R'!D16,'PSDK-R'!D16,'Sarpras-R'!D16,'Farmakmin-R'!D16) -> 17 | E29: =D29/SUM(D27:D31) -> 0.01787592
C30: Masyarakat | D30: =SUM('Umpeg-R'!D17,'Keuangan-R'!D17,'PE-R'!D17,'Regli-R'!D17,'Kesus-R'!D17,'Kesdas-R'!D17,'Promkes-R'!D17,'GiziKIA-R'!D17,'Keswapol-R'!D17,'Survim-R'!D17,'P2P-R'!D17,'Kesling-R'!D17,'PSDK-R'!D17,'Sarpras-R'!D17,'Farmakmin-R'!D17) -> 37 | E30: =D30/SUM(D27:D31) -> 0.038906414
C31: Lainnya | D31: =SUM('Umpeg-R'!D18,'Keuangan-R'!D18,'PE-R'!D18,'Regli-R'!D18,'Kesus-R'!D18,'Kesdas-R'!D18,'Promkes-R'!D18,'GiziKIA-R'!D18,'Keswapol-R'!D18,'Survim-R'!D18,'P2P-R'!D18,'Kesling-R'!D18,'PSDK-R'!D18,'Sarpras-R'!D18,'Farmakmin-R'!D18) -> 108 | E31: =D31/SUM(D27:D31) -> 0.11356467
W33: NILAI IKM STANDAR | Y33: NILAI IKM RAPAT
D35: =D3+D4+D19+D20 -> 1466
W36: 0.9141 | Y36: 0.8628
X38: NILAI IKM DINAS KESEHATAN

Sheet REKAP FINAL
C3: INDEKS KEPUASAN MASYARAKAT (IKM)
C4: DINAS KESEHATAN KABUPATEN SLEMAN
C6: SEMESTER I TAHUN 2026
C8: NILAI IKM | E8: NAMA LAYANAN : DINAS KESEHATAN
E10: KARAKTERISTIK RESPONDEN
E11: JUMLAH | F11: : | I11: =P11 -> 1466 | J11: Orang | P11: =SUM(O12:P13) -> 1466
E12: JENIS KELAMIN | F12: : | G12: L | H12: = | I12: =P12 -> 353 | J12: Orang | P12: =V66+AB172 -> 353
G13: P | H13: = | I13: =P13 -> 1113 | J13: Orang | P13: =V67+AB173 -> 1113
E14: PENDIDIKAN | F14: : | G14: SD | H14: = | I14: =P14 -> 7 | J14: Orang | P14: =V68+AB174 -> 7 | R14: =SUM(P14:P19) -> 1466
G15: SMP | H15: = | I15: =P15 -> 18 | J15: Orang | P15: =V69+AB175 -> 18
G16: SMA | H16: = | I16: =P16 -> 307 | J16: Orang | P16: =V70+AB176 -> 307
G17: DI - DIV | H17: = | I17: =P17 -> 541 | J17: Orang | P17: =V71+AB177 -> 541
G18: S1 | H18: = | I18: =P18 -> 502 | J18: Orang | P18: =V72+AB178 -> 502
G19: S2 | H19: = | I19: =P19 -> 91 | J19: Orang | P19: =V73+AB179 -> 91
E20: PERIODE SURVEY : 01 Januari 2026 s/d 30 Juni 2026
C22: TERIMA KASIH ATAS PENILAIAN YANG TELAH ANDA BERIKAN MASUKAN ANDA SANGAT BERMANFAAT UNTUK KEMANJUAN UNIT KAMI AGAR TERUS MEMPERBAIKI DAN MENINGKATKAN KUALITAS PELAYANAN
O26: REKAP KARAKTERISTIK RESPONDEN KUESIONER STANDAR
O29: REKAP KARAKTERISTIK RESPONDEN BIDANG PELAYANAN KESEHATAN
O30: NO | P30: KARAKTERISTIK | Q30: INDIKATOR | R30: REGLI | T30: KESSUS | V30: KESDAS | X30: YANKES
R31: Jumlah | S31: % | T31: Jumlah | U31: % | V31: Jumlah | W31: % | X31: Jumlah | Y31: %
O32: 1 | P32: Jenis kelamin | Q32: Laki-Laki | R32: =SUM('Regli-S'!D6) -> 30 | S32: =R32/SUM(R32:R33) -> 0.38961039 | T32: =SUM('Kesus-S'!D6) -> 24 | U32: =T32/SUM(T32:T33) -> 0.27586207 | V32: =SUM('Kesdas-S'!D6) -> 6 | W32: =V32/SUM(V32:V33) -> 0.28571429 | X32: =SUM('Regli-S'!D6,'Kesus-S'!D6,'Kesdas-S'!D6) -> 60 | Y32: =X32/SUM(X32:X33) -> 0.32432432
Q33: Perempuan | R33: =SUM('Regli-S'!D7) -> 47 | S33: =R33/SUM(R32:R33) -> 0.61038961 | T33: =SUM('Kesus-S'!D7) -> 63 | U33: =T33/SUM(T32:T33) -> 0.72413793 | V33: =SUM('Kesdas-S'!D7) -> 15 | W33: =V33/SUM(V32:V33) -> 0.71428571 | X33: =SUM('Regli-S'!D7,'Kesus-S'!D7,'Kesdas-S'!D7) -> 125 | Y33: =X33/SUM(X32:X33) -> 0.67567568
O34: 2 | P34: Pendidikan | Q34: SD Kebawah | R34: =SUM('Regli-S'!D8) -> 0 | S34: =R34/SUM($R$34:$R$39) -> 0 | T34: =SUM('Kesus-S'!D8) -> 5 | U34: =T34/SUM($T$34:$T$39) -> 0.057471264 | V34: =SUM('Kesdas-S'!D8) -> 0 | W34: =V34/SUM(V$34:V$39) -> 0 | X34: =SUM('Regli-S'!D8,'Kesus-S'!D8,'Kesdas-S'!D8) -> 5 | Y34: =X34/SUM(X$34:X$39) -> 0.027027027
Q35: SLTP | R35: =SUM('Regli-S'!D9) -> 1 | S35: =R35/SUM($R$34:$R$39) -> 0.012987013 | T35: =SUM('Kesus-S'!D9) -> 10 | U35: =T35/SUM($T$34:$T$39) -> 0.11494253 | V35: =SUM('Kesdas-S'!D9) -> 0 | W35: =V35/SUM(V$34:V$39) -> 0 | X35: =SUM('Regli-S'!D9,'Kesus-S'!D9,'Kesdas-S'!D9) -> 11 | Y35: =X35/SUM(X$34:X$39) -> 0.059459459
Q36: SLTA | R36: =SUM('Regli-S'!D10) -> 14 | S36: =R36/SUM($R$34:$R$39) -> 0.18181818 | T36: =SUM('Kesus-S'!D10) -> 50 | U36: =T36/SUM($T$34:$T$39) -> 0.57471264 | V36: =SUM('Kesdas-S'!D10) -> 2 | W36: =V36/SUM(V$34:V$39) -> 0.095238095 | X36: =SUM('Regli-S'!D10,'Kesus-S'!D10,'Kesdas-S'!D10) -> 66 | Y36: =X36/SUM(X$34:X$39) -> 0.35675676
Q37: D1 - D4 | R37: =SUM('Regli-S'!D11) -> 14 | S37: =R37/SUM($R$34:$R$39) -> 0.18181818 | T37: =SUM('Kesus-S'!D11) -> 9 | U37: =T37/SUM($T$34:$T$39) -> 0.10344828 | V37: =SUM('Kesdas-S'!D11) -> 2 | W37: =V37/SUM(V$34:V$39) -> 0.095238095 | X37: =SUM('Regli-S'!D11,'Kesus-S'!D11,'Kesdas-S'!D11) -> 25 | Y37: =X37/SUM(X$34:X$39) -> 0.13513514
Q38: S-1 | R38: =SUM('Regli-S'!D12) -> 38 | S38: =R38/SUM($R$34:$R$39) -> 0.49350649 | T38: =SUM('Kesus-S'!D12) -> 13 | U38: =T38/SUM($T$34:$T$39) -> 0.14942529 | V38: =SUM('Kesdas-S'!D12) -> 17 | W38: =V38/SUM(V$34:V$39) -> 0.80952381 | X38: =SUM('Regli-S'!D12,'Kesus-S'!D12,'Kesdas-S'!D12) -> 68 | Y38: =X38/SUM(X$34:X$39) -> 0.36756757
Q39: S-2 ke atas | R39: =SUM('Regli-S'!D13) -> 10 | S39: =R39/SUM($R$34:$R$39) -> 0.12987013 | T39: =SUM('Kesus-S'!D13) -> 0 | U39: =T39/SUM($T$34:$T$39) -> 0 | V39: =SUM('Kesdas-S'!D13) -> 0 | W39: =V39/SUM(V$34:V$39) -> 0 | X39: =SUM('Regli-S'!D13,'Kesus-S'!D13,'Kesdas-S'!D13) -> 10 | Y39: =X39/SUM(X$34:X$39) -> 0.054054054
O40: 3 | P40: Instansi | Q40: PNS/TNI/POLRI | R40: =SUM('Regli-S'!D14) -> 22 | S40: =R40/SUM($R$40:$R$44) -> 0.28571429 | T40: =SUM('Kesus-S'!D14) -> 1 | U40: =T40/SUM($T$40:$T$44) -> 0.012195122 | V40: =SUM('Kesdas-S'!D14) -> 1 | W40: =V40/SUM(V$40:V$44) -> 0.047619048 | X40: =SUM('Regli-S'!D14,'Kesus-S'!D14,'Kesdas-S'!D14) -> 24 | Y40: =X40/SUM(X$40:X$44) -> 0.13333333
Q41: Instansi Luar | R41: =SUM('Regli-S'!D15) -> 7 | S41: =R41/SUM($R$40:$R$44) -> 0.090909091 | T41: =SUM('Kesus-S'!D15) -> 0 | U41: =T41/SUM($T$40:$T$44) -> 0 | V41: =SUM('Kesdas-S'!D15) -> 0 | W41: =V41/SUM(V$40:V$44) -> 0 | X41: =SUM('Regli-S'!D15,'Kesus-S'!D15,'Kesdas-S'!D15) -> 7 | Y41: =X41/SUM(X$40:X$44) -> 0.038888889
Q42: Wirausahawan/Usahawan | R42: =SUM('Regli-S'!D16) -> 1 | S42: =R42/SUM($R$40:$R$44) -> 0.012987013 | T42: =SUM('Kesus-S'!D16) -> 4 | U42: =T42/SUM($T$40:$T$44) -> 0.048780488 | V42: =SUM('Kesdas-S'!D16) -> 1 | W42: =V42/SUM(V$40:V$44) -> 0.047619048 | X42: =SUM('Regli-S'!D16,'Kesus-S'!D16,'Kesdas-S'!D16) -> 6 | Y42: =X42/SUM(X$40:X$44) -> 0.033333333
Q43: Pelajar/Mahasiswa | R43: =SUM('Regli-S'!D17) -> 1 | S43: =R43/SUM($R$40:$R$44) -> 0.012987013 | T43: =SUM('Kesus-S'!D17) -> 7 | U43: =T43/SUM($T$40:$T$44) -> 0.085365854 | V43: =SUM('Kesdas-S'!D17) -> 8 | W43: =V43/SUM(V$40:V$44) -> 0.38095238 | X43: =SUM('Regli-S'!D17,'Kesus-S'!D17,'Kesdas-S'!D17) -> 16 | Y43: =X43/SUM(X$40:X$44) -> 0.088888889
Q44: Lainnya | R44: =SUM('Regli-S'!D18) -> 46 | S44: =R44/SUM($R$40:$R$44) -> 0.5974026 | T44: =SUM('Kesus-S'!D18) -> 70 | U44: =T44/SUM($T$40:$T$44) -> 0.85365854 | V44: =SUM('Kesdas-S'!D18) -> 11 | W44: =V44/SUM(V$40:V$44) -> 0.52380952 | X44: =SUM('Regli-S'!D18,'Kesus-S'!D18,'Kesdas-S'!D18) -> 127 | Y44: =X44/SUM(X$40:X$44) -> 0.70555556
O46: REKAP KARAKTERISTIK RESPONDEN BIDANG PELAYANAN KESEHATAN
O47: NO | P47: KARAKTERISTIK | Q47: INDIKATOR | R47: PSDK | T47: FARMAKMIN | V47: SARPRAS | X47: SDK
R48: Jumlah | S48: % | T48: Jumlah | U48: % | V48: Jumlah | W48: % | X48: Jumlah | Y48: %
O49: 1 | P49: Jenis kelamin | Q49: Laki-Laki | R49: =SUM('PSDK-S'!D6) -> 18 | S49: =R49/SUM(R49:R50) -> 0.75 | T49: =SUM('Farmakmin-S'!D6) -> 29 | U49: =T49/SUM(T49:T50) -> 0.35802469 | V49: =SUM('Sarpras-S'!D6) -> 23 | W49: =V49/SUM(V49:V50) -> 0.82142857 | X49: =SUM('PSDK-S'!D6,'Sarpras-S'!D6,'Farmakmin-S'!D6) -> 70 | Y49: =X49/SUM(X49:X50) -> 0.21472393
Q50: Perempuan | R50: 6 | S50: =R50/SUM(R49:R50) -> 0.25 | T50: =SUM('Farmakmin-S'!D7) -> 52 | U50: =T50/SUM(T49:T50) -> 0.64197531 | V50: =SUM('Sarpras-S'!D7) -> 5 | W50: =V50/SUM(V49:V50) -> 0.17857143 | X50: =SUM('PSDK-S'!D7,'Sarpras-S'!D7,'Farmakmin-S'!D7) -> 256 | Y50: =X50/SUM(X49:X50) -> 0.78527607
O51: 2 | P51: Pendidikan | Q51: SD Kebawah | R51: =SUM('PSDK-S'!D8) -> 0 | S51: =R51/SUM($R51:$R56) -> 0 | T51: =SUM('Farmakmin-S'!D8) -> 2 | U51: =T51/SUM($T51:$T56) -> 0.024691358 | V51: =SUM('Sarpras-S'!D8) -> 0 | W51: =V51/SUM($V51:$V56) -> 0 | X51: =SUM('PSDK-S'!D8,'Sarpras-S'!D8,'Farmakmin-S'!D8) -> 2 | Y51: =X51/SUM($X51:X$56) -> 0.0061349693
Q52: SLTP | R52: =SUM('PSDK-S'!D9) -> 0 | S52: =R52/SUM($R51:$R56) -> 0 | T52: =SUM('Farmakmin-S'!D9) -> 1 | U52: =T52/SUM($T51:$T56) -> 0.012345679 | V52: =SUM('Sarpras-S'!D9) -> 0 | W52: =V52/SUM($V51:$V56) -> 0 | X52: =SUM('PSDK-S'!D9,'Sarpras-S'!D9,'Farmakmin-S'!D9) -> 1 | Y52: =X52/SUM($X51:X$56) -> 0.0030674847
Q53: SLTA | R53: =SUM('PSDK-S'!D10) -> 139 | S53: =R53/SUM($R51:$R56) -> 0.640553 | T53: =SUM('Farmakmin-S'!D10) -> 19 | U53: =T53/SUM($T51:$T56) -> 0.2345679 | V53: =SUM('Sarpras-S'!D10) -> 7 | W53: =V53/SUM($V51:$V56) -> 0.25 | X53: =SUM('PSDK-S'!D10,'Sarpras-S'!D10,'Farmakmin-S'!D10) -> 165 | Y53: =X53/SUM($X51:X$56) -> 0.50613497
Q54: D1 - D4 | R54: =SUM('PSDK-S'!D11) -> 54 | S54: =R54/SUM($R51:$R56) -> 0.24884793 | T54: =SUM('Farmakmin-S'!D11) -> 15 | U54: =T54/SUM($T51:$T56) -> 0.18518519 | V54: =SUM('Sarpras-S'!D11) -> 9 | W54: =V54/SUM($V51:$V56) -> 0.32142857 | X54: =SUM('PSDK-S'!D11,'Sarpras-S'!D11,'Farmakmin-S'!D11) -> 78 | Y54: =X54/SUM($X51:X$56) -> 0.2392638
Q55: S-1 | R55: =SUM('PSDK-S'!D12) -> 24 | S55: =R55/SUM($R51:$R56) -> 0.11059908 | T55: =SUM('Farmakmin-S'!D12) -> 38 | U55: =T55/SUM($T51:$T56) -> 0.4691358 | V55: =SUM('Sarpras-S'!D12) -> 12 | W55: =V55/SUM($V51:$V56) -> 0.42857143 | X55: =SUM('PSDK-S'!D12,'Sarpras-S'!D12,'Farmakmin-S'!D12) -> 74 | Y55: =X55/SUM($X51:X$56) -> 0.22699387
Q56: S-2 ke atas | R56: =SUM('PSDK-S'!D13) -> 0 | S56: =R56/SUM($R51:$R56) -> 0 | T56: =SUM('Farmakmin-S'!D13) -> 6 | U56: =T56/SUM($T51:$T56) -> 0.074074074 | V56: =SUM('Sarpras-S'!D13) -> 0 | W56: =V56/SUM($V51:$V56) -> 0 | X56: =SUM('PSDK-S'!D13,'Sarpras-S'!D13,'Farmakmin-S'!D13) -> 6 | Y56: =X56/SUM($X51:X$56) -> 0.018404908
O57: 3 | P57: Instansi | Q57: PNS/TNI/POLRI | R57: =SUM('PSDK-S'!D14) -> 3 | S57: =R57/SUM($R57:$R61) -> 0.013824885 | T57: =SUM('Farmakmin-S'!D14) -> 2 | U57: =T57/SUM($T57:$T61) -> 0.024691358 | V57: =SUM('Sarpras-S'!D14) -> 0 | W57: =V57/SUM($V57:$V61) -> 0 | X57: =SUM('PSDK-S'!D14,'Sarpras-S'!D14,'Farmakmin-S'!D14) -> 5 | Y57: =X57/SUM($X57:$X61) -> 0.015337423
Q58: Instansi Luar | R58: =SUM('PSDK-S'!D15) -> 0 | S58: =R58/SUM($R57:$R61) -> 0 | T58: =SUM('Farmakmin-S'!D15) -> 3 | U58: =T58/SUM($T57:$T61) -> 0.037037037 | V58: =SUM('Sarpras-S'!D15) -> 3 | W58: =V58/SUM($V57:$V61) -> 0.10714286 | X58: =SUM('PSDK-S'!D15,'Sarpras-S'!D15,'Farmakmin-S'!D15) -> 6 | Y58: =X58/SUM($X57:$X61) -> 0.018404908
Q59: Wirausahawan/Usahawan | R59: =SUM('PSDK-S'!D16) -> 0 | S59: =R59/SUM($R57:$R61) -> 0 | T59: =SUM('Farmakmin-S'!D16) -> 47 | U59: =T59/SUM($T57:$T61) -> 0.58024691 | V59: =SUM('Sarpras-S'!D16) -> 10 | W59: =V59/SUM($V57:$V61) -> 0.35714286 | X59: =SUM('PSDK-S'!D16,'Sarpras-S'!D16,'Farmakmin-S'!D16) -> 57 | Y59: =X59/SUM($X57:$X61) -> 0.17484663
Q60: Pelajar/Mahasiswa | R60: =SUM('PSDK-S'!D17) -> 213 | S60: =R60/SUM($R57:$R61) -> 0.98156682 | T60: =SUM('Farmakmin-S'!D17) -> 7 | U60: =T60/SUM($T57:$T61) -> 0.086419753 | V60: =SUM('Sarpras-S'!D17) -> 0 | W60: =V60/SUM($V57:$V61) -> 0 | X60: =SUM('PSDK-S'!D17,'Sarpras-S'!D17,'Farmakmin-S'!D17) -> 220 | Y60: =X60/SUM($X57:$X61) -> 0.67484663
Q61: Lainnya | R61: =SUM('PSDK-S'!D18) -> 1 | S61: =R61/SUM($R57:$R61) -> 0.0046082949 | T61: =SUM('Farmakmin-S'!D18) -> 22 | U61: =T61/SUM($T57:$T61) -> 0.27160494 | V61: =SUM('Sarpras-S'!D18) -> 15 | W61: =V61/SUM($V57:$V61) -> 0.53571429 | X61: =SUM('PSDK-S'!D18,'Sarpras-S'!D18,'Farmakmin-S'!D18) -> 38 | Y61: =X61/SUM($X57:$X61) -> 0.11656442
O63: REKAP KARAKTERISTIK RESPONDEN STANDAR DINAS KESEHATAN SLEMAN
O64: NO | P64: KARAKTERISTIK | Q64: INDIKATOR | R64: YANKES | T64: SDK | V64: DINKES
R65: Jumlah | S65: % | T65: Jumlah | U65: % | V65: Jumlah | W65: %
O66: 1 | P66: Jenis kelamin | Q66: Laki-Laki | R66: =X32 -> 60 | S66: =Y32 -> 0.32432432 | T66: =X49 -> 70 | U66: =Y49 -> 0.21472393 | V66: =SUM(R66,T66) -> 130 | W66: =V66/SUM(V66:V67) -> 0.25440313
Q67: Perempuan | R67: =X33 -> 125 | S67: =Y33 -> 0.67567568 | T67: =X50 -> 256 | U67: =Y50 -> 0.78527607 | V67: =SUM(R67,T67) -> 381 | W67: =V67/SUM(V66:V67) -> 0.74559687
O68: 2 | P68: Pendidikan | Q68: SD Kebawah | R68: =X34 -> 5 | S68: =Y34 -> 0.027027027 | T68: =X51 -> 2 | U68: =Y51 -> 0.0061349693 | V68: =SUM(R68,T68) -> 7 | W68: =V68/SUM($V68:$V73) -> 0.01369863
Q69: SLTP | R69: =X35 -> 11 | S69: =Y35 -> 0.059459459 | T69: =X52 -> 1 | U69: =Y52 -> 0.0030674847 | V69: =SUM(R69,T69) -> 12 | W69: =V69/SUM($V68:$V73) -> 0.023483366
Q70: SLTA | R70: =X36 -> 66 | S70: =Y36 -> 0.35675676 | T70: =X53 -> 165 | U70: =Y53 -> 0.50613497 | V70: =SUM(R70,T70) -> 231 | W70: =V70/SUM($V68:$V73) -> 0.45205479
Q71: D1 - D4 | R71: =X37 -> 25 | S71: =Y37 -> 0.13513514 | T71: =X54 -> 78 | U71: =Y54 -> 0.2392638 | V71: =SUM(R71,T71) -> 103 | W71: =V71/SUM($V68:$V73) -> 0.20156556
Q72: S-1 | R72: =X38 -> 68 | S72: =Y38 -> 0.36756757 | T72: =X55 -> 74 | U72: =Y55 -> 0.22699387 | V72: =SUM(R72,T72) -> 142 | W72: =V72/SUM($V68:$V73) -> 0.2778865
Q73: S-2 ke atas | R73: =X39 -> 10 | S73: =Y39 -> 0.054054054 | T73: =X56 -> 6 | U73: =Y56 -> 0.018404908 | V73: =SUM(R73,T73) -> 16 | W73: =V73/SUM($V68:$V73) -> 0.031311155
O74: 3 | P74: Instansi | Q74: PNS/TNI/POLRI | R74: =X40 -> 24 | S74: =Y40 -> 0.13333333 | T74: =X57 -> 5 | U74: =Y57 -> 0.015337423 | V74: =SUM(R74,T74) -> 29 | W74: =V74/SUM($V74:$V78) -> 0.057312253
Q75: Instansi Luar | R75: =X41 -> 7 | S75: =Y41 -> 0.038888889 | T75: =X58 -> 6 | U75: =Y58 -> 0.018404908 | V75: =SUM(R75,T75) -> 13 | W75: =V75/SUM($V74:$V78) -> 0.0256917
Q76: Wirausahawan/Usahawan | R76: =X42 -> 6 | S76: =Y42 -> 0.033333333 | T76: =X59 -> 57 | U76: =Y59 -> 0.17484663 | V76: =SUM(R76,T76) -> 63 | W76: =V76/SUM($V74:$V78) -> 0.12450593
Q77: Pelajar/Mahasiswa | R77: =X43 -> 16 | S77: =Y43 -> 0.088888889 | T77: =X60 -> 220 | U77: =Y60 -> 0.67484663 | V77: =SUM(R77,T77) -> 236 | W77: =V77/SUM($V74:$V78) -> 0.46640316
Q78: Lainnya | R78: =X44 -> 127 | S78: =Y44 -> 0.70555556 | T78: =X61 -> 38 | U78: =Y61 -> 0.11656442 | V78: =SUM(R78,T78) -> 165 | W78: =V78/SUM($V74:$V78) -> 0.32608696
O81: REKAP KARAKTERISTIK RESPONDEN KUESIONER RAPAT
O84: REKAP KARAKTERISTIK RESPONDEN SEKRETARIAT
O85: NO | P85: KARAKTERISTIK | Q85: INDIKATOR | R85: UMPEG | T85: KEUANGAN | V85: PE | X85: SEKRETARIAT
R86: Jumlah | S86: % | T86: Jumlah | U86: % | V86: Jumlah | W86: % | X86: Jumlah | Y86: %
O87: 1 | P87: Jenis kelamin | Q87: Laki-Laki | R87: =SUM('Umpeg-R'!$D6) -> 12 | S87: =R87/SUM(R87:R88) -> 0.21428571 | T87: =SUM('Keuangan-R'!$D6) -> 5 | U87: =T87/SUM(T87:T88) -> 0.13157895 | V87: =SUM('PE-R'!$D6) -> 14 | W87: =V87/SUM(V87:V88) -> 0.46666667 | X87: =SUM('Umpeg-R'!$D6,'Keuangan-R'!$D6,'PE-R'!$D6) -> 31 | Y87: =X87/SUM(X87:X88) -> 0.25
Q88: Perempuan | R88: =SUM('Umpeg-R'!$D7) -> 44 | S88: =R88/SUM(R87:R88) -> 0.78571429 | T88: =SUM('Keuangan-R'!$D7) -> 33 | U88: =T88/SUM(T87:T88) -> 0.86842105 | V88: =SUM('PE-R'!$D7) -> 16 | W88: =V88/SUM(V87:V88) -> 0.53333333 | X88: =SUM('Umpeg-R'!$D7,'Keuangan-R'!$D7,'PE-R'!$D7) -> 93 | Y88: =X88/SUM(X87:X88) -> 0.75
O89: 2 | P89: Pendidikan | Q89: SD Kebawah | R89: =SUM('Umpeg-R'!$D8) -> 0 | S89: =R89/SUM(R89:R94) -> 0 | T89: =SUM('Keuangan-R'!$D8) -> 0 | U89: =T89/SUM(T89:T94) -> 0 | V89: =SUM('PE-R'!$D8) -> 0 | W89: =V89/SUM(V89:V94) -> 0 | X89: =SUM('Umpeg-R'!$D8,'Keuangan-R'!$D8,'PE-R'!$D8) -> 0 | Y89: =X89/SUM(X89:X94) -> 0
Q90: SLTP | R90: =SUM('Umpeg-R'!$D9) -> 1 | S90: =R90/SUM(R89:R94) -> 0.017857143 | T90: =SUM('Keuangan-R'!$D9) -> 1 | U90: =T90/SUM(T89:T94) -> 0.026315789 | V90: =SUM('PE-R'!$D9) -> 0 | W90: =V90/SUM(V89:V94) -> 0 | X90: =SUM('Umpeg-R'!$D9,'Keuangan-R'!$D9,'PE-R'!$D9) -> 2 | Y90: =X90/SUM(X89:X94) -> 0.016129032
Q91: SLTA | R91: =SUM('Umpeg-R'!$D10) -> 14 | S91: =R91/SUM(R89:R94) -> 0.25 | T91: =SUM('Keuangan-R'!$D10) -> 6 | U91: =T91/SUM(T89:T94) -> 0.15789474 | V91: =SUM('PE-R'!$D10) -> 2 | W91: =V91/SUM(V89:V94) -> 0.066666667 | X91: =SUM('Umpeg-R'!$D10,'Keuangan-R'!$D10,'PE-R'!$D10) -> 22 | Y91: =X91/SUM(X89:X94) -> 0.17741935
Q92: D1 - D4 | R92: =SUM('Umpeg-R'!$D11) -> 9 | S92: =R92/SUM(R89:R94) -> 0.16071429 | T92: =SUM('Keuangan-R'!$D11) -> 27 | U92: =T92/SUM(T89:T94) -> 0.71052632 | V92: =SUM('PE-R'!$D11) -> 4 | W92: =V92/SUM(V89:V94) -> 0.13333333 | X92: =SUM('Umpeg-R'!$D11,'Keuangan-R'!$D11,'PE-R'!$D11) -> 40 | Y92: =X92/SUM(X89:X94) -> 0.32258065
Q93: S-1 | R93: =SUM('Umpeg-R'!$D12) -> 28 | S93: =R93/SUM(R89:R94) -> 0.5 | T93: =SUM('Keuangan-R'!$D12) -> 4 | U93: =T93/SUM(T89:T94) -> 0.10526316 | V93: =SUM('PE-R'!$D12) -> 19 | W93: =V93/SUM(V89:V94) -> 0.63333333 | X93: =SUM('Umpeg-R'!$D12,'Keuangan-R'!$D12,'PE-R'!$D12) -> 51 | Y93: =X93/SUM(X89:X94) -> 0.41129032
Q94: S-2 ke atas | R94: =SUM('Umpeg-R'!$D13) -> 4 | S94: =R94/SUM(R89:R94) -> 0.071428571 | T94: =SUM('Keuangan-R'!$D13) -> 0 | U94: =T94/SUM(T89:T94) -> 0 | V94: =SUM('PE-R'!$D13) -> 5 | W94: =V94/SUM(V89:V94) -> 0.16666667 | X94: =SUM('Umpeg-R'!$D13,'Keuangan-R'!$D13,'PE-R'!$D13) -> 9 | Y94: =X94/SUM(X89:X94) -> 0.072580645
O95: 3 | P95: Instansi | Q95: PNS/TNI/POLRI | R95: =SUM('Umpeg-R'!$D14) -> 25 | S95: =R95/SUM(R95:R99) -> 0.44642857 | T95: =SUM('Keuangan-R'!$D14) -> 37 | U95: =T95/SUM(T95:T99) -> 0.97368421 | V95: =SUM('PE-R'!$D14) -> 27 | W95: =V95/SUM(V95:V99) -> 0.9 | X95: =SUM('Umpeg-R'!$D14,'Keuangan-R'!$D14,'PE-R'!$D14) -> 89 | Y95: =X95/SUM(X95:X99) -> 0.71774194
Q96: Instansi Luar | R96: =SUM('Umpeg-R'!$D15) -> 5 | S96: =R96/SUM(R95:R99) -> 0.089285714 | T96: =SUM('Keuangan-R'!$D15) -> 0 | U96: =T96/SUM(T95:T99) -> 0 | V96: =SUM('PE-R'!$D15) -> 0 | W96: =V96/SUM(V95:V99) -> 0 | X96: =SUM('Umpeg-R'!$D15,'Keuangan-R'!$D15,'PE-R'!$D15) -> 5 | Y96: =X96/SUM(X95:X99) -> 0.040322581
Q97: Wirausahawan/Usahawan | R97: =SUM('Umpeg-R'!$D16) -> 10 | S97: =R97/SUM(R95:R99) -> 0.17857143 | T97: =SUM('Keuangan-R'!$D16) -> 0 | U97: =T97/SUM(T95:T99) -> 0 | V97: =SUM('PE-R'!$D16) -> 0 | W97: =V97/SUM(V95:V99) -> 0 | X97: =SUM('Umpeg-R'!$D16,'Keuangan-R'!$D16,'PE-R'!$D16) -> 10 | Y97: =X97/SUM(X95:X99) -> 0.080645161
Q98: Pelajar/Mahasiswa | R98: =SUM('Umpeg-R'!$D17) -> 1 | S98: =R98/SUM(R95:R99) -> 0.017857143 | T98: =SUM('Keuangan-R'!$D17) -> 0 | U98: =T98/SUM(T95:T99) -> 0 | V98: =SUM('PE-R'!$D17) -> 1 | W98: =V98/SUM(V95:V99) -> 0.033333333 | X98: =SUM('Umpeg-R'!$D17,'Keuangan-R'!$D17,'PE-R'!$D17) -> 2 | Y98: =X98/SUM(X95:X99) -> 0.016129032
Q99: Lainnya | R99: =SUM('Umpeg-R'!$D18) -> 15 | S99: =R99/SUM(R95:R99) -> 0.26785714 | T99: =SUM('Keuangan-R'!$D18) -> 1 | U99: =T99/SUM(T95:T99) -> 0.026315789 | V99: =SUM('PE-R'!$D18) -> 2 | W99: =V99/SUM(V95:V99) -> 0.066666667 | X99: =SUM('Umpeg-R'!$D18,'Keuangan-R'!$D18,'PE-R'!$D18) -> 18 | Y99: =X99/SUM(X95:X99) -> 0.14516129
O101: REKAP KARAKTERISTIK RESPONDEN BIDANG PELAYANAN KESEHATAN
O102: NO | P102: KARAKTERISTIK | Q102: INDIKATOR | R102: REGLI | T102: KESSUS | V102: KESDAS | X102: YANKES
R103: Jumlah | S103: % | T103: Jumlah | U103: % | V103: Jumlah | W103: % | X103: Jumlah | Y103: %
O104: 1 | P104: Jenis kelamin | Q104: Laki-Laki | R104: =SUM('Regli-R'!$D6) -> 17 | S104: =R104/SUM(R104:R105) -> 0.29310345 | T104: =SUM('Kesus-R'!$D6) -> 26 | U104: =T104/SUM(T104:T105) -> 0.78787879 | V104: =SUM('Kesdas-R'!$D6) -> 45 | W104: =V104/SUM(V104:V105) -> 0.33834586 | X104: =SUM('Regli-R'!$D6,'Kesus-R'!$D6,'Kesdas-R'!$D6) -> 88 | Y104: =X104/SUM(X104:X105) -> 0.39285714
Q105: Perempuan | R105: =SUM('Regli-R'!$D7) -> 41 | S105: =R105/SUM(R104:R105) -> 0.70689655 | T105: =SUM('Kesus-R'!$D7) -> 7 | U105: =T105/SUM(T104:T105) -> 0.21212121 | V105: =SUM('Kesdas-R'!$D7) -> 88 | W105: =V105/SUM(V104:V105) -> 0.66165414 | X105: =SUM('Regli-R'!$D7,'Kesus-R'!$D7,'Kesdas-R'!$D7) -> 136 | Y105: =X105/SUM(X104:X105) -> 0.60714286
O106: 2 | P106: Pendidikan | Q106: SD Kebawah | R106: =SUM('Regli-R'!$D8) -> 0 | S106: =R106/SUM(R106:R111) -> 0 | T106: =SUM('Kesus-R'!$D8) -> 0 | U106: =T106/SUM(T106:T111) -> 0 | V106: =SUM('Kesdas-R'!$D8) -> 0 | W106: =V106/SUM(V106:V111) -> 0 | X106: =SUM('Regli-R'!$D8,'Kesus-R'!$D8,'Kesdas-R'!$D8) -> 0 | Y106: =X106/SUM(X106:X111) -> 0
Q107: SLTP | R107: =SUM('Regli-R'!$D9) -> 0 | S107: =R107/SUM(R106:R111) -> 0 | T107: =SUM('Kesus-R'!$D9) -> 4 | U107: =T107/SUM(T106:T111) -> 0.12121212 | V107: =SUM('Kesdas-R'!$D9) -> 0 | W107: =V107/SUM(V106:V111) -> 0 | X107: =SUM('Regli-R'!$D9,'Kesus-R'!$D9,'Kesdas-R'!$D9) -> 4 | Y107: =X107/SUM(X106:X111) -> 0.017857143
Q108: SLTA | R108: =SUM('Regli-R'!$D10) -> 5 | S108: =R108/SUM(R106:R111) -> 0.086206897 | T108: =SUM('Kesus-R'!$D10) -> 15 | U108: =T108/SUM(T106:T111) -> 0.45454545 | V108: =SUM('Kesdas-R'!$D10) -> 4 | W108: =V108/SUM(V106:V111) -> 0.030075188 | X108: =SUM('Regli-R'!$D10,'Kesus-R'!$D10,'Kesdas-R'!$D10) -> 24 | Y108: =X108/SUM(X106:X111) -> 0.10714286
Q109: D1 - D4 | R109: =SUM('Regli-R'!$D11) -> 19 | S109: =R109/SUM(R106:R111) -> 0.32758621 | T109: =SUM('Kesus-R'!$D11) -> 2 | U109: =T109/SUM(T106:T111) -> 0.060606061 | V109: =SUM('Kesdas-R'!$D11) -> 59 | W109: =V109/SUM(V106:V111) -> 0.44360902 | X109: =SUM('Regli-R'!$D11,'Kesus-R'!$D11,'Kesdas-R'!$D11) -> 80 | Y109: =X109/SUM(X106:X111) -> 0.35714286
Q110: S-1 | R110: =SUM('Regli-R'!$D12) -> 24 | S110: =R110/SUM(R106:R111) -> 0.4137931 | T110: =SUM('Kesus-R'!$D12) -> 12 | U110: =T110/SUM(T106:T111) -> 0.36363636 | V110: =SUM('Kesdas-R'!$D12) -> 56 | W110: =V110/SUM(V106:V111) -> 0.42105263 | X110: =SUM('Regli-R'!$D12,'Kesus-R'!$D12,'Kesdas-R'!$D12) -> 92 | Y110: =X110/SUM(X106:X111) -> 0.41071429
Q111: S-2 ke atas | R111: =SUM('Regli-R'!$D13) -> 10 | S111: =R111/SUM(R106:R111) -> 0.17241379 | T111: =SUM('Kesus-R'!$D13) -> 0 | U111: =T111/SUM(T106:T111) -> 0 | V111: =SUM('Kesdas-R'!$D13) -> 14 | W111: =V111/SUM(V106:V111) -> 0.10526316 | X111: =SUM('Regli-R'!$D13,'Kesus-R'!$D13,'Kesdas-R'!$D13) -> 24 | Y111: =X111/SUM(X106:X111) -> 0.10714286
O112: 3 | P112: Instansi | Q112: PNS/TNI/POLRI | R112: =SUM('Regli-R'!$D14) -> 36 | S112: =R112/SUM(R112:R116) -> 0.63157895 | T112: =SUM('Kesus-R'!$D14) -> 2 | U112: =T112/SUM(T112:T116) -> 0.0625 | V112: =SUM('Kesdas-R'!$D14) -> 82 | W112: =V112/SUM(V112:V116) -> 0.61654135 | X112: =SUM('Regli-R'!$D14,'Kesus-R'!$D14,'Kesdas-R'!$D14) -> 120 | Y112: =X112/SUM(X112:X116) -> 0.54054054
Q113: Instansi Luar | R113: =SUM('Regli-R'!$D15) -> 16 | S113: =R113/SUM(R112:R116) -> 0.28070175 | T113: =SUM('Kesus-R'!$D15) -> 0 | U113: =T113/SUM(T112:T116) -> 0 | V113: =SUM('Kesdas-R'!$D15) -> 30 | W113: =V113/SUM(V112:V116) -> 0.22556391 | X113: =SUM('Regli-R'!$D15,'Kesus-R'!$D15,'Kesdas-R'!$D15) -> 46 | Y113: =X113/SUM(X112:X116) -> 0.20720721
Q114: Wirausahawan/Usahawan | R114: =SUM('Regli-R'!$D16) -> 2 | S114: =R114/SUM(R112:R116) -> 0.035087719 | T114: =SUM('Kesus-R'!$D16) -> 0 | U114: =T114/SUM(T112:T116) -> 0 | V114: =SUM('Kesdas-R'!$D16) -> 0 | W114: =V114/SUM(V112:V116) -> 0 | X114: =SUM('Regli-R'!$D16,'Kesus-R'!$D16,'Kesdas-R'!$D16) -> 2 | Y114: =X114/SUM(X112:X116) -> 0.009009009
Q115: Pelajar/Mahasiswa | R115: =SUM('Regli-R'!$D17) -> 2 | S115: =R115/SUM(R112:R116) -> 0.035087719 | T115: =SUM('Kesus-R'!$D17) -> 25 | U115: =T115/SUM(T112:T116) -> 0.78125 | V115: =SUM('Kesdas-R'!$D17) -> 2 | W115: =V115/SUM(V112:V116) -> 0.015037594 | X115: =SUM('Regli-R'!$D17,'Kesus-R'!$D17,'Kesdas-R'!$D17) -> 29 | Y115: =X115/SUM(X112:X116) -> 0.13063063
Q116: Lainnya | R116: =SUM('Regli-R'!$D18) -> 1 | S116: =R116/SUM(R112:R116) -> 0.01754386 | T116: =SUM('Kesus-R'!$D18) -> 5 | U116: =T116/SUM(T112:T116) -> 0.15625 | V116: =SUM('Kesdas-R'!$D18) -> 19 | W116: =V116/SUM(V112:V116) -> 0.14285714 | X116: =SUM('Regli-R'!$D18,'Kesus-R'!$D18,'Kesdas-R'!$D18) -> 25 | Y116: =X116/SUM(X112:X116) -> 0.11261261
O118: REKAP KARAKTERISTIK RESPONDEN BIDANG KESEHATAN MASYARAKAT
O119: NO | P119: KARAKTERISTIK | Q119: INDIKATOR | R119: PROMKES | T119: GIZIKIA | V119: KESWA-UPL | X119: KESMAS
...

Sheet Regli-S
A1: BIDANG PELAYANAN KESEHATAN TIM KERJA REGISTRASI LISENSI MUTU PELAYANAN
A4: Tipe Kuisioner: Standar
A5: NO | B5: KARAKTERISTIK | C5: INDIKATOR | D5: JUMLAH | E5: PERSENTASE (%)
A6: 1 | B6: Jenis kelamin | C6: Laki-Laki | D6: =COUNTIF(C22:C1000,"Laki-Laki") -> 30 | E6: =+D6/77 -> 0.38961039
C7: Perempuan | D7: =COUNTIF(C22:C1000,"Perempuan") -> 47 | E7: =+D7/77 -> 0.61038961
A8: 2 | B8: Pendidikan | C8: SD Kebawah | D8: =COUNTIF(D22:D1000,"SD Kebawah") -> 0 | E8: =+D8/77 -> 0
C9: SLTP | D9: =COUNTIF(D22:D1000,"SLTP") -> 1 | E9: =+D9/77 -> 0.012987013
C10: SLTA | D10: =COUNTIF(D22:D1000,"SLTA") -> 14 | E10: =+D10/77 -> 0.18181818
C11: D1 - D3 - D4 | D11: =COUNTIF(D22:D1000,"D1 - D3 - D4") -> 14 | E11: =+D11/77 -> 0.18181818
C12: S-1 | D12: =COUNTIF(D22:D1000,"S-1") -> 38 | E12: =+D12/77 -> 0.49350649
C13: S-2 ke atas | D13: =COUNTIF(D22:D1000,"S-2 ke atas") -> 10 | E13: =+D13/77 -> 0.12987013
A14: 3 | B14: Instansi | C14: PNS/TNI/POLRI | D14: =COUNTIF(E22:E1000,"PNS/TNI/POLRI") -> 22 | E14: =+D14/77 -> 0.28571429
C15: Instansi Luar | D15: =COUNTIF(E22:E1000,"Instansi Luar") -> 7 | E15: =+D15/77 -> 0.090909091
C16: Wirausahawan/Usahawan | D16: =COUNTIF(E22:E1000,"Wirausahawan/Usahawan") -> 1 | E16: =+D16/77 -> 0.012987013
C17: Pelajar/Mahasiswa | D17: =COUNTIF(E22:E1000,"Pelajar/Mahasiswa") -> 1 | E17: =+D17/77 -> 0.012987013
C18: Lainnya | D18: =COUNTIF(E22:E1000,"Lainnya") -> 46 | E18: =+D18/77 -> 0.5974026
F19: =AVERAGE(F22:F1000) -> 3.5974026 | G19: =AVERAGE(G22:G1000) -> 3.5714286 | H19: =AVERAGE(H22:H1000) -> 3.5844156 | I19: =AVERAGE(I22:I1000) -> 3.8701299 | J19: =AVERAGE(J22:J1000) -> 3.5454545 | K19: =AVERAGE(K22:K1000) -> 3.5844156 | L19: =AVERAGE(L22:L1000) -> 3.5714286 | M19: =AVERAGE(M22:M1000) -> 3.8701299 | N19: =AVERAGE(N22:N1000) -> 3.5454545
A21: No | B21: Umur | C21: Jenis Kelamin | D21: Pendidikan | E21: Pekerjaan | F21: U1 | G21: U2 | H21: U3 | I21: U4 | J21: U5 | K21: U6 | L21: U7 | M21: U8 | N21: U9 | O21: Kritik/Saran
A22: 1 | B22: 35 | C22: Perempuan | D22: S-2 ke atas | E22: Lainnya | F22: 3 | G22: 3 | H22: 3 | I22: 4 | J22: 3 | K22: 3 | L22: 3 | M22: 3 | N22: 3 | O22: Baik
A23: 2 | B23: 35 | C23: Perempuan | D23: SLTA | E23: Instansi Luar | F23: 4 | G23: 4 | H23: 4 | I23: 4 | J23: 4 | K23: 4 | L23: 4 | M23: 4 | N23: 4 | O23: Mantap langsung jadi. Semoga sllu trbaik
A24: 3 | B24: 30 | C24: Perempuan | D24: S-1 | E24: Lainnya | F24: 4 | G24: 3 | H24: 3 | I24: 4 | J24: 3 | K24: 4 | L24: 3 | M24: 1 | N24: 3 | O24: sudah baik
A25: 4 | B25: 36 | C25: Perempuan | D25: S-2 ke atas | E25: Lainnya | F25: 4 | G25: 4 | H25: 4 | I25: 4 | J25: 4 | K25: 4 | L25: 4 | M25: 4 | N25: 4 | O25: Tetap pertahankan pelayanan yg sudah sangat baik
A26: 5 | B26: 26 | C26: Laki-Laki | D26: D1 - D3 - D4 | E26: Lainnya | F26: 3 | G26: 3 | H26: 3 | I26: 4 | J26: 3 | K26: 3 | L26: 3 | M26: 4 | N26: 4 | O26: Kualitas Pelayanan sudah sangat baik
A27: 6 | B27: 21 | C27: Perempuan | D27: D1 - D3 - D4 | E27: Lainnya | F27: 3 | G27: 3 | H27: 3 | I27: 3 | J27: 3 | K27: 3 | L27: 3 | M27: 3 | N27: 3 | O27: untuk cs manusia harap lebih diupgrade
A28: 7 | B28: 36 | C28: Perempuan | D28: S-1 | E28: Lainnya | F28: 3 | G28: 3 | H28: 4 | I28: 4 | J28: 3 | K28: 4 | L28: 3 | M28: 4 | N28: 3 | O28: Terimakasih untuk bantuannya. Walaupun terkejut tempat praktek nya berbeda nama dg yg sy ajukan. Semoga kedepannya tdk bermasalah. Terimakasih ????
A29: 8 | B29: 25 | C29: Perempuan | D29: S-1 | E29: Lainnya | F29: 3 | G29: 3 | H29: 3 | I29: 4 | J29: 3 | K29: 3 | L29: 3 | M29: 4 | N29: 3 | O29: -
A30: 9 | B30: 42 | C30: Perempuan | D30: S-1 | E30: PNS/TNI/POLRI | F30: 4 | G30: 4 | H30: 4 | I30: 4 | J30: 4 | K30: 4 | L30: 4 | M30: 4 | N30: 4 | O30: saya dibantu oleh petugas an. Joko. sangat membantu. terimakasih
A31: 10 | B31: 40 | C31: Perempuan | D31: S-1 | E31: PNS/TNI/POLRI | F31: 4 | G31: 4 | H31: 4 | I31: 4 | J31: 4 | K31: 4 | L31: 4 | M31: 4 | N31: 4 | O31: dipertahankan dan ditingkatkan
A32: 11 | B32: 43 | C32: Perempuan | D32: S-2 ke atas | E32: Lainnya | F32: 4 | G32: 4 | H32: 4 | I32: 4 | J32: 4 | K32: 4 | L32: 4 | M32: 4 | N32: 4 | O32: Pertahankan kualitas layanan yg sudah bagus dan tidak mempersulit..mantap
A33: 12 | B33: 26 | C33: Perempuan | D33: S-1 | E33: Lainnya | F33: 3 | G33: 3 | H33: 3 | I33: 4 | J33: 3 | K33: 3 | L33: 3 | M33: 4 | N33: 2 | O33: -
... A98: 77 | B98: 37 | C98: Laki-Laki | D98: SLTA | E98: Lainnya | F98: 4 | G98: 4 | H98: 4 | I98: 4 | J98: 4 | K98: 4 | L98: 4 | M98: 4 | N98: 4 | O98: Joss gandos

Sheet Kesus-S
D1: BIDANG PELAYANAN KESEHATAN
D2: TIM KERJA KESEHATAN KHUSUS DAN PENJAMINAN
A4: Tipe Kuisioner: Standar
A5: NO | B5: KARAKTERISTIK | C5: INDIKATOR | D5: JUMLAH | E5: PERSENTASE (%)
A6: 1 | B6: Jenis kelamin | C6: Laki-Laki | D6: =COUNTIF(C22:C1000,"Laki-Laki") -> 24 | E6: =+D6/87 -> 0.27586207 | H6: =SUM(D6:D7) -> 87
C7: Perempuan | D7: =COUNTIF(C22:C1000,"Perempuan") -> 63 | E7: =+D7/87 -> 0.72413793 | H7: =SUM(D8:D13) -> 87
A8: 2 | B8: Pendidikan | C8: SD Kebawah | D8: =COUNTIF(D22:D1000,"SD ke bawah") -> 5 | E8: =+D8/87 -> 0.057471264
C9: SLTP | D9: =COUNTIF(D22:D1000,"SLTP") -> 10 | E9: =+D9/87 -> 0.11494253
C10: SLTA | D10: =COUNTIF(D22:D1000,"SLTA") -> 50 | E10: =+D10/87 -> 0.57471264
C11: D1 - D3 - D4 | D11: =COUNTIF(D22:D1000,"D1 - D3 - D4") -> 9 | E11: =+D11/87 -> 0.10344828
C12: S-1 | D12: =COUNTIF(D22:D1000,"S-1") -> 13 | E12: =+D12/87 -> 0.14942529
C13: S-2 ke atas | D13: =COUNTIF(D22:D1000,"S-2 ke atas") -> 0 | E13: =+D13/87 -> 0
A14: 3 | B14: Instansi | C14: PNS/TNI/POLRI | D14: =COUNTIF(E22:E1000,"PNS/TNI/POLRI") -> 1 | E14: =+D14/87 -> 0.011494253
C15: Instansi Luar | D15: =COUNTIF(E22:E1000,"Instansi Luar") -> 0 | E15: =+D15/87 -> 0
C16: Wirausahawan/Usahawan | D16: =COUNTIF(E22:E1000,"Wirausahawan/Usahawan") -> 4 | E16: =+D16/87 -> 0.045977011
C17: Pelajar/Mahasiswa | D17: =COUNTIF(E22:E1000,"Pelajar/Mahasiswa") -> 7 | E17: =+D17/87 -> 0.08045977
C18: Lainnya | D18: =COUNTIF(E22:E1000,"Lainnya") -> 70 | E18: =+D18/87 -> 0.8045977
F19: =AVERAGE(F22:F1000) -> 3.4942529 | G19: =AVERAGE(G22:G1000) -> 3.5172414 | H19: =AVERAGE(H22:H1000) -> 3.4597701 | I19: =AVERAGE(I22:I1000) -> 3.9425287 | J19: =AVERAGE(J22:J1000) -> 3.4712644 | K19: =AVERAGE(K22:K1000) -> 3.5517241 | L19: =AVERAGE(L22:L1000) -> 3.6436782 | M19: =AVERAGE(M22:M1000) -> 3.9885057 | N19: =AVERAGE(N22:N1000) -> 3.7356322
A20: Laporan | Responden | IKM
A21: No | B21: Umur | C21: Jenis Kelamin | D21: Pendidikan | E21: Pekerjaan | F21: U1 | G21: U2 | H21: U3 | I21: U4 | J21: U5 | K21: U6 | L21: U7 | M21: U8 | N21: U9 | O21: Kritik/Saran
A22: 1 | B22: 35 | C22: Perempuan | D22: SLTA | E22: Lainnya | F22: 3 | G22: 3 | H22: 4 | I22: 4 | J22: 4 | K22: 4 | L22: 4 | M22: 4 | N22: 4 | O22: Sudah sangat baik dlm pelayanan dan penanganan untuk masyarakat. Dipertahankan dan ditingkatkan lagi
A23: 2 | B23: 57 | C23: Laki-Laki | D23: SD ke bawah | E23: Lainnya | F23: 3 | G23: 3 | H23: 3 | I23: 4 | J23: 3 | K23: 4 | L23: 4 | M23: 4 | N23: 3 | O23: Pelayanan dan penanganan sangat baik.
A24: 3 | B24: 25 | C24: Perempuan | D24: SLTA | E24: Lainnya | F24: 3 | G24: 3 | H24: 3 | I24: 4 | J24: 3 | K24: 3 | L24: 4 | M24: 4 | N24: 3 | O24: Semakin meningkat lebih baik
A25: 4 | B25: 62 | C25: Perempuan | D25: SD ke bawah | E25: Lainnya | F25: 4 | G25: 3 | H25: 4 | I25: 4 | J25: 4 | K25: 4 | L25: 3 | M25: 4 | N25: 3 | O25: Pelayanan cepat dan memuaskan
A26: 5 | B26: 69 | C26: Laki-Laki | D26: SD ke bawah | E26: Lainnya | F26: 3 | G26: 3 | H26: 3 | I26: 4 | J26: 3 | K26: 3 | L26: 3 | M26: 4 | N26: 3 | O26: Cukup baik
A27: 6 | B27: 54 | C27: Perempuan | D27: SLTA | E27: Lainnya | F27: 3 | G27: 3 | H27: 3 | I27: 3 | J27: 3 | K27: 2 | L27: 3 | M27: 4 | N27: 3 | O27: Dengarkan suara rakyat kecil
A28: 7 | B28: 56 | C28: Perempuan | D28: SLTA | E28: Lainnya | F28: 3 | G28: 3 | H28: 3 | I28: 3 | J28: 3 | K28: 3 | L28: 3 | M28: 4 | N28: 3 | O28: Cukup memuaskan
A29: 8 | B29: 61 | C29: Perempuan | D29: SLTA | E29: Lainnya | F29: 3 | G29: 4 | H29: 4 | I29: 4 | J29: 4 | K29: 4 | L29: 4 | M29: 4 | N29: 4 | O29: Sudah sangat bagus cepat dalam penanganan....pertahankan
A30: 9 | B30: 59 | C30: Perempuan | D30: SLTA | E30: Lainnya | F30: 3 | G30: 3 | H30: 3 | I30: 4 | J30: 3 | K30: 3 | L30: 3 | M30: 4 | N30: 3 | O30: Semakin di maksimalkan.
A31: 10 | B31: 59 | C31: Perempuan | D31: SLTA | E31: Lainnya | F31: 3 | G31: 3 | H31: 3 | I31: 4 | J31: 3 | K31: 3 | L31: 3 | M31: 4 | N31: 3 | O31: Semakin di maksimalkan.
A32: 11 | B32: 26 | C32: Perempuan | D32: SLTA | E32: Lainnya | F32: 4 | G32: 3 | H32: 4 | I32: 4 | J32: 3 | K32: 3 | L32: 4 | M32: 4 | N32: 4 | O32: Semoga stafnya bisa ramah dan displin trs.
A33: 12 | B33: 49 | C33: Perempuan | D33: SLTA | E33: Lainnya | F33: 3 | G33: 3 | H33: 3 | I33: 4 | J33: 3 | K33: 3 | L33: 4 | M33: 4 | N33: 4 | O33: Terima kasih atas pelayanannya dngan baik
... A108: 87 | B108: 43 | C108: Perempuan | D108: S-1 | E108: Lainnya | F108: 4 | G108: 4 | H108: 4 | I108: 4 | J108: 4 | K108: 4 | L108: 4 | M108: 4 | N108: 4 | O108: -

Sheet Kesdas-S
D1: BIDANG PELAYANAN KESEHATAN
D2: TIM KERJA KESEHATAN KHUSUS DAN PENJAMINAN
A4: Tipe Kuisioner: Standar
A5: NO | B5: KARAKTERISTIK | C5: INDIKATOR | D5: JUMLAH | E5: PERSENTASE (%)
A6: 1 | B6: Jenis kelamin | C6: Laki-Laki | D6: =COUNTIF(C22:C1000,"Laki-Laki") -> 6 | E6: =+D6/21 -> 0.28571429 | I6: =SUM(D6:D7) -> 21
C7: Perempuan | D7: =COUNTIF(C22:C1000,"Perempuan") -> 15 | E7: =+D7/21 -> 0.71428571 | I7: =SUM(D8:D13) -> 21
A8: 2 | B8: Pendidikan | C8: SD Kebawah | D8: =COUNTIF(D22:D1000,"SD ke bawah") -> 0 | E8: =+D8/21 -> 0
C9: SLTP | D9: =COUNTIF(D22:D1000,"SLTP") -> 0 | E9: =+D9/21 -> 0
C10: SLTA | D10: =COUNTIF(D22:D1000,"SLTA") -> 2 | E10: =+D10/21 -> 0.095238095
C11: D1 - D3 - D4 | D11: =COUNTIF(D22:D1000,"D1 - D3 - D4") -> 2 | E11: =+D11/21 -> 0.095238095
C12: S-1 | D12: =COUNTIF(D22:D1000,"S-1") -> 17 | E12: =+D12/21 -> 0.80952381
C13: S-2 ke atas | D13: =COUNTIF(D22:D1000,"S-2 ke atas") -> 0 | E13: =+D13/21 -> 0
A14: 3 | B14: Instansi | C14: PNS/TNI/POLRI | D14: =COUNTIF(E22:E1000,"PNS/TNI/POLRI") -> 1 | E14: =+D14/21 -> 0.047619048
C15: Instansi Luar | D15: =COUNTIF(E22:E1000,"Instansi Luar") -> 0 | E15: =+D15/21 -> 0
C16: Wirausahawan/Usahawan | D16: =COUNTIF(E22:E1000,"Wirausahawan/Usahawan") -> 1 | E16: =+D16/21 -> 0.047619048
C17: Pelajar/Mahasiswa | D17: =COUNTIF(E22:E1000,"Pelajar/Mahasiswa") -> 8 | E17: =+D17/21 -> 0.38095238
C18: Lainnya | D18: =COUNTIF(E22:E1000,"Lainnya") -> 11 | E18: =+D18/21 -> 0.52380952
F19: =AVERAGE(F22:F1000) -> 3.5238095 | G19: =AVERAGE(G22:G1000) -> 3.5714286 | H19: =AVERAGE(H22:H1000) -> 3.6190476 | I19: =AVERAGE(I22:I1000) -> 3.7619048 | J19: =AVERAGE(J22:J1000) -> 3.5714286 | K19: =AVERAGE(K22:K1000) -> 3.5714286 | L19: =AVERAGE(L22:L1000) -> 3.7142857 | M19: =AVERAGE(M22:M1000) -> 4 | N19: =AVERAGE(N22:N1000) -> 3.5238095
A20: Laporan | Responden | IKM
A21: No | B21: Umur | C21: Jenis Kelamin | D21: Pendidikan | E21: Pekerjaan | F21: U1 | G21: U2 | H21: U3 | I21: U4 | J21: U5 | K21: U6 | L21: U7 | M21: U8 | N21: U9 | O21: Kritik/Saran
A22: 1 | B22: 30 | C22: Perempuan | D22: S-1 | E22: PNS/TNI/POLRI | F22: 4 | G22: 4 | H22: 4 | I22: 4 | J22: 4 | K22: 4 | L22: 3 | M22: 4 | N22: 4 | O22: Sudah baik
A23: 2 | B23: 22 | C23: Laki-Laki | D23: SLTA | E23: Lainnya | F23: 3 | G23: 3 | H23: 3 | I23: 4 | J23: 3 | K23: 3 | L23: 3 | M23: 4 | N23: 3 | O23: Lanjutkan
A24: 3 | B24: 21 | C24: Perempuan | D24: D1 - D3 - D4 | E24: Pelajar/Mahasiswa | F24: 3 | G24: 4 | H24: 4 | I24: 4 | J24: 3 | K24: 3 | L24: 4 | M24: 4 | N24: 3 | O24: Baik
A25: 4 | B25: 21 | C25: Perempuan | D25: D1 - D3 - D4 | E25: Pelajar/Mahasiswa | F25: 3 | G25: 3 | H25: 4 | I25: 4 | J25: 3 | K25: 3 | L25: 4 | M25: 4 | N25: 3 | O25: Baik
A26: 5 | B26: 25 | C26: Perempuan | D26: S-1 | E26: Lainnya | F26: 3 | G26: 3 | H26: 3 | I26: 3 | J26: 3 | K26: 3 | L26: 4 | M26: 4 | N26: 3 | O26: ditingkatkan agar lebih baik kedepannya
A27: 6 | B27: 27 | C27: Laki-Laki | D27: S-1 | E27: Lainnya | F27: 4 | G27: 4 | H27: 4 | I27: 4 | J27: 4 | K27: 4 | L27: 4 | M27: 4 | N27: 4 | O27: Sudah sangat baik
A28: 7 | B28: 30 | C28: Laki-Laki | D28: S-1 | E28: Wirausahawan/Usahawan | F28: 4 | G28: 4 | H28: 4 | I28: 4 | J28: 4 | K28: 4 | L28: 4 | M28: 4 | N28: 4 | O28: sudah sangat baik
A29: 8 | B29: 26 | C29: Laki-Laki | D29: S-1 | E29: Pelajar/Mahasiswa | F29: 4 | G29: 4 | H29: 4 | I29: 4 | J29: 4 | K29: 4 | L29: 4 | M29: 4 | N29: 4 | O29: Sudah baik pelayan sudah cepat dan ramah
A30: 9 | B30: 24 | C30: Perempuan | D30: S-1 | E30: Pelajar/Mahasiswa | F30: 4 | G30: 4 | H30: 4 | I30: 4 | J30: 4 | K30: 4 | L30: 4 | M30: 4 | N30: 4 | O30: Petugas ramah dan cekatan. Terima kasih
A31: 10 | B31: 24 | C31: Perempuan | D31: S-1 | E31: Pelajar/Mahasiswa | F31: 4 | G31: 4 | H31: 4 | I31: 4 | J31: 4 | K31: 4 | L31: 4 | M31: 4 | N31: 4 | O31: Petugas cepat tanggap dan sangat membantu terimakasih
A32: 11 | B32: 24 | C32: Perempuan | D32: S-1 | E32: Lainnya | F32: 3 | G32: 3 | H32: 3 | I32: 3 | J32: 3 | K32: 3 | L32: 3 | M32: 4 | N32: 3 | O32: sangat baik pelayanan cepat dan ramah
A33: 12 | B33: 24 | C33: Perempuan | D33: S-1 | E33: Lainnya | F33: 3 | G33: 3 | H33: 3 | I33: 3 | J33: 3 | K33: 3 | L33: 3 | M33: 4 | N33: 3 | O33: sudah sangat baik pelayanan ramah dan cepat
... A42: 21 | B42: 26 | C42: Perempuan | D42: S-1 | E42: Lainnya | F42: 3 | G42: 4 | H42: 3 | I42: 3 | J42: 3 | K42: 3 | L42: 3 | M42: 4 | N42: 3 | O42: Tetap meningkatkan pelayanan dengan baik

Sheet PSDK-S
D1: BIDANG SUMBER DAYA KESEHATAN
D2: TIM KERJA PENGEMBANGAN SUMBER DAYA KESEHATAN
A4: Tipe Kuisioner: Standar
A5: NO | B5: KARAKTERISTIK | C5: INDIKATOR | D5: JUMLAH | E5: PERSENTASE (%)
A6: 1 | B6: Jenis kelamin | C6: Laki-Laki | D6: =COUNTIF(C22:C1000,"Laki-Laki") -> 18 | E6: =+D6/217 -> 0.082949309 | H6: =SUM(D6:D7) -> 217
C7: Perempuan | D7: =COUNTIF(C22:C1000,"Perempuan") -> 199 | E7: =+D7/217 -> 0.91705069 | H7: =SUM(D8:D13) -> 217
A8: 2 | B8: Pendidikan | C8: SD Kebawah | D8: =COUNTIF(D22:D1000,"SD Kebawah") -> 0 | E8: =+D8/168 -> 0
C9: SLTP | D9: =COUNTIF(D22:D1000,"SLTP") -> 0 | E9: =+D9/168 -> 0
C10: SLTA | D10: =COUNTIF(D22:D1000,"SLTA") -> 139 | E10: =+D10/168 -> 0.82738095
C11: D1 - D3 - D4 | D11: =COUNTIF(D22:D1000,"D1 - D3 - D4") -> 54 | E11: =+D11/168 -> 0.32142857
C12: S-1 | D12: =COUNTIF(D22:D1000,"S-1") -> 24 | E12: =+D12/168 -> 0.14285714
C13: S-2 ke atas | D13: =COUNTIF(D22:D1000,"S-2 ke atas") -> 0 | E13: =+D13/168 -> 0
A14: 3 | B14: Instansi | C14: PNS/TNI/POLRI | D14: =COUNTIF(E22:E1000,"PNS/TNI/POLRI") -> 3 | E14: =+D14/168 -> 0.017857143
C15: Instansi Luar | D15: =COUNTIF(E22:E1000,"Instansi Luar") -> 0 | E15: =+D15/168 -> 0
C16: Wirausahawan/Usahawan | D16: =COUNTIF(E22:E1000,"Wirausahawan/Usahawan") -> 0 | E16: =+D16/168 -> 0
C17: Pelajar/Mahasiswa | D17: =COUNTIF(E22:E1000,"Pelajar/Mahasiswa") -> 213 | E17: =+D17/168 -> 1.2678571
C18: Lainnya | D18: =COUNTIF(E22:E1000,"Lainnya") -> 1 | E18: =+D18/168 -> 0.005952381 | M18: `
F19: =AVERAGE(F22:F1000) -> 3.6267281 | G19: =AVERAGE(G22:G1000) -> 3.6589862 | H19: =AVERAGE(H22:H1000) -> 3.5990783 | I19: =AVERAGE(I22:I1000) -> 3.8341014 | J19: =AVERAGE(J22:J1000) -> 3.6175115 | K19: =AVERAGE(K22:K1000) -> 3.6635945 | L19: =AVERAGE(L22:L1000) -> 3.6313364 | M19: =AVERAGE(M22:M1000) -> 3.9262673 | N19: =AVERAGE(N22:N1000) -> 3.6543779
A20: Laporan | Responden | IKM
A21: No | B21: Umur | C21: Jenis Kelamin | D21: Pendidikan | E21: Pekerjaan | F21: U1 | G21: U2 | H21: U3 | I21: U4 | J21: U5 | K21: U6 | L21: U7 | M21: U8 | N21: U9 | O21: Kritik/Saran
A22: 1 | B22: 21 | C22: Perempuan | D22: D1 - D3 - D4 | E22: Pelajar/Mahasiswa | F22: 4 | G22: 4 | H22: 4 | I22: 4 | J22: 4 | K22: 4 | L22: 4 | M22: 4 | N22: 4 | O22: sangat membantu
A23: 2 | B23: 21 | C23: Perempuan | D23: D1 - D3 - D4 | E23: Pelajar/Mahasiswa | F23: 3 | G23: 3 | H23: 3 | I23: 4 | J23: 3 | K23: 3 | L23: 3 | M23: 4 | N23: 3 | O23: Sangat memudahkan dalam pengurusan surat izinnya terimakasih atas pelayanannya
A24: 3 | B24: 21 | C24: Perempuan | D24: SLTA | E24: Pelajar/Mahasiswa | F24: 3 | G24: 3 | H24: 3 | I24: 3 | J24: 3 | K24: 4 | L24: 4 | M24: 4 | N24: 4 | O24: Tidak ada
A25: 4 | B25: 21 | C25: Perempuan | D25: SLTA | E25: Pelajar/Mahasiswa | F25: 4 | G25: 4 | H25: 4 | I25: 4 | J25: 4 | K25: 4 | L25: 4 | M25: 4 | N25: 4 | O25: Tidak ada
A26: 5 | B26: 21 | C26: Perempuan | D26: SLTA | E26: Pelajar/Mahasiswa | F26: 3 | G26: 3 | H26: 3 | I26: 4 | J26: 3 | K26: 4 | L26: 4 | M26: 4 | N26: 4 | O26: sesuai
A27: 6 | B27: 21 | C27: Perempuan | D27: S-1 | E27: Pelajar/Mahasiswa | F27: 4 | G27: 4 | H27: 4 | I27: 4 | J27: 4 | K27: 4 | L27: 4 | M27: 4 | N27: 4 | O27: Semoga ditingkatkan kembali yang sudah baik
A28: 7 | B28: 22 | C28: Perempuan | D28: SLTA | E28: Pelajar/Mahasiswa | F28: 4 | G28: 4 | H28: 4 | I28: 4 | J28: 4 | K28: 4 | L28: 4 | M28: 4 | N28: 4 | O28: pelayanan sangat baik
A29: 8 | B29: 20 | C29: Perempuan | D29: SLTA | E29: Pelajar/Mahasiswa | F29: 3 | G29: 4 | H29: 4 | I29: 4 | J29: 3 | K29: 3 | L29: 3 | M29: 3 | N29: 3 | O29: Dipertahankan layanan yang sudah cukup baik
A30: 9 | B30: 21 | C30: Perempuan | D30: SLTA | E30: Pelajar/Mahasiswa | F30: 4 | G30: 4 | H30: 4 | I30: 4 | J30: 4 | K30: 4 | L30: 4 | M30: 4 | N30: 4 | O30: Pelayanan yang sopan dan ramah dipertahankan
A31: 10 | B31: 24 | C31: Perempuan | D31: S-1 | E31: Pelajar/Mahasiswa | F31: 4 | G31: 4 | H31: 4 | I31: 4 | J31: 4 | K31: 4 | L31: 4 | M31: 4 | N31: 4 | O31: Sangat baik dalam pelayanan dan jelas tepat cepat
A32: 11 | B32: 24 | C32: Perempuan | D32: D1 - D3 - D4 | E32: Pelajar/Mahasiswa | F32: 3 | G32: 3 | H32: 3 | I32: 4 | J32: 3 | K32: 3 | L32: 3 | M32: 4 | N32: 3 | O32: Tidak ada
A33: 12 | B33: 20 | C33: Laki-Laki | D33: SLTA | E33: Pelajar/Mahasiswa | F33: 3 | G33: 3 | H33: 3 | I33: 3 | J33: 3 | K33: 3 | L33: 3 | M33: 3 | N33: 3 | O33: Pihak dinkes sudah memberikan saya panduan yang cukup baik
... A223: 202 | B223: 23 | C223: Perempuan | D223: D1 - D3 - D4 | E223: Pelajar/Mahasiswa | F223: 3 | G223: 3 | H223: 3 | I223: 3 | J223: 3 | K223: 3 | L223: 3 | M223: 4 | N223: 3 | O223: cukup baik
A224: 203 | B224: 22 | C224: Perempuan | D224: D1 - D3 - D4 | E224: Pelajar/Mahasiswa | F224: 4 | G224: 4 | H224: 4 | I224: 4 | J224: 4 | K224: 4 | L224: 4 | M224: 4 | N224: 4
A225: 204 | B225: 23 | C225: Perempuan | D225: S-1 | E225: Pelajar/Mahasiswa | F225: 4 | G225: 4 | H225: 3 | I225: 4 | J225: 3 | K225: 4 | L225: 3 | M225: 4 | N225: 3 | O225: Semoga semakin baik
A226: 205 | B226: 22 | C226: Laki-Laki | D226: S-1 | E226: Pelajar/Mahasiswa | F226: 3 | G226: 3 | H226: 4 | I226: 3 | J226: 3 | K226: 3 | L226: 3 | M226: 4 | N226: 4 | O226: -
A227: 206 | B227: 2 | C227: Perempuan | D227: SLTA | E227: Pelajar/Mahasiswa | F227: 4 | G227: 4 | H227: 4 | I227: 4 | J227: 4 | K227: 4 | L227: 4 | M227: 4 | N227: 4 | O227: Sudah baik sangat responsif dan cepat.
A228: 207 | B228: 21 | C228: Perempuan | D228: SLTA | E228: Pelajar/Mahasiswa | F228: 4 | G228: 4 | H228: 4 | I228: 4 | J228: 4 | K228: 4 | L228: 4 | M228: 4 | N228: 4 | O228: Pelayanan baik dan cepat
A229: 208 | B229: 22 | C229: Perempuan | D229: SLTA | E229: Pelajar/Mahasiswa | F229: 3 | G229: 4 | H229: 4 | I229: 4 | J229: 4 | K229: 3 | L229: 3 | M229: 4 | N229: 4 | O229: Mungkin akan lebih maksimal jika layanan di buka setiap hari sukses selalu Kab. Sleman
A230: 209 | B230: 20 | C230: Perempuan | D230: D1 - D3 - D4 | E230: Pelajar/Mahasiswa | F230: 3 | G230: 4 | H230: 3 | I230: 4 | J230: 3 | K230: 4 | L230: 3 | M230: 4 | N230: 3 | O230: Sangat baik
A231: 210 | B231: 22 | C231: Perempuan | D231: D1 - D3 - D4 | E231: Pelajar/Mahasiswa | F231: 3 | G231: 3 | H231: 3 | I231: 4 | J231: 3 | K231: 3 | L231: 3 | M231: 4 | N231: 3 | O231: -
A232: 211 | B232: 23 | C232: Perempuan | D232: D1 - D3 - D4 | E232: Pelajar/Mahasiswa | F232: 3 | G232: 4 | H232: 3 | I232: 4 | J232: 3 | K232: 3 | L232: 3 | M232: 4 | N232: 3 | O232: -
A233: 212 | B233: 21 | C233: Laki-Laki | D233: D1 - D3 - D4 | E233: Pelajar/Mahasiswa | F233: 4 | G233: 4 | H233: 4 | I233: 4 | J233: 4 | K233: 4 | L233: 4 | M233: 4 | N233: 4 | O233: Oke
A234: 213 | B234: 23 | C234: Perempuan | D234: SLTA | E234: Pelajar/Mahasiswa | F234: 3 | G234: 4 | H234: 3 | I234: 3 | J234: 3 | K234: 3 | L234: 3 | M234: 4 | N234: 4 | O234: Semoga sistem pelayanan selalu terjaga
A235: 214 | B235: 23 | C235: Perempuan | D235: SLTA | E235: Pelajar/Mahasiswa | F235: 3 | G235: 3 | H235: 3 | I235: 3 | J235: 3 | K235: 3 | L235: 3 | M235: 4 | N235: 3 | O235: Belum ada
A236: 215 | B236: 23 | C236: Perempuan | D236: SLTA | E236: Pelajar/Mahasiswa | F236: 3 | G236: 3 | H236: 3 | I236: 3 | J236: 3 | K236: 3 | L236: 3 | M236: 4 | N236: 3 | O236: Belum ada
... A238: 217 | B238: 20 | C238: Perempuan | D238: SLTA | E238: Pelajar/Mahasiswa | F238: 3 | G238: 3 | H238: 3 | I238: 4 | J238: 3 | K238: 3 | L238: 3 | M238: 4 | N238: 3 | O238: sangat informatif

Sheet Sarpras-S
D1: BIDANG SUMBER DAYA KESEHATAN
D2: TIM KERJA SARANA PRASARANA
A4: Tipe Kuisioner: Standar
A5: NO | B5: KARAKTERISTIK | C5: INDIKATOR | D5: JUMLAH | E5: PERSENTASE (%)
A6: 1 | B6: Jenis kelamin | C6: Laki-Laki | D6: =COUNTIF(C22:C1000,"Laki-Laki") -> 23 | E6: =+D6/28 -> 0.82142857
C7: Perempuan | D7: =COUNTIF(C22:C1000,"Perempuan") -> 5 | E7: =+D7/28 -> 0.17857143
A8: 2 | B8: Pendidikan | C8: SD Kebawah | D8: =COUNTIF(D22:D1000,"SD ke bawah") -> 0 | E8: =+D8/28 -> 0
C9: SLTP | D9: =COUNTIF(D22:D1000,"SLTP") -> 0 | E9: =+D9/28 -> 0
C10: SLTA | D10: =COUNTIF(D22:D1000,"SLTA") -> 7 | E10: =+D10/28 -> 0.25
C11: D1 - D3 - D4 | D11: =COUNTIF(D22:D1000,"D1 - D3 - D4") -> 9 | E11: =+D11/28 -> 0.32142857
C12: S-1 | D12: =COUNTIF(D22:D1000,"S-1") -> 12 | E12: =+D12/28 -> 0.42857143
C13: S-2 ke atas | D13: =COUNTIF(D22:D1000,"S-2 ke atas") -> 0 | E13: =+D13/28 -> 0
A14: 3 | B14: Instansi | C14: PNS/TNI/POLRI | D14: =COUNTIF(E22:E1000,"PNS/TNI/POLRI") -> 0 | E14: =+D14/28 -> 0
C15: Instansi Luar | D15: =COUNTIF(E22:E1000,"Instansi Luar") -> 3 | E15: =+D15/28 -> 0.10714286
C16: Wirausahawan/Usahawan | D16: =COUNTIF(E22:E1000,"Wirausahawan/Usahawan") -> 10 | E16: =+D16/28 -> 0.35714286
C17: Pelajar/Mahasiswa | D17: =COUNTIF(E22:E1000,"Pelajar/Mahasiswa") -> 0 | E17: =+D17/28 -> 0
C18: Lainnya | D18: =COUNTIF(E22:E1000,"Lainnya") -> 15 | E18: =+D18/28 -> 0.53571429 | M18: `
F19: =AVERAGE(F22:F1000) -> 3.6785714 | G19: =AVERAGE(G22:G1000) -> 3.5714286 | H19: =AVERAGE(H22:H1000) -> 3.6071429 | I19: =AVERAGE(I22:I1000) -> 3.8214286 | J19: =AVERAGE(J22:J1000) -> 3.5 | K19: =AVERAGE(K22:K1000) -> 3.6785714 | L19: =AVERAGE(L22:L1000) -> 3.7142857 | M19: =AVERAGE(M22:M1000) -> 3.8214286 | N19: =AVERAGE(N22:N1000) -> 3.7142857
A20: Laporan | Responden | IKM
A21: No | B21: Umur | C21: Jenis Kelamin | D21: Pendidikan | E21: Pekerjaan | F21: U1 | G21: U2 | H21: U3 | I21: U4 | J21: U5 | K21: U6 | L21: U7 | M21: U8 | N21: U9 | O21: Kritik/Saran
A22: 1 | B22: 47 | C22: Laki-Laki | D22: S-1 | E22: Instansi Luar | F22: 4 | G22: 4 | H22: 4 | I22: 3 | J22: 3 | K22: 3 | L22: 4 | M22: 4 | N22: 4 | O22: Sudah memuaskan
A23: 2 | B23: 35 | C23: Laki-Laki | D23: D1 - D3 - D4 | E23: Lainnya | F23: 4 | G23: 4 | H23: 4 | I23: 4 | J23: 4 | K23: 4 | L23: 4 | M23: 4 | N23: 4 | O23: Unggul dan Terpercaya
A24: 3 | B24: 39 | C24: Perempuan | D24: D1 - D3 - D4 | E24: Lainnya | F24: 4 | G24: 4 | H24: 4 | I24: 4 | J24: 4 | K24: 4 | L24: 4 | M24: 4 | N24: 4 | O24: Pelayanan sudah sangat baik
A25: 4 | B25: 50 | C25: Laki-Laki | D25: S-1 | E25: Lainnya | F25: 3 | G25: 3 | H25: 3 | I25: 4 | J25: 3 | K25: 3 | L25: 3 | M25: 1 | N25: 3 | O25: Pertahankan yang sudah bagus
A26: 5 | B26: 34 | C26: Laki-Laki | D26: D1 - D3 - D4 | E26: Lainnya | F26: 4 | G26: 4 | H26: 4 | I26: 4 | J26: 4 | K26: 4 | L26: 4 | M26: 4 | N26: 4 | O26: Teruskan kinerja baik anda
A27: 6 | B27: 39 | C27: Perempuan | D27: S-1 | E27: Wirausahawan/Usahawan | F27: 4 | G27: 4 | H27: 4 | I27: 4 | J27: 4 | K27: 4 | L27: 4 | M27: 4 | N27: 4 | O27: Pelayanan sangat memuaskan
A28: 7 | B28: 37 | C28: Laki-Laki | D28: D1 - D3 - D4 | E28: Wirausahawan/Usahawan | F28: 4 | G28: 4 | H28: 4 | I28: 4 | J28: 4 | K28: 4 | L28: 4 | M28: 4 | N28: 4 | O28: Dinkes Sleman ok
A29: 8 | B29: 50 | C29: Laki-Laki | D29: D1 - D3 - D4 | E29: Wirausahawan/Usahawan | F29: 3 | G29: 3 | H29: 3 | I29: 3 | J29: 3 | K29: 3 | L29: 3 | M29: 4 | N29: 3 | O29: Baik
A30: 9 | B30: 50 | C30: Laki-Laki | D30: D1 - D3 - D4 | E30: Wirausahawan/Usahawan | F30: 3 | G30: 3 | H30: 3 | I30: 3 | J30: 3 | K30: 3 | L30: 3 | M30: 4 | N30: 3 | O30: Sudah baik
A31: 10 | B31: 30 | C31: Laki-Laki | D31: S-1 | E31: Wirausahawan/Usahawan | F31: 3 | G31: 3 | H31: 3 | I31: 4 | J31: 3 | K31: 3 | L31: 3 | M31: 4 | N31: 4 | O31: Baik
A32: 11 | B32: 34 | C32: Laki-Laki | D32: SLTA | E32: Lainnya | F32: 4 | G32: 4 | H32: 4 | I32: 4 | J32: 4 | K32: 4 | L32: 4 | M32: 4 | N32: 4 | O32: Pertahankan kinerja baik anda
A33: 12 | B33: 42 | C33: Laki-Laki | D33: S-1 | E33: Wirausahawan/Usahawan | F33: 3 | G33: 3 | H33: 3 | I33: 4 | J33: 3 | K33: 3 | L33: 3 | M33: 4 | N33: 3 | O33: Baik
... A49: 28 | B49: 40 | C49: Laki-Laki | D49: S-1 | E49: Lainnya | F49: 3 | G49: 3 | H49: 3 | I49: 4 | J49: 3 | K49: 3 | L49: 3 | M49: 4 | N49: 3 | O49: semakin baik kualitasnya

Sheet Farmakmin-S
D1: BIDANG SUMBER DAYA KESEHATAN
D2: TIM KERJA FARMASI, MAKNAN DAN MINUMAN
A4: Tipe Kuisioner: Standar
A5: NO | B5: KARAKTERISTIK | C5: INDIKATOR | D5: JUMLAH | E5: PERSENTASE (%)
A6: 1 | B6: Jenis kelamin | C6: Laki-Laki | D6: =COUNTIF(C22:C1000,"Laki-Laki") -> 29 | E6: =+D6/81 -> 0.35802469
C7: Perempuan | D7: =COUNTIF(C22:C1000,"Perempuan") -> 52 | E7: =+D7/81 -> 0.64197531
A8: 2 | B8: Pendidikan | C8: SD Kebawah | D8: =COUNTIF(D22:D1000,"SD Ke bawah") -> 2 | E8: =+D8/81 -> 0.024691358
C9: SLTP | D9: =COUNTIF(D22:D1000,"SLTP") -> 1 | E9: =+D9/81 -> 0.012345679
C10: SLTA | D10: =COUNTIF(D22:D1000,"SLTA") -> 19 | E10: =+D10/81 -> 0.2345679
C11: D1 - D3 - D4 | D11: =COUNTIF(D22:D1000,"D1 - D3 - D4") -> 15 | E11: =+D11/81 -> 0.18518519
C12: S-1 | D12: =COUNTIF(D22:D1000,"S-1") -> 38 | E12: =+D12/81 -> 0.4691358
C13: S-2 ke atas | D13: =COUNTIF(D22:D1000,"S-2 ke atas") -> 6 | E13: =+D13/81 -> 0.074074074
A14: 3 | B14: Instansi | C14: PNS/TNI/POLRI | D14: =COUNTIF(E22:E1000,"PNS/TNI/POLRI") -> 2 | E14: =+D14/81 -> 0.024691358
C15: Instansi Luar | D15: =COUNTIF(E22:E1000,"Instansi Luar") -> 3 | E15: =+D15/81 -> 0.037037037
C16: Wirausahawan/Usahawan | D16: =COUNTIF(E22:E1000,"Wirausahawan/Usahawan") -> 47 | E16: =+D16/81 -> 0.58024691
C17: Pelajar/Mahasiswa | D17: =COUNTIF(E22:E1000,"Pelajar/Mahasiswa") -> 7 | E17: =+D17/81 -> 0.086419753
C18: Lainnya | D18: =COUNTIF(E22:E1000,"Lainnya") -> 22 | E18: =+D18/81 -> 0.27160494
F19: =AVERAGE(F22:F1000) -> 3.5185185 | G19: =AVERAGE(G22:G1000) -> 3.5432099 | H19: =AVERAGE(H22:H1000) -> 3.5061728 | I19: =AVERAGE(I22:I1000) -> 3.8765432 | J19: =AVERAGE(J22:J1000) -> 3.3950617 | K19: =AVERAGE(K22:K1000) -> 3.6296296 | L19: =AVERAGE(L22:L1000) -> 3.617284 | M19: =AVERAGE(M22:M1000) -> 3.8888889 | N19: =AVERAGE(N22:N1000) -> 3.7407407
A20: Laporan | Responden | IKM
A21: No | B21: Umur | C21: Jenis Kelamin | D21: Pendidikan | E21: Pekerjaan | F21: U1 | G21: U2 | H21: U3 | I21: U4 | J21: U5 | K21: U6 | L21: U7 | M21: U8 | N21: U9 | O21: Kritik/Saran
A22: 1 | B22: 31 | C22: Perempuan | D22: S-2 ke atas | E22: Lainnya | F22: 4 | G22: 3 | H22: 3 | I22: 3 | J22: 3 | K22: 4 | L22: 4 | M22: 3 | N22: 4 | O22: Penjelasan hari ini cukup sangat baik dan membantu.
A23: 2 | B23: 38 | C23: Perempuan | D23: D1 - D3 - D4 | E23: Lainnya | F23: 4 | G23: 4 | H23: 4 | I23: 4 | J23: 4 | K23: 4 | L23: 4 | M23: 4 | N23: 4 | O23: Baik
A24: 3 | B24: 44 | C24: Perempuan | D24: D1 - D3 - D4 | E24: Wirausahawan/Usahawan | F24: 3 | G24: 3 | H24: 3 | I24: 4 | J24: 3 | K24: 4 | L24: 4 | M24: 4 | N24: 4 | O24: Cepat dan informatif
A25: 4 | B25: 44 | C25: Perempuan | D25: D1 - D3 - D4 | E25: Wirausahawan/Usahawan | F25: 3 | G25: 3 | H25: 3 | I25: 4 | J25: 3 | K25: 4 | L25: 4 | M25: 4 | N25: 4 | O25: Cepat dan informatif
A26: 5 | B26: 56 | C26: Perempuan | D26: SLTA | E26: Wirausahawan/Usahawan | F26: 3 | G26: 4 | H26: 4 | I26: 4 | J26: 4 | K26: 4 | L26: 4 | M26: 4 | N26: 4 | O26: Sudah baik namun harus tetap ditingkatkan lagi
A27: 6 | B27: 44 | C27: Perempuan | D27: D1 - D3 - D4 | E27: Wirausahawan/Usahawan | F27: 4 | G27: 4 | H27: 4 | I27: 4 | J27: 4 | K27: 4 | L27: 4 | M27: 4 | N27: 4 | O27: Sangat membantuinformatifjelascepattanggap
A28: 7 | B28: 56 | C28: Laki-Laki | D28: D1 - D3 - D4 | E28: Wirausahawan/Usahawan | F28: 4 | G28: 3 | H28: 3 | I28: 4 | J28: 4 | K28: 4 | L28: 3 | M28: 4 | N28: 3 | O28: Terima kasih cukup baik
A29: 8 | B29: 45 | C29: Laki-Laki | D29: S-1 | E29: Lainnya | F29: 4 | G29: 4 | H29: 4 | I29: 4 | J29: 4 | K29: 4 | L29: 4 | M29: 4 | N29: 4 | O29: Sangat bagus melayani dengan sepenuh hati meskipun sudah jam istirahat tetap dilayani. Terima kasih ????????????????????
A30: 9 | B30: 55 | C30: Perempuan | D30: S-1 | E30: Lainnya | F30: 4 | G30: 3 | H30: 3 | I30: 4 | J30: 3 | K30: 4 | L30: 4 | M30: 4 | N30: 4 | O30: Pertahankan kepuasan masyarakat
A31: 10 | B31: 28 | C31: Perempuan | D31: S-1 | E31: Lainnya | F31: 4 | G31: 4 | H31: 4 | I31: 4 | J31: 4 | K31: 4 | L31: 4 | M31: 4 | N31: 4 | O31: Good
A32: 11 | B32: 40 | C32: Perempuan | D32: SD ke bawah | E32: Lainnya | F32: 4 | G32: 4 | H32: 4 | I32: 4 | J32: 4 | K32: 4 | L32: 4 | M32: 4 | N32: 4 | O32: Alhamdulillah sangat memuaskan trimakasih.. sukses selalu ????????
A33: 12 | B33: 29 | C33: Perempuan | D33: S-1 | E33: Wirausahawan/Usahawan | F33: 4 | G33: 4 | H33: 4 | I33: 4 | J33: 3 | K33: 4 | L33: 3 | M33: 4 | N33: 4 | O33: Bagus sekali
... A102: 81 | B102: 56 | C102: Perempuan | D102: SLTA | E102: Wirausahawan/Usahawan | F102: 3 | G102: 4 | H102: 4 | I102: 4 | J102: 3 | K102: 4 | L102: 3 | M102: 4 | N102: 4 | O102: Sabar memabantu

Sheet Umpeg-R
D1: SUBBAGIAN KEUANGAN
D2: SEKRETARIAT
A4: Tipe Kuisioner: Rapat
A5: NO | B5: KARAKTERISTIK | C5: INDIKATOR | D5: JUMLAH | E5: PERSENTASE (%)
A6: 1 | B6: Jenis kelamin | C6: Laki-Laki | D6: =COUNTIF(C22:C77,"Laki-Laki") -> 12 | E6: =+D6/47 -> 0.25531915
C7: Perempuan | D7: =COUNTIF(C22:C77,"Perempuan") -> 44 | E7: =+D7/47 -> 0.93617021
A8: 2 | B8: Pendidikan | C8: SD Kebawah | D8: =COUNTIF(D22:D77,"SD Kebawah") -> 0 | E8: =+D8/47 -> 0
C9: SLTP | D9: =COUNTIF(D22:D77,"SLTP") -> 1 | E9: =+D9/47 -> 0.021276596
C10: SLTA | D10: =COUNTIF(D22:D77,"SLTA") -> 14 | E10: =+D10/47 -> 0.29787234
C11: D1 - D3 - D4 | D11: =COUNTIF(D22:D77,"D1 - D3 - D4") -> 9 | E11: =+D11/47 -> 0.19148936
C12: S-1 | D12: =COUNTIF(D22:D77,"S-1") -> 28 | E12: =+D12/47 -> 0.59574468
C13: S-2 ke atas | D13: =COUNTIF(D22:D77,"S-2 ke atas") -> 4 | E13: =+D13/47 -> 0.085106383
A14: 3 | B14: Instansi | C14: Instansi Pemkab Sleman | D14: =COUNTIF(E22:E77,"Instansi Pemkab Sleman") -> 25 | E14: =+D14/47 -> 0.53191489
C15: Pegawai Swasta | D15: =COUNTIF(E22:E77,"Pegawai Swasta") -> 5 | E15: =+D15/47 -> 0.10638298
C16: Akademisi | D16: =COUNTIF(E22:E77,"Akademisi") -> 10 | E16: =+D16/47 -> 0.21276596
C17: Masyarakat | D17: =COUNTIF(E22:E77,"Masyarakat") -> 1 | E17: =+D17/47 -> 0.021276596
C18: Lainnya | D18: =COUNTIF(E22:E77,"Lainnya") -> 15 | E18: =+D18/47 -> 0.31914894
F19: =AVERAGE(F22:F1000) -> 3.5 | G19: =AVERAGE(G22:G1000) -> 3.4821429 | H19: =AVERAGE(H22:H1000) -> 3.5714286 | I19: =AVERAGE(I22:I1000) -> 3.6071429 | J19: =AVERAGE(J22:J1000) -> 3.4642857 | K19: =AVERAGE(K22:K1000) -> 3.5357143 | L19: =AVERAGE(L22:L1000) -> 3.6071429 | M19: =AVERAGE(M22:M1000) -> 3.6071429 | N19: =AVERAGE(N22:N1000) -> 3.5
A20: Laporan | Responden | IKM
A21: No | B21: Umur | C21: Jenis Kelamin | D21: Pendidikan | E21: Pekerjaan | F21: U1 | G21: U2 | H21: U3 | I21: U4 | J21: U5 | K21: U6 | L21: U7 | M21: U8 | N21: U9 | O21: Kritik/Saran
A22: 1 | B22: 55 | C22: Perempuan | D22: S-2 ke atas | E22: Lainnya | F22: 4 | G22: 4 | H22: 4 | I22: 4 | J22: 4 | K22: 4 | L22: 4 | M22: 4 | N22: 4 | O22: Sudah sangat bagus agar dipertahankan
A23: 2 | B23: 22 | C23: Perempuan | D23: SLTA | E23: Akademisi | F23: 4 | G23: 4 | H23: 4 | I23: 4 | J23: 4 | K23: 4 | L23: 4 | M23: 4 | N23: 4 | O23: -
A24: 3 | B24: 50 | C24: Laki-Laki | D24: S-1 | E24: Lainnya | F24: 4 | G24: 4 | H24: 4 | I24: 4 | J24: 4 | K24: 4 | L24: 4 | M24: 4 | N24: 4 | O24: Agar dapat dipertahankan
A25: 4 | B25: 22 | C25: Laki-Laki | D25: S-1 | E25: Lainnya | F25: 4 | G25: 4 | H25: 4 | I25: 4 | J25: 4 | K25: 4 | L25: 3 | M25: 3 | N25: 3 | O25: Mantap sukses terus dan selalu bermanfaat
A26: 5 | B26: 22 | C26: Laki-Laki | D26: S-1 | E26: Pegawai Swasta | F26: 3 | G26: 3 | H26: 3 | I26: 3 | J26: 3 | K26: 3 | L26: 3 | M26: 3 | N26: 3 | O26: bagus
A27: 6 | B27: 42 | C27: Laki-Laki | D27: S-1 | E27: Lainnya | F27: 4 | G27: 4 | H27: 4 | I27: 4 | J27: 4 | K27: 4 | L27: 4 | M27: 4 | N27: 4 | O27: Mantul mantap betul
A28: 7 | B28: 22 | C28: Perempuan | D28: SLTA | E28: Akademisi | F28: 3 | G28: 3 | H28: 3 | I28: 3 | J28: 3 | K28: 3 | L28: 3 | M28: 3 | N28: 3 | O28: Tidak ada
A29: 8 | B29: 21 | C29: Perempuan | D29: S-1 | E29: Lainnya | F29: 3 | G29: 3 | H29: 4 | I29: 3 | J29: 3 | K29: 3 | L29: 3 | M29: 4 | N29: 3 | O29: baik
A30: 9 | B30: 21 | C30: Perempuan | D30: SLTA | E30: Lainnya | F30: 4 | G30: 4 | H30: 4 | I30: 4 | J30: 4 | K30: 4 | L30: 4 | M30: 4 | N30: 4 | O30: -
A31: 10 | B31: 21 | C31: Perempuan | D31: S-1 | E31: Akademisi | F31: 4 | G31: 3 | H31: 3 | I31: 4 | J31: 3 | K31: 4 | L31: 3 | M31: 4 | N31: 3 | O31: Sukses selalu
A32: 11 | B32: 56 | C32: Perempuan | D32: D1 - D3 - D4 | E32: Lainnya | F32: 4 | G32: 4 | H32: 4 | I32: 4 | J32: 4 | K32: 3 | L32: 4 | M32: 4 | N32: 4 | O32: Sangat Baik
A33: 12 | B33: 56 | C33: Perempuan | D33: D1 - D3 - D4 | E33: Lainnya | F33: 4 | G33: 4 | H33: 4 | I33: 4 | J33: 4 | K33: 3 | L33: 4 | M33: 4 | N33: 4 | O33: Sudah sesuai harapan
... A35: 14 | B35: 21 | C35: Perempuan | D35: SLTA | E35: Akademisi | F35: 3 | G35: 3 | H35: 3 | I35: 4 | J35: 3 | K35: 3 | L35: 4 | M35: 3 | N35: 4 | O35: Sudah sangat baik
A36: 15 | B36: 30 | C36: Perempuan | D36: S-1 | E36: Akademisi | F36: 3 | G36: 3 | H36: 4 | I36: 4 | J36: 3 | K36: 4 | L36: 4 | M36: 3 | N36: 3
A37: 16 | B37: 29 | C37: Laki-Laki | D37: S-2 ke atas | E37: Pegawai Swasta | F37: 3 | G37: 3 | H37: 3 | I37: 3 | J37: 3 | K37: 3 | L37: 3 | M37: 3 | N37: 3 | O37: Sudah bagus
A38: 17 | B38: 33 | C38: Perempuan | D38: S-1 | E38: Akademisi | F38: 4 | G38: 4 | H38: 4 | I38: 3 | J38: 3 | K38: 4 | L38: 4 | M38: 3 | N38: 3 | O38: Saran saya di buat langsung di gedung DINKES Sleman nya… dan pemaparan materi yg sangat menarik dan perlu di analisis dalam waktu yg lebih banyak lagi????
A39: 18 | B39: 24 | C39: Perempuan | D39: S-1 | E39: Masyarakat | F39: 3 | G39: 3 | H39: 3 | I39: 3 | J39: 3 | K39: 3 | L39: 3 | M39: 3 | N39: 3 | O39: Sudah baik
A40: 19 | B40: 24 | C40: Perempuan | D40: S-1 | E40: Pegawai Swasta | F40: 3 | G40: 3 | H40: 4 | I40: 3 | J40: 4 | K40: 3 | L40: 4 | M40: 4 | N40: 3 | O40: Sudah cukup baik
A41: 20 | B41: 26 | C41: Perempuan | D41: S-1 | E41: Lainnya | F41: 4 | G41: 4 | H41: 4 | I41: 4 | J41: 4 | K41: 4 | L41: 4 | M41: 4 | N41: 4 | O41: Materi yang disampaikan sangat sesuaii dengan akademik kami
A42: 21 | B42: 33 | C42: Perempuan | D42: S-2 ke atas | E42: Lainnya | F42: 4 | G42: 4 | H42: 4 | I42: 4 | J42: 4 | K42: 4 | L42: 4 | M42: 4 | N42: 4 | O42: Studi banding ke Dinas Kesehatan Sleman memberikan banyak insight positif
A43: 22 | B43: 33 | C43: Perempuan | D43: S-2 ke atas | E43: Akademisi | F43: 4 | G43: 4 | H43: 4 | I43: 4 | J43: 4 | K43: 4 | L43: 4 | M43: 4 | N43: 4 | O43: Dinas Kesehatan Sleman Keren
A44: 23 | B44: 47 | C44: Perempuan | D44: S-1 | E44: Lainnya | F44: 4 | G44: 4 | H44: 3 | I44: 3 | J44: 3 | K44: 3 | L44: 4 | M44: 4 | N44: 4 | O44: Terima kasih sudah berbagi bersama kami terutama tentang inovasi2 dari Dinkes dalam pelayanan kesehatan. Menjadi pembelajaran bagi kabupaten kami
A45: 24 | B45: 23 | C45: Perempuan | D45: S-1 | E45: Lainnya | F45: 4 | G45: 4 | H45: 4 | I45: 4 | J45: 4 | K45: 4 | L45: 4 | M45: 4 | N45: 4 | O45: -
A46: 25 | B46: 30 | C46: Perempuan | D46: S-1 | E46: Lainnya | F46: 4 | G46: 4 | H46: 4 | I46: 4 | J46: 4 | K46: 4 | L46: 4 | M46: 4 | N46: 4 | O46: Terimakasih banyak
A47: 26 | B47: 24 | C47: Perempuan | D47: S-1 | E47: Akademisi | F47: 3 | G47: 3 | H47: 4 | I47: 4 | J47: 4 | K47: 4 | L47: 4 | M47: 4 | N47: 4 | O47: -
A48: 27 | B48: 24 | C48: Perempuan | D48: S-1 | E48: Lainnya | F48: 3 | G48: 3 | H48: 3 | I48: 4 | J48: 3 | K48: 3 | L48: 3 | M48: 3 | N48: 3 | O48: -
... A77: 56 | B77: 33 | C77: Perempuan | D77: SLTA | E77: Instansi Pemkab Sleman | F77: 4 | G77: 4 | H77: 4 | I77: 4 | J77: 4 | K77: 4 | L77: 4 | M77: 4 | N77: 4 | O77: Berjalan baik

Sheet Keuangan-R
D1: SUBBAGIAN KEUANGAN
D2: SEKRETARIAT
A4: Tipe Kuisioner: Rapat
A5: NO | B5: KARAKTERISTIK | C5: INDIKATOR | D5: JUMLAH | E5: PERSENTASE (%)
A6: 1 | B6: Jenis kelamin | C6: Laki-Laki | D6: =COUNTIF(C22:C59,"Laki-Laki") -> 5 | E6: =+D6/25 -> 0.2
C7: Perempuan | D7: =COUNTIF(C22:C59,"Perempuan") -> 33 | E7: =+D7/25 -> 1.32
A8: 2 | B8: Pendidikan | C8: SD Kebawah | D8: =COUNTIF(D22:D59,"SD Kebawah") -> 0 | E8: =+D8/25 -> 0
C9: SLTP | D9: =COUNTIF(D22:D59,"SLTP") -> 1 | E9: =+D9/25 -> 0.04
C10: SLTA | D10: =COUNTIF(D22:D59,"SLTA") -> 6 | E10: =+D10/25 -> 0.24 | J10: `
C11: D1 - D3 - D4 | D11: =COUNTIF(D22:D59,"D1 - D3 - D4") -> 27 | E11: =+D11/25 -> 1.08
C12: S-1 | D12: =COUNTIF(D22:D59,"S-1") -> 4 | E12: =+D12/25 -> 0.16
C13: S-2 ke atas | D13: =COUNTIF(D22:D59,"S-2 ke atas") -> 0 | E13: =+D13/25 -> 0
A14: 3 | B14: Instansi | C14: Instansi Pemkab Sleman | D14: =COUNTIF(E22:E59,"Instansi Pemkab Sleman") -> 37 | E14: =+D14/25 -> 1.48
C15: Pegawai Swasta | D15: =COUNTIF(E22:E59,"Pegawai Swasta") -> 0 | E15: =+D15/25 -> 0
C16: Akademisi | D16: =COUNTIF(E22:E59,"Akademisi") -> 0 | E16: =+D16/25 -> 0
C17: Masyarakat | D17: =COUNTIF(E22:E59,"Masyarakat") -> 0 | E17: =+D17/25 -> 0
C18: Lainnya | D18: =COUNTIF(E22:E59,"Lainnya") -> 1 | E18: =+D18/25 -> 0.04
F19: =AVERAGE(F22:F1000) -> 3.2631579 | G19: =AVERAGE(G22:G1000) -> 3.3947368 | H19: =AVERAGE(H22:H1000) -> 3.2894737 | I19: =AVERAGE(I22:I1000) -> 3.2894737 | J19: =AVERAGE(J22:J1000) -> 3.1842105 | K19: =AVERAGE(K22:K1000) -> 3.4210526 | L19: =AVERAGE(L22:L1000) -> 3.3947368 | M19: =AVERAGE(M22:M1000) -> 3.3421053 | N19: =AVERAGE(N22:N1000) -> 3.1842105
A20: Laporan | Responden | IKM
A21: No | B21: Umur | C21: Jenis Kelamin | D21: Pendidikan | E21: Pekerjaan | F21: U1 | G21: U2 | H21: U3 | I21: U4 | J21: U5 | K21: U6 | L21: U7 | M21: U8 | N21: U9 | O21: Kritik/Saran
A22: 1 | B22: 33 | C22: Perempuan | D22: D1 - D3 - D4 | E22: Instansi Pemkab Sleman | F22: 3 | G22: 3 | H22: 3 | I22: 3 | J22: 3 | K22: 3 | L22: 3 | M22: 3 | N22: 3 | O22: -
A23: 2 | B23: 35 | C23: Perempuan | D23: D1 - D3 - D4 | E23: Instansi Pemkab Sleman | F23: 3 | G23: 4 | H23: 3 | I23: 4 | J23: 4 | K23: 4 | L23: 4 | M23: 3 | N23: 3 | O23: Lanjutkan
A24: 3 | B24: 41 | C24: Perempuan | D24: D1 - D3 - D4 | E24: Instansi Pemkab Sleman | F24: 4 | G24: 4 | H24: 4 | I24: 4 | J24: 4 | K24: 4 | L24: 4 | M24: 4 | N24: 4 | O24: -
A25: 4 | B25: 48 | C25: Perempuan | D25: D1 - D3 - D4 | E25: Instansi Pemkab Sleman | F25: 3 | G25: 3 | H25: 3 | I25: 3 | J25: 3 | K25: 3 | L25: 3 | M25: 3 | N25: 3 | O25: Sudah baik
A26: 5 | B26: 48 | C26: Perempuan | D26: D1 - D3 - D4 | E26: Instansi Pemkab Sleman | F26: 3 | G26: 3 | H26: 3 | I26: 3 | J26: 3 | K26: 3 | L26: 3 | M26: 3 | N26: 3 | O26: Sudah sesuai
A27: 6 | B27: 37 | C27: Perempuan | D27: D1 - D3 - D4 | E27: Instansi Pemkab Sleman | F27: 4 | G27: 4 | H27: 4 | I27: 4 | J27: 3 | K27: 4 | L27: 3 | M27: 3 | N27: 3 | O27: Baik
A28: 7 | B28: 45 | C28: Perempuan | D28: SLTA | E28: Instansi Pemkab Sleman | F28: 3 | G28: 3 | H28: 3 | I28: 3 | J28: 3 | K28: 3 | L28: 4 | M28: 3 | N28: 3 | O28: Sudah baik dipertahankan
A29: 8 | B29: 34 | C29: Perempuan | D29: D1 - D3 - D4 | E29: Instansi Pemkab Sleman | F29: 3 | G29: 4 | H29: 3 | I29: 3 | J29: 3 | K29: 3 | L29: 3 | M29: 3 | N29: 3 | O29: Lanjutkan
A30: 9 | B30: 51 | C30: Perempuan | D30: D1 - D3 - D4 | E30: Instansi Pemkab Sleman | F30: 3 | G30: 3 | H30: 3 | I30: 3 | J30: 3 | K30: 3 | L30: 3 | M30: 3 | N30: 3 | O30: Bulan puasa
A31: 10 | B31: 44 | C31: Perempuan | D31: D1 - D3 - D4 | E31: Instansi Pemkab Sleman | F31: 3 | G31: 3 | H31: 3 | I31: 3 | J31: 3 | K31: 3 | L31: 3 | M31: 3 | N31: 3 | O31: Pertahankan yang lebih baik lagi
A32: 11 | B32: 53 | C32: Perempuan | D32: D1 - D3 - D4 | E32: Instansi Pemkab Sleman | F32: 3 | G32: 3 | H32: 3 | I32: 3 | J32: 3 | K32: 4 | L32: 3 | M32: 3 | N32: 3 | O32: Adanya peningkatan disiplin waktu
A33: 12 | B33: 53 | C33: Perempuan | D33: D1 - D3 - D4 | E33: Instansi Pemkab Sleman | F33: 3 | G33: 3 | H33: 3 | I33: 3 | J33: 3 | K33: 4 | L33: 3 | M33: 3 | N33: 3 | O33: Adanya peningkatan disiplin waktu
... A59: 38 | B59: 55 | C59: Perempuan | D59: S-1 | E59: Instansi Pemkab Sleman | F59: 3 | G59: 3 | H59: 3 | I59: 3 | J59: 3 | K59: 4 | L59: 3 | M59: 3 | N59: 3 | O59: Penyelenggaraan rapat sudah baik materi bagus

Sheet PE-R
D1: BIDANG SEKRETARIAT
D2: TIM KERJA PERENCANAAN DAN EVAUASI
A4: Tipe Kuisioner: Rapat | O4: Laporan | Kritik/Saran | IKM
A5: NO | B5: KARAKTERISTIK | C5: INDIKATOR | D5: JUMLAH | E5: PERSENTASE (%)
A6: 1 | B6: Jenis kelamin | C6: Laki-Laki | D6: =COUNTIF(C22:C51,"Laki-Laki") -> 14 | E6: =+D6/25 -> 0.56
C7: Perempuan | D7: =COUNTIF(C22:C51,"Perempuan") -> 16 | E7: =+D7/25 -> 0.64
A8: 2 | B8: Pendidikan | C8: SD Kebawah | D8: =COUNTIF(D22:D51,"SD Kebawah") -> 0 | E8: =+D8/25 -> 0
C9: SLTP | D9: =COUNTIF(D22:D51,"SLTP") -> 0 | E9: =+D9/25 -> 0
C10: SLTA | D10: =COUNTIF(D22:D51,"SLTA") -> 2 | E10: =+D10/25 -> 0.08
C11: D1 - D3 - D4 | D11: =COUNTIF(D22:D51,"D1 - D3 - D4") -> 4 | E11: =+D11/25 -> 0.16
C12: S-1 | D12: =COUNTIF(D22:D51,"S-1") -> 19 | E12: =+D12/25 -> 0.76
C13: S-2 ke atas | D13: =COUNTIF(D22:D51,"S-2 ke atas") -> 5 | E13: =+D13/25 -> 0.2
A14: 3 | B14: Instansi | C14: Instansi Pemkab Sleman | D14: =COUNTIF(E22:E51,"Instansi Pemkab Sleman") -> 27 | E14: =+D14/25 -> 1.08
C15: Pegawai Swasta | D15: =COUNTIF(E22:E51,"Pegawai Swasta") -> 0 | E15: =+D15/25 -> 0
C16: Akademisi | D16: =COUNTIF(E22:E51,"Akademisi") -> 0 | E16: =+D16/25 -> 0
C17: Masyarakat | D17: =COUNTIF(E22:E51,"Masyarakat") -> 1 | E17: =+D17/25 -> 0.04
C18: Lainnya | D18: =COUNTIF(E22:E51,"Lainnya") -> 2 | E18: =+D18/25 -> 0.08
F19: =AVERAGE(F22:F1000) -> 3.7 | G19: =AVERAGE(G22:G1000) -> 3.6666667 | H19: =AVERAGE(H22:H1000) -> 3.7333333 | I19: =AVERAGE(I22:I1000) -> 3.7666667 | J19: =AVERAGE(J22:J1000) -> 3.5666667 | K19: =AVERAGE(K22:K1000) -> 3.7666667 | L19: =AVERAGE(L22:L1000) -> 3.7333333 | M19: =AVERAGE(M22:M1000) -> 3.5 | N19: =AVERAGE(N22:N1000) -> 3.6666667
A20: Laporan | Responden | IKM
A21: No | B21: Umur | C21: Jenis Kelamin | D21: Pendidikan | E21: Pekerjaan | F21: U1 | G21: U2 | H21: U3 | I21: U4 | J21: U5 | K21: U6 | L21: U7 | M21: U8 | N21: U9 | O21: Kritik/Saran
A22: 1 | B22: 30 | C22: Perempuan | D22: S-1 | E22: Instansi Pemkab Sleman | F22: 4 | G22: 4 | H22: 4 | I22: 4 | J22: 4 | K22: 4 | L22: 4 | M22: 4 | N22: 4 | O22: Pertahankan
A23: 2 | B23: 57 | C23: Laki-Laki | D23: S-2 ke atas | E23: Instansi Pemkab Sleman | F23: 4 | G23: 4 | H23: 4 | I23: 4 | J23: 3 | K23: 4 | L23: 4 | M23: 2 | N23: 3 | O23: Krn keterbatasan tempat shg ruangan kerja utk rapat. Semoga ke depan Dinkes tambah maju program maupun fisik gedungnya
A24: 3 | B24: 57 | C24: Laki-Laki | D24: S-2 ke atas | E24: Instansi Pemkab Sleman | F24: 4 | G24: 4 | H24: 4 | I24: 4 | J24: 3 | K24: 4 | L24: 4 | M24: 2 | N24: 3 | O24: Krn keterbatasan tempat shg ruangan kerja utk rapat. Semoga ke depan Dinkes tambah maju program maupun fisik gedungnya
A25: 4 | B25: 57 | C25: Laki-Laki | D25: S-2 ke atas | E25: Instansi Pemkab Sleman | F25: 4 | G25: 4 | H25: 4 | I25: 4 | J25: 3 | K25: 4 | L25: 4 | M25: 2 | N25: 3 | O25: Krn keterbatasan tempat shg ruangan kerja utk rapat. Semoga ke depan Dinkes tambah maju program maupun fisik gedungnya
A26: 5 | B26: 49 | C26: Laki-Laki | D26: S-1 | E26: Lainnya | F26: 3 | G26: 3 | H26: 3 | I26: 3 | J26: 3 | K26: 3 | L26: 3 | M26: 3 | N26: 3 | O26: Pertahankan dan lanjutkan
A27: 6 | B27: 49 | C27: Laki-Laki | D27: S-1 | E27: Lainnya | F27: 3 | G27: 3 | H27: 3 | I27: 3 | J27: 3 | K27: 3 | L27: 3 | M27: 3 | N27: 3 | O27: Pertahankan dan lanjutkan
A28: 7 | B28: 54 | C28: Perempuan | D28: S-1 | E28: Instansi Pemkab Sleman | F28: 4 | G28: 4 | H28: 4 | I28: 4 | J28: 4 | K28: 4 | L28: 4 | M28: 4 | N28: 4 | O28: -
A29: 8 | B29: 41 | C29: Perempuan | D29: D1 - D3 - D4 | E29: Instansi Pemkab Sleman | F29: 4 | G29: 4 | H29: 4 | I29: 4 | J29: 4 | K29: 4 | L29: 4 | M29: 4 | N29: 4 | O29: Semangattt
A30: 9 | B30: 57 | C30: Laki-Laki | D30: S-1 | E30: Instansi Pemkab Sleman | F30: 4 | G30: 4 | H30: 4 | I30: 4 | J30: 4 | K30: 4 | L30: 4 | M30: 4 | N30: 4 | O30: Bagus pertahankan
A31: 10 | B31: 33 | C31: Perempuan | D31: S-1 | E31: Instansi Pemkab Sleman | F31: 3 | G31: 3 | H31: 3 | I31: 3 | J31: 3 | K31: 3 | L31: 3 | M31: 3 | N31: 3 | O31: Semua sesuai dengan kegiatan
A32: 11 | B32: 34 | C32: Perempuan | D32: S-1 | E32: Instansi Pemkab Sleman | F32: 4 | G32: 4 | H32: 4 | I32: 4 | J32: 4 | K32: 4 | L32: 4 | M32: 4 | N32: 4 | O32: Tetap semangat
A33: 12 | B33: 29 | C33: Perempuan | D33: S-1 | E33: Instansi Pemkab Sleman | F33: 4 | G33: 4 | H33: 4 | I33: 4 | J33: 4 | K33: 4 | L33: 4 | M33: 4 | N33: 4 | O33: makannya enak
... A51: 30 | B51: 32 | C51: Perempuan | D51: SLTA | E51: Instansi Pemkab Sleman | F51: 4 | G51: 3 | H51: 4 | I51: 4 | J51: 4 | K51: 4 | L51: 4 | M51: 4 | N51: 4 | O51: sangat membantu dan selalu ramah dalam menjelaskan permasalahan mohon di pertahankan

Sheet Regli-R
D1: BIDANG YANKES
D2: TIM KERJA REGISTRASI LISENSI MUTU PELAYANAN
A4: Tipe Kuisioner: Rapat
A5: NO | B5: KARAKTERISTIK | C5: INDIKATOR | D5: JUMLAH | E5: PERSENTASE (%)
A6: 1 | B6: Jenis kelamin | C6: Laki-Laki | D6: =COUNTIF(C22:C79,"Laki-Laki") -> 17 | E6: =+D6/33 -> 0.51515152
C7: Perempuan | D7: =COUNTIF(C22:C79,"Perempuan") -> 41 | E7: =+D7/33 -> 1.2424242
A8: 2 | B8: Pendidikan | C8: SD Kebawah | D8: =COUNTIF(D22:D79,"SD Kebawah") -> 0 | E8: =+D8/33 -> 0
C9: SLTP | D9: =COUNTIF(D22:D79,"SLTP") -> 0 | E9: =+D9/33 -> 0
C10: SLTA | D10: =COUNTIF(D22:D79,"SLTA") -> 5 | E10: =+D10/33 -> 0.15151515
C11: D1 - D3 - D4 | D11: =COUNTIF(D22:D79,"D1 - D3 - D4") -> 19 | E11: =+D11/33 -> 0.57575758
C12: S-1 | D12: =COUNTIF(D22:D79,"S-1") -> 24 | E12: =+D12/33 -> 0.72727273
C13: S-2 ke atas | D13: =COUNTIF(D22:D79,"S-2 ke atas") -> 10 | E13: =+D13/33 -> 0.3030303
A14: 3 | B14: Instansi | C14: Instansi Pemkab Sleman | D14: =COUNTIF(E22:E79,"Instansi Pemkab Sleman") -> 36 | E14: =+D14/33 -> 1.0909091
C15: Pegawai Swasta | D15: =COUNTIF(E22:E79,"Pegawai Swasta") -> 16 | E15: =+D15/33 -> 0.48484848
C16: Akademisi | D16: =COUNTIF(E22:E79,"Akademisi") -> 2 | E16: =+D16/33 -> 0.060606061
C17: Masyarakat | D17: =COUNTIF(E22:E79,"Masyarakat") -> 2 | E17: =+D17/33 -> 0.060606061
C18: Lainnya | D18: =COUNTIF(E22:E79,"Lainnya") -> 1 | E18: =+D18/33 -> 0.03030303
F19: =AVERAGE(F22:F1000) -> 3.637931 | G19: =AVERAGE(G22:G1000) -> 3.6896552 | H19: =AVERAGE(H22:H1000) -> 3.6724138 | I19: =AVERAGE(I22:I1000) -> 3.6724138 | J19: =AVERAGE(J22:J1000) -> 3.6034483 | K19: =AVERAGE(K22:K1000) -> 3.7241379 | L19: =AVERAGE(L22:L1000) -> 3.7241379 | M19: =AVERAGE(M22:M1000) -> 3.637931 | N19: =AVERAGE(N22:N1000) -> 3.5517241
A20: Laporan | Responden | IKM
A21: No | B21: Umur | C21: Jenis Kelamin | D21: Pendidikan | E21: Pekerjaan | F21: U1 | G21: U2 | H21: U3 | I21: U4 | J21: U5 | K21: U6 | L21: U7 | M21: U8 | N21: U9 | O21: Kritik/Saran
A22: 1 | B22: 41 | C22: Perempuan | D22: S-2 ke atas | E22: Instansi Pemkab Sleman | F22: 3 | G22: 3 | H22: 3 | I22: 3 | J22: 3 | K22: 3 | L22: 3 | M22: 3 | N22: 3 | O22: Rapatnya terlalu pagi
A23: 2 | B23: 38 | C23: Perempuan | D23: D1 - D3 - D4 | E23: Instansi Pemkab Sleman | F23: 4 | G23: 4 | H23: 4 | I23: 4 | J23: 4 | K23: 4 | L23: 4 | M23: 4 | N23: 3 | O23: Sudah baik
A24: 3 | B24: 48 | C24: Perempuan | D24: S-2 ke atas | E24: Instansi Pemkab Sleman | F24: 4 | G24: 4 | H24: 4 | I24: 4 | J24: 4 | K24: 4 | L24: 4 | M24: 4 | N24: 4 | O24: -
A25: 4 | B25: 43 | C25: Perempuan | D25: S-1 | E25: Instansi Pemkab Sleman | F25: 3 | G25: 3 | H25: 3 | I25: 3 | J25: 4 | K25: 4 | L25: 4 | M25: 3 | N25: 3 | O25: -
A26: 5 | B26: 28 | C26: Laki-Laki | D26: D1 - D3 - D4 | E26: Instansi Pemkab Sleman | F26: 3 | G26: 4 | H26: 4 | I26: 3 | J26: 4 | K26: 4 | L26: 4 | M26: 4 | N26: 3 | O26: Sudah bagus
A27: 6 | B27: 37 | C27: Perempuan | D27: D1 - D3 - D4 | E27: Instansi Pemkab Sleman | F27: 3 | G27: 4 | H27: 4 | I27: 4 | J27: 3 | K27: 4 | L27: 4 | M27: 3 | N27: 3 | O27: -
A28: 7 | B28: 48 | C28: Perempuan | D28: S-2 ke atas | E28: Instansi Pemkab Sleman | F28: 4 | G28: 4 | H28: 4 | I28: 4 | J28: 4 | K28: 4 | L28: 4 | M28: 4 | N28: 4 | O28: Baik
A29: 8 | B29: 44 | C29: Perempuan | D29: S-1 | E29: Instansi Pemkab Sleman | F29: 4 | G29: 4 | H29: 3 | I29: 4 | J29: 3 | K29: 4 | L29: 4 | M29: 4 | N29: 4 | O29: Cukup baik semoga usulan segera bisa kita realisasikan
A30: 9 | B30: 37 | C30: Perempuan | D30: D1 - D3 - D4 | E30: Instansi Pemkab Sleman | F30: 3 | G30: 3 | H30: 3 | I30: 3 | J30: 3 | K30: 3 | L30: 3 | M30: 3 | N30: 3 | O30: Baik
A31: 10 | B31: 48 | C31: Perempuan | D31: S-1 | E31: Instansi Pemkab Sleman | F31: 3 | G31: 3 | H31: 3 | I31: 3 | J31: 3 | K31: 3 | L31: 3 | M31: 3 | N31: 3 | O31: Baik
A32: 11 | B32: 43 | C32: Perempuan | D32: S-1 | E32: Instansi Pemkab Sleman | F32: 3 | G32: 3 | H32: 3 | I32: 3 | J32: 3 | K32: 3 | L32: 3 | M32: 3 | N32: 3 | O32: lanjutkan
A33: 12 | B33: 43 | C33: Perempuan | D33: D1 - D3 - D4 | E33: Instansi Pemkab Sleman | F33: 4 | G33: 4 | H33: 3 | I33: 4 | J33: 4 | K33: 4 | L33: 4 | M33: 4 | N33: 4 | O33: Sangat tepat waktu dan sangat bermafaat
... A79: 58 | B79: 30 | C79: Perempuan | D79: S-1 | E79: Instansi Pemkab Sleman | F79: 4 | G79: 4 | H79: 3 | I79: 4 | J79: 3 | K79: 3 | L79: 3 | M79: 3 | N79: 3 | O79: sip

Sheet Kesus-R
D1: BIDANG YANKES
D2: TIM KERJA KHUSUS DAN PENJAMINAN
A4: Tipe Kuisioner: Rapat
A5: NO | B5: KARAKTERISTIK | C5: INDIKATOR | D5: JUMLAH | E5: PERSENTASE (%)
A6: 1 | B6: Jenis kelamin | C6: Laki-Laki | D6: =COUNTIF(C22:C1000,"Laki-Laki") -> 26 | E6: =+D6/33 -> 0.78787879
C7: Perempuan | D7: =COUNTIF(C22:C1000,"Perempuan") -> 7 | E7: =+D7/33 -> 0.21212121
A8: 2 | B8: Pendidikan | C8: SD Kebawah | D8: =COUNTIF(D22:D1000,"SD Kebawah") -> 0 | E8: =+D8/33 -> 0
C9: SLTP | D9: =COUNTIF(D22:D1000,"SLTP") -> 4 | E9: =+D9/33 -> 0.12121212
C10: SLTA | D10: =COUNTIF(D22:D1000,"SLTA") -> 15 | E10: =+D10/33 -> 0.45454545
C11: D1 - D3-D4 | D11: =COUNTIF(D22:D1000,"D1 - D3 - D4") -> 2 | E11: =+D11/33 -> 0.060606061
C12: S1 | D12: =COUNTIF(D22:D1000,"S-1") -> 12 | E12: =+D12/33 -> 0.36363636
C13: S2 Keatas | D13: =COUNTIF(D22:D1000,"S-2 ke atas") -> 0 | E13: =+D13/33 -> 0
A14: 3 | B14: Instansi | C14: Instansi Pemkab Sleman | D14: =COUNTIF(E22:E1000,"Instansi Pemkab Sleman") -> 2 | E14: =+D14/33 -> 0.060606061
C15: Pegawai Swasta | D15: =COUNTIF(E22:E1000,"Pegawai Swasta") -> 0 | E15: =+D15/33 -> 0
C16: Akademisi | D16: =COUNTIF(E22:E1000,"Akademisi") -> 0 | E16: =+D16/33 -> 0
C17: Masyarakat | D17: =COUNTIF(E22:E1000,"Masyarakat") -> 25 | E17: =+D17/33 -> 0.75757576
C18: Lainnya | D18: =COUNTIF(E22:E1000,"Lainnya") -> 5 | E18: =+D18/33 -> 0.15151515
F19: =AVERAGE(F22:F1000) -> 3.5151515 | G19: =AVERAGE(G22:G1000) -> 3.4545455 | H19: =AVERAGE(H22:H1000) -> 3.5151515 | I19: =AVERAGE(I22:I1000) -> 3.6060606 | J19: =AVERAGE(J22:J1000) -> 3.4545455 | K19: =AVERAGE(K22:K1000) -> 3.5757576 | L19: =AVERAGE(L22:L1000) -> 3.5151515 | M19: =AVERAGE(M22:M1000) -> 3.4545455 | N19: =AVERAGE(N22:N1000) -> 3.3939394
A20: Laporan | Responden | IKM
A21: No | B21: Umur | C21: Jenis Kelamin | D21: Pendidikan | E21: Pekerjaan | F21: U1 | G21: U2 | H21: U3 | I21: U4 | J21: U5 | K21: U6 | L21: U7 | M21: U8 | N21: U9 | O21: Kritik/Saran
A22: 1 | B22: 34 | C22: Laki-Laki | D22: S-1 | E22: Masyarakat | F22: 3 | G22: 3 | H22: 3 | I22: 4 | J22: 3 | K22: 4 | L22: 3 | M22: 3 | N22: 3 | O22: Baik
A23: 2 | B23: 19 | C23: Laki-Laki | D23: SLTA | E23: Masyarakat | F23: 4 | G23: 4 | H23: 4 | I23: 4 | J23: 4 | K23: 4 | L23: 4 | M23: 4 | N23: 4 | O23: memulai acara dengan tepat waktu sesuai dengan rundown
A24: 3 | B24: 44 | C24: Laki-Laki | D24: S-1 | E24: Masyarakat | F24: 3 | G24: 3 | H24: 3 | I24: 3 | J24: 3 | K24: 3 | L24: 3 | M24: 3 | N24: 3 | O24: Sarana audio mikrofon mohon diperbanyak
A25: 4 | B25: 34 | C25: Laki-Laki | D25: S-1 | E25: Masyarakat | F25: 3 | G25: 3 | H25: 3 | I25: 3 | J25: 3 | K25: 3 | L25: 3 | M25: 3 | N25: 3 | O25: bagus
A26: 5 | B26: 46 | C26: Laki-Laki | D26: D1 - D3 - D4 | E26: Instansi Pemkab Sleman | F26: 3 | G26: 4 | H26: 4 | I26: 4 | J26: 4 | K26: 4 | L26: 4 | M26: 4 | N26: 3 | O26: Mantap
A27: 6 | B27: 28 | C27: Laki-Laki | D27: SLTA | E27: Masyarakat | F27: 3 | G27: 3 | H27: 3 | I27: 4 | J27: 4 | K27: 4 | L27: 3 | M27: 3 | N27: 3 | O27: Semoga ada pelatihan selanjutnya
A28: 7 | B28: 48 | C28: Laki-Laki | D28: SLTA | E28: Masyarakat | F28: 4 | G28: 4 | H28: 4 | I28: 4 | J28: 3 | K28: 4 | L28: 4 | M28: 3 | N28: 3 | O28: Alhamdulillah sangat menarik dan sangat bermanfaatharapan kami adanya upaya pelatihan dilini wargamasyarakat
A29: 8 | B29: 29 | C29: Laki-Laki | D29: S-1 | E29: Masyarakat | F29: 3 | G29: 3 | H29: 3 | I29: 3 | J29: 3 | K29: 3 | L29: 3 | M29: 3 | N29: 3 | O29: sudah baik dipertahankan
A30: 9 | B30: 26 | C30: Laki-Laki | D30: SLTA | E30: Masyarakat | F30: 3 | G30: 3 | H30: 4 | I30: 4 | J30: 3 | K30: 3 | L30: 3 | M30: 3 | N30: 3 | O30: Untuk kegiatan pelatihan semoga tidak hanya satu hari
A31: 10 | B31: 39 | C31: Laki-Laki | D31: SLTP | E31: Masyarakat | F31: 3 | G31: 3 | H31: 3 | I31: 4 | J31: 3 | K31: 3 | L31: 3 | M31: 3 | N31: 3 | O31: Lebih sering diadakan saja.agar lebih paham dan jelas
A32: 11 | B32: 41 | C32: Laki-Laki | D32: SLTA | E32: Instansi Pemkab Sleman | F32: 4 | G32: 4 | H32: 4 | I32: 4 | J32: 4 | K32: 4 | L32: 4 | M32: 4 | N32: 4 | O32: Mantap
A33: 12 | B33: 48 | C33: Laki-Laki | D33: SLTA | E33: Masyarakat | F33: 4 | G33: 4 | H33: 4 | I33: 4 | J33: 3 | K33: 4 | L33: 4 | M33: 4 | N33: 3 | O33: Alhamdulillah sangat bermanfaat untuk peningkatan kerja kamiharapan upaya adanya hal ini dilakukan di lini wargamasyarakat
... A54: 33 | B54: 45 | C54: Laki-Laki | D54: SLTA | E54: Masyarakat | F54: 4 | G54: 4 | H54: 4 | I54: 4 | J54: 4 | K54: 4 | L54: 4 | M54: 4 | N54: 4 | O54: Mantab Acaranya sering2 di adakan dan banyak sekali manfaat nya dan menambah ilmu kita semua

Sheet Kesdas-R
D1: BIDANG YANKES
D2: TIM KERJA KESEHATAN DASAR DAN RUJUKAN
A4: Tipe Kuisioner: Rapat
A5: NO | B5: KARAKTERISTIK | C5: INDIKATOR | D5: JUMLAH | E5: PERSENTASE (%)
A6: 1 | B6: Jenis kelamin | C6: Laki-Laki | D6: =COUNTIF(C22:C1000,"Laki-Laki") -> 45 | E6: =+D6/33 -> 1.3636364
C7: Perempuan | D7: =COUNTIF(C22:C1000,"Perempuan") -> 88 | E7: =+D7/33 -> 2.6666667
A8: 2 | B8: Pendidikan | C8: SD Kebawah | D8: =COUNTIF(D22:D1000,"SD Kebawah") -> 0 | E8: =+D8/33 -> 0
C9: SLTP | D9: =COUNTIF(D22:D1000,"SLTP") -> 0 | E9: =+D9/33 -> 0
C10: SLTA | D10: =COUNTIF(D22:D1000,"SLTA") -> 4 | E10: =+D10/33 -> 0.12121212
C11: D1 - D3 - D4 | D11: =COUNTIF(D22:D1000,"D1 - D3 - D4") -> 59 | E11: =+D11/33 -> 1.7878788
C12: S-1 | D12: =COUNTIF(D22:D1000,"S-1") -> 56 | E12: =+D12/33 -> 1.6969697
C13: S-2 ke atas | D13: =COUNTIF(D22:D1000,"S-2 ke atas") -> 14 | E13: =+D13/33 -> 0.42424242
A14: 3 | B14: Instansi | C14: Instansi Pemkab Sleman | D14: =COUNTIF(E22:E1000,"Instansi Pemkab Sleman") -> 82 | E14: =+D14/33 -> 2.4848485
C15: Pegawai Swasta | D15: =COUNTIF(E22:E1000,"Pegawai Swasta") -> 30 | E15: =+D15/33 -> 0.90909091
C16: Akademisi | D16: =COUNTIF(E22:E1000,"Akademisi") -> 0 | E16: =+D16/33 -> 0
C17: Masyarakat | D17: =COUNTIF(E22:E1000,"Masyarakat") -> 2 | E17: =+D17/33 -> 0.060606061
C18: Lainnya | D18: =COUNTIF(E22:E1000,"Lainnya") -> 19 | E18: =+D18/33 -> 0.57575758
F19: =AVERAGE(F22:F1000) -> 3.3533835 | G19: =AVERAGE(G22:G1000) -> 3.3609023 | H19: =AVERAGE(H22:H1000) -> 3.4210526 | I19: =AVERAGE(I22:I1000) -> 3.4135338 | J19: =AVERAGE(J22:J1000) -> 3.3233083 | K19: =AVERAGE(K22:K1000) -> 3.4210526 | L19: =AVERAGE(L22:L1000) -> 3.4360902 | M19: =AVERAGE(M22:M1000) -> 3.4135338 | N19: =AVERAGE(N22:N1000) -> 3.3533835
A20: Laporan | Responden | IKM
A21: No | B21: Umur | C21: Jenis Kelamin | D21: Pendidikan | E21: Pekerjaan | F21: U1 | G21: U2 | H21: U3 | I21: U4 | J21: U5 | K21: U6 | L21: U7 | M21: U8 | N21: U9 | O21: Kritik/Saran
A22: 1 | B22: 33 | C22: Perempuan | D22: S-1 | E22: Instansi Pemkab Sleman | F22: 4 | G22: 3 | H22: 4 | I22: 4 | J22: 3 | K22: 4 | L22: 4 | M22: 3 | N22: 3 | O22: Rapat berjalan dengan baik lancar narasumber dan panitia ramah dan menyenangkan lokasi rapat nyaman sedikit masukan apabila disarankan membawa laptop perlu disediakan stop kontak di area dekat tempat duduk peserta. Terima kasih
A23: 2 | B23: 27 | C23: Laki-Laki | D23: D1 - D3 - D4 | E23: Instansi Pemkab Sleman | F23: 4 | G23: 4 | H23: 4 | I23: 4 | J23: 4 | K23: 4 | L23: 4 | M23: 4 | N23: 4 | O23: Sudah baik
A24: 3 | B24: 57 | C24: Perempuan | D24: D1 - D3 - D4 | E24: Instansi Pemkab Sleman | F24: 3 | G24: 3 | H24: 3 | I24: 3 | J24: 3 | K24: 3 | L24: 3 | M24: 3 | N24: 3 | O24: Sudah cukup baik
A25: 4 | B25: 25 | C25: Perempuan | D25: D1 - D3 - D4 | E25: Pegawai Swasta | F25: 4 | G25: 4 | H25: 4 | I25: 4 | J25: 4 | K25: 4 | L25: 4 | M25: 4 | N25: 4 | O25: -
A26: 5 | B26: 35 | C26: Laki-Laki | D26: D1 - D3 - D4 | E26: Lainnya | F26: 3 | G26: 3 | H26: 3 | I26: 3 | J26: 3 | K26: 3 | L26: 3 | M26: 3 | N26: 3 | O26: Baik
A27: 6 | B27: 34 | C27: Laki-Laki | D27: SLTA | E27: Instansi Pemkab Sleman | F27: 3 | G27: 3 | H27: 3 | I27: 3 | J27: 3 | K27: 3 | L27: 3 | M27: 3 | N27: 3 | O27: Mantap
A28: 7 | B28: 36 | C28: Laki-Laki | D28: D1 - D3 - D4 | E28: Lainnya | F28: 3 | G28: 3 | H28: 3 | I28: 3 | J28: 3 | K28: 3 | L28: 3 | M28: 3 | N28: 3 | O28: Bagus
A29: 8 | B29: 34 | C29: Laki-Laki | D29: D1 - D3 - D4 | E29: Instansi Pemkab Sleman | F29: 4 | G29: 4 | H29: 4 | I29: 4 | J29: 4 | K29: 4 | L29: 4 | M29: 4 | N29: 4 | O29: Rapat untuk koordinasi P3K idul fitri dilakukan pagi hari
A30: 9 | B30: 57 | C30: Laki-Laki | D30: D1 - D3 - D4 | E30: Instansi Pemkab Sleman | F30: 3 | G30: 3 | H30: 3 | I30: 3 | J30: 3 | K30: 3 | L30: 4 | M30: 4 | N30: 3 | O30: Baik
A31: 10 | B31: 31 | C31: Perempuan | D31: D1 - D3 - D4 | E31: Pegawai Swasta | F31: 3 | G31: 3 | H31: 3 | I31: 3 | J31: 3 | K31: 3 | L31: 3 | M31: 3 | N31: 3 | O31: cukup
A32: 11 | B32: 30 | C32: Perempuan | D32: D1 - D3 - D4 | E32: Pegawai Swasta | F32: 3 | G32: 3 | H32: 3 | I32: 3 | J32: 3 | K32: 3 | L32: 3 | M32: 3 | N32: 3 | O32: good job
A33: 12 | B33: 48 | C33: Perempuan | D33: S-1 | E33: Pegawai Swasta | F33: 4 | G33: 4 | H33: 4 | I33: 4 | J33: 4 | K33: 4 | L33: 4 | M33: 4 | N33: 4 | O33: Lebih baik dan pertahankan
... A154: 133 | B154: 40 | C154: Perempuan | D154: S-1 | E154: Instansi Pemkab Sleman | F154: 3 | G154: 3 | H154: 3 | I154: 3 | J154: 3 | K154: 3 | L154: 3 | M154: 3 | N154: 3 | O154: Baik

Sheet Promkes-R
D1: BIDANG P2P
D2: TIM KERJA SURVEILANS DAN IMUNISASI
A4: Tipe Kuisioner: Rapat
A5: NO | B5: KARAKTERISTIK | C5: INDIKATOR | D5: JUMLAH | E5: PERSENTASE (%)
A6: 1 | B6: Jenis kelamin | C6: Laki-Laki | D6: =COUNTIF(C22:C1000,"Laki-Laki") -> 25 | E6: =+D6/40 -> 0.625
C7: Perempuan | D7: =COUNTIF(C22:C1000,"Perempuan") -> 34 | E7: =+D7/40 -> 0.85
A8: 2 | B8: Pendidikan | C8: SD Kebawah | D8: =COUNTIF(D22:D1000,"SD Kebawah") -> 0 | E8: =+D8/40 -> 0
C9: SLTP | D9: =COUNTIF(D22:D1000,"SLTP") -> 0 | E9: =+D9/40 -> 0
C10: SLTA | D10: =COUNTIF(D22:D1000,"SLTA") -> 10 | E10: =+D10/40 -> 0.25
C11: D1 - D3 - D4 | D11: =COUNTIF(D22:D1000,"D1 - D3 - D4") -> 28 | E11: =+D11/40 -> 0.7
C12: S-1 | D12: =COUNTIF(D22:D1000,"S-1") -> 16 | E12: =+D12/40 -> 0.4
C13: S-2 ke atas | D13: =COUNTIF(D22:D1000,"S-2 ke atas") -> 5 | E13: =+D13/40 -> 0.125
A14: 3 | B14: Instansi | C14: Instansi Pemkab Sleman | D14: =COUNTIF(E22:E1000,"Instansi Pemkab Sleman") -> 34 | E14: =+D14/40 -> 0.85
C15: Pegawai Swasta | D15: =COUNTIF(E22:E1000,"Pegawai Swasta") -> 0 | E15: =+D15/40 -> 0
C16: Akademisi | D16: =COUNTIF(E22:E1000,"Akademisi") -> 0 | E16: =+D16/40 -> 0
C17: Masyarakat | D17: =COUNTIF(E22:E1000,"Masyarakat") -> 2 | E17: =+D17/40 -> 0.05
C18: Lainnya | D18: =COUNTIF(E22:E1000,"Lainnya") -> 23 | E18: =+D18/40 -> 0.575
F19: =AVERAGE(F22:F1000) -> 3.2711864 | G19: =AVERAGE(G22:G1000) -> 3.2881356 | H19: =AVERAGE(H22:H1000) -> 3.3559322 | I19: =AVERAGE(I22:I1000) -> 3.2881356 | J19: =AVERAGE(J22:J1000) -> 3.2033898 | K19: =AVERAGE(K22:K1000) -> 3.3559322 | L19: =AVERAGE(L22:L1000) -> 3.3559322 | M19: =AVERAGE(M22:M1000) -> 3.3728814 | N19: =AVERAGE(N22:N1000) -> 3.3220339
A20: Laporan | Responden | IKM
A21: No | B21: Umur | C21: Jenis Kelamin | D21: Pendidikan | E21: Pekerjaan | F21: U1 | G21: U2 | H21: U3 | I21: U4 | J21: U5 | K21: U6 | L21: U7 | M21: U8 | N21: U9 | O21: Kritik/Saran
A22: 1 | B22: 41 | C22: Laki-Laki | D22: S-2 ke atas | E22: Instansi Pemkab Sleman | F22: 4 | G22: 4 | H22: 4 | I22: 4 | J22: 4 | K22: 4 | L22: 4 | M22: 4 | N22: 4 | O22: Bagus
A23: 2 | B23: 41 | C23: Laki-Laki | D23: SLTA | E23: Masyarakat | F23: 4 | G23: 3 | H23: 4 | I23: 4 | J23: 3 | K23: 3 | L23: 4 | M23: 4 | N23: 3 | O23: Bagus
A24: 3 | B24: 43 | C24: Perempuan | D24: S-1 | E24: Lainnya | F24: 3 | G24: 3 | H24: 3 | I24: 3 | J24: 3 | K24: 3 | L24: 3 | M24: 3 | N24: 3 | O24: Semoga kedepan bisa lebih meningkat....
A25: 4 | B25: 30 | C25: Laki-Laki | D25: S-1 | E25: Lainnya | F25: 3 | G25: 3 | H25: 4 | I25: 3 | J25: 3 | K25: 4 | L25: 4 | M25: 3 | N25: 3 | O25: Sudah bagus mencoba hal baru dengan lokasi rapat yang jarang dikunjungi
A26: 5 | B26: 52 | C26: Perempuan | D26: SLTA | E26: Lainnya | F26: 3 | G26: 3 | H26: 4 | I26: 4 | J26: 3 | K26: 4 | L26: 4 | M26: 4 | N26: 4 | O26: Pertahankan yang sudah ada.. Lebih baik lagi ditingkatkan..
A27: 6 | B27: 62 | C27: Laki-Laki | D27: S-1 | E27: Lainnya | F27: 4 | G27: 4 | H27: 4 | I27: 4 | J27: 4 | K27: 4 | L27: 4 | M27: 4 | N27: 4 | O27: Perlu dipertahankan
A28: 7 | B28: 50 | C28: Perempuan | D28: S-1 | E28: Lainnya | F28: 3 | G28: 3 | H28: 3 | I28: 3 | J28: 3 | K28: 4 | L28: 3 | M28: 4 | N28: 3 | O28: pertahankan sleman emang keren
A29: 8 | B29: 58 | C29: Laki-Laki | D29: SLTA | E29: Lainnya | F29: 4 | G29: 4 | H29: 4 | I29: 4 | J29: 4 | K29: 4 | L29: 4 | M29: 4 | N29: 4 | O29: Sangat baik
A30: 9 | B30: 58 | C30: Laki-Laki | D30: SLTA | E30: Lainnya | F30: 4 | G30: 4 | H30: 4 | I30: 4 | J30: 4 | K30: 4 | L30: 4 | M30: 4 | N30: 4 | O30: Sangat baik
A31: 10 | B31: 58 | C31: Laki-Laki | D31: SLTA | E31: Lainnya | F31: 4 | G31: 4 | H31: 4 | I31: 4 | J31: 4 | K31: 4 | L31: 4 | M31: 4 | N31: 4 | O31: Sangat baik
A32: 11 | B32: 48 | C32: Laki-Laki | D32: S-2 ke atas | E32: Lainnya | F32: 4 | G32: 3 | H32: 4 | I32: 4 | J32: 3 | K32: 4 | L32: 4 | M32: 4 | N32: 3 | O32: Baik
A33: 12 | B33: 55 | C33: Laki-Laki | D33: SLTA | E33: Lainnya | F33: 3 | G33: 3 | H33: 3 | I33: 3 | J33: 3 | K33: 3 | L33: 3 | M33: 3 | N33: 3 | O33: Lanjutkan
... A80: 59 | B80: 37 | C80: Perempuan | D80: D1 - D3 - D4 | E80: Instansi Pemkab Sleman | F80: 3 | G80: 3 | H80: 3 | I80: 3 | J80: 3 | K80: 3 | L80: 3 | M80: 3 | N80: 3 | O80: Baik

Sheet GiziKIA-R
D1: BIDANG P2P
D2: TIM KERJA SURVEILANS DAN IMUNISASI
A4: Tipe Kuisioner: Rapat
A5: NO | B5: KARAKTERISTIK | C5: INDIKATOR | D5: JUMLAH | E5: PERSENTASE (%)
A6: 1 | B6: Jenis kelamin | C6: Laki-Laki | D6: =COUNTIF(C22:C1000,"Laki-Laki") -> 3 | E6: =+D6/40 -> 0.075
C7: Perempuan | D7: =COUNTIF(C22:C1000,"Perempuan") -> 51 | E7: =+D7/40 -> 1.275
A8: 2 | B8: Pendidikan | C8: SD Kebawah | D8: =COUNTIF(D22:D1000,"SD Kebawah") -> 0 | E8: =+D8/40 -> 0
C9: SLTP | D9: =COUNTIF(D22:D1000,"SLTP") -> 0 | E9: =+D9/40 -> 0
C10: SLTA | D10: =COUNTIF(D22:D1000,"SLTA") -> 0 | E10: =+D10/40 -> 0
C11: D1 - D3 - D4 | D11: =COUNTIF(D22:D1000,"D1 - D3 - D4") -> 39 | E11: =+D11/40 -> 0.975
C12: S-1 | D12: =COUNTIF(D22:D1000,"S-1") -> 12 | E12: =+D12/40 -> 0.3
C13: S-2 ke atas | D13: =COUNTIF(D22:D1000,"S-2 ke atas") -> 3 | E13: =+D13/40 -> 0.075
A14: 3 | B14: Instansi | C14: Instansi Pemkab Sleman | D14: =COUNTIF(E22:E1000,"Instansi Pemkab Sleman") -> 44 | E14: =+D14/40 -> 1.1
C15: Pegawai Swasta | D15: =COUNTIF(E22:E1000,"Pegawai Swasta") -> 6 | E15: =+D15/40 -> 0.15
C16: Akademisi | D16: =COUNTIF(E22:E1000,"Akademisi") -> 4 | E16: =+D16/40 -> 0.1
C17: Masyarakat | D17: =COUNTIF(E22:E1000,"Masyarakat") -> 0 | E17: =+D17/40 -> 0
C18: Lainnya | D18: =COUNTIF(E22:E1000,"Lainnya") -> 0 | E18: =+D18/40 -> 0
F19: =AVERAGE(F22:F1000) -> 3.5185185 | G19: =AVERAGE(G22:G1000) -> 3.537037 | H19: =AVERAGE(H22:H1000) -> 3.6111111 | I19: =AVERAGE(I22:I1000) -> 3.6481481 | J19: =AVERAGE(J22:J1000) -> 3.2222222 | K19: =AVERAGE(K22:K1000) -> 3.6296296 | L19: =AVERAGE(L22:L1000) -> 3.6296296 | M19: =AVERAGE(M22:M1000) -> 3.6111111 | N19: =AVERAGE(N22:N1000) -> 3.6481481
A20: Laporan | Responden | IKM
A21: No | B21: Umur | C21: Jenis Kelamin | D21: Pendidikan | E21: Pekerjaan | F21: U1 | G21: U2 | H21: U3 | I21: U4 | J21: U5 | K21: U6 | L21: U7 | M21: U8 | N21: U9 | O21: Kritik/Saran
A22: 1 | B22: 40 | C22: Perempuan | D22: D1 - D3 - D4 | E22: Instansi Pemkab Sleman | F22: 4 | G22: 4 | H22: 3 | I22: 4 | J22: 3 | K22: 4 | L22: 4 | M22: 4 | N22: 4 | O22: Alhamdulillah tempat rapatnya nyaman ademmm sejuk
A23: 2 | B23: 24 | C23: Perempuan | D23: D1 - D3 - D4 | E23: Instansi Pemkab Sleman | F23: 3 | G23: 3 | H23: 3 | I23: 3 | J23: 3 | K23: 3 | L23: 3 | M23: 4 | N23: 3 | O23: -
A24: 3 | B24: 49 | C24: Perempuan | D24: D1 - D3 - D4 | E24: Instansi Pemkab Sleman | F24: 4 | G24: 4 | H24: 4 | I24: 4 | J24: 4 | K24: 4 | L24: 4 | M24: 4 | N24: 4 | O24: Baik
A25: 4 | B25: 27 | C25: Perempuan | D25: D1 - D3 - D4 | E25: Instansi Pemkab Sleman | F25: 4 | G25: 4 | H25: 4 | I25: 4 | J25: 4 | K25: 4 | L25: 4 | M25: 4 | N25: 4 | O25: sudah bagus
A26: 5 | B26: 43 | C26: Perempuan | D26: D1 - D3 - D4 | E26: Instansi Pemkab Sleman | F26: 3 | G26: 3 | H26: 3 | I26: 3 | J26: 3 | K26: 3 | L26: 3 | M26: 3 | N26: 3 | O26: Sudah baik
A27: 6 | B27: 41 | C27: Perempuan | D27: S-1 | E27: Instansi Pemkab Sleman | F27: 3 | G27: 3 | H27: 3 | I27: 3 | J27: 3 | K27: 3 | L27: 3 | M27: 3 | N27: 3 | O27: Oke
A28: 7 | B28: 28 | C28: Perempuan | D28: D1 - D3 - D4 | E28: Instansi Pemkab Sleman | F28: 3 | G28: 3 | H28: 3 | I28: 3 | J28: 3 | K28: 3 | L28: 3 | M28: 3 | N28: 3 | O28: sudah baik
A29: 8 | B29: 48 | C29: Perempuan | D29: D1 - D3 - D4 | E29: Instansi Pemkab Sleman | F29: 3 | G29: 3 | H29: 3 | I29: 3 | J29: 3 | K29: 3 | L29: 3 | M29: 4 | N29: 3 | O29: Tingkatkan
A30: 9 | B30: 24 | C30: Perempuan | D30: D1 - D3 - D4 | E30: Instansi Pemkab Sleman | F30: 4 | G30: 4 | H30: 4 | I30: 4 | J30: 4 | K30: 4 | L30: 4 | M30: 4 | N30: 4 | O30: Sudah baik
A31: 10 | B31: 33 | C31: Perempuan | D31: D1 - D3 - D4 | E31: Instansi Pemkab Sleman | F31: 4 | G31: 3 | H31: 3 | I31: 4 | J31: 3 | K31: 3 | L31: 3 | M31: 3 | N31: 3 | O31: Baik
A32: 11 | B32: 55 | C32: Perempuan | D32: D1 - D3 - D4 | E32: Instansi Pemkab Sleman | F32: 3 | G32: 3 | H32: 3 | I32: 3 | J32: 2 | K32: 3 | L32: 3 | M32: 3 | N32: 3 | O32: Acara bisa dimulai tepat waktu agar lebih efisien
A33: 12 | B33: 29 | C33: Perempuan | D33: D1 - D3 - D4 | E33: Instansi Pemkab Sleman | F33: 3 | G33: 3 | H33: 3 | I33: 3 | J33: 3 | K33: 3 | L33: 3 | M33: 3 | N33: 3 | O33: Penambahan colokan laptop untuk co workingnya
... A75: 54 | B75: 31 | C75: Laki-Laki | D75: S-1 | E75: Instansi Pemkab Sleman | F75: 4 | G75: 4 | H75: 4 | I75: 3 | J75: 4 | K75: 4 | L75: 4 | M75: 4 | N75: 4 | O75: Sudah baik pertahankan

Sheet Keswapol-R
D1: BIDANG P2P
D2: TIM KERJA SURVEILANS DAN IMUNISASI
A4: Tipe Kuisioner: Rapat
A5: NO | B5: KARAKTERISTIK | C5: INDIKATOR | D5: JUMLAH | E5: PERSENTASE (%)
A6: 1 | B6: Jenis kelamin | C6: Laki-Laki | D6: =COUNTIF(C22:C1000,"Laki-Laki") -> 4 | E6: =+D6/40 -> 0.1
C7: Perempuan | D7: =COUNTIF(C22:C1000,"Perempuan") -> 36 | E7: =+D7/40 -> 0.9
A8: 2 | B8: Pendidikan | C8: SD Kebawah | D8: =COUNTIF(D22:D1000,"SD Kebawah") -> 0 | E8: =+D8/40 -> 0
C9: SLTP | D9: =COUNTIF(D22:D1000,"SLTP") -> 0 | E9: =+D9/40 -> 0
C10: SLTA | D10: =COUNTIF(D22:D1000,"SLTA") -> 0 | E10: =+D10/40 -> 0
C11: D1 - D3 - D4 | D11: =COUNTIF(D22:D1000,"D1 - D3 - D4") -> 14 | E11: =+D11/40 -> 0.35
C12: S-1 | D12: =COUNTIF(D22:D1000,"S-1") -> 23 | E12: =+D12/40 -> 0.575
C13: S-2 ke atas | D13: =COUNTIF(D22:D1000,"S-2 ke atas") -> 3 | E13: =+D13/40 -> 0.075
A14: 3 | B14: Instansi | C14: Instansi Pemkab Sleman | D14: =COUNTIF(E22:E1000,"Instansi Pemkab Sleman") -> 36 | E14: =+D14/40 -> 0.9
C15: Pegawai Swasta | D15: =COUNTIF(E22:E1000,"Pegawai Swasta") -> 0 | E15: =+D15/40 -> 0
C16: Akademisi | D16: =COUNTIF(E22:E1000,"Akademisi") -> 0 | E16: =+D16/40 -> 0
C17: Masyarakat | D17: =COUNTIF(E22:E1000,"Masyarakat") -> 0 | E17: =+D17/40 -> 0
C18: Lainnya | D18: =COUNTIF(E22:E1000,"Lainnya") -> 4 | E18: =+D18/40 -> 0.1
F19: =AVERAGE(F22:F1000) -> 3.35 | G19: =AVERAGE(G22:G1000) -> 3.325 | H19: =AVERAGE(H22:H1000) -> 3.375 | I19: =AVERAGE(I22:I1000) -> 3.375 | J19: =AVERAGE(J22:J1000) -> 3.3 | K19: =AVERAGE(K22:K1000) -> 3.375 | L19: =AVERAGE(L22:L1000) -> 3.325 | M19: =AVERAGE(M22:M1000) -> 3.325 | N19: =AVERAGE(N22:N1000) -> 3.325
A20: Laporan | Responden | IKM
A21: No | B21: Umur | C21: Jenis Kelamin | D21: Pendidikan | E21: Pekerjaan | F21: U1 | G21: U2 | H21: U3 | I21: U4 | J21: U5 | K21: U6 | L21: U7 | M21: U8 | N21: U9 | O21: Kritik/Saran
A22: 1 | B22: 37 | C22: Perempuan | D22: S-1 | E22: Instansi Pemkab Sleman | F22: 4 | G22: 4 | H22: 4 | I22: 4 | J22: 3 | K22: 4 | L22: 4 | M22: 4 | N22: 4 | O22: Pelayanan baik pertahankan.
A23: 2 | B23: 38 | C23: Perempuan | D23: S-1 | E23: Lainnya | F23: 4 | G23: 4 | H23: 4 | I23: 4 | J23: 4 | K23: 4 | L23: 4 | M23: 4 | N23: 4 | O23: Pertahankan yg sdh sangat baik
A24: 3 | B24: 41 | C24: Perempuan | D24: D1 - D3 - D4 | E24: Instansi Pemkab Sleman | F24: 4 | G24: 4 | H24: 4 | I24: 4 | J24: 3 | K24: 4 | L24: 4 | M24: 4 | N24: 4 | O24: Baik lanjutkan
A25: 4 | B25: 27 | C25: Laki-Laki | D25: S-2 ke atas | E25: Lainnya | F25: 4 | G25: 4 | H25: 4 | I25: 4 | J25: 4 | K25: 4 | L25: 4 | M25: 4 | N25: 4 | O25: Sudah sangat baik
A26: 5 | B26: 31 | C26: Perempuan | D26: S-1 | E26: Lainnya | F26: 4 | G26: 4 | H26: 4 | I26: 4 | J26: 4 | K26: 4 | L26: 4 | M26: 4 | N26: 4 | O26: Terimakasih Dinkes Sleman CKG nya mantap
A27: 6 | B27: 29 | C27: Perempuan | D27: S-1 | E27: Lainnya | F27: 3 | G27: 3 | H27: 3 | I27: 3 | J27: 3 | K27: 3 | L27: 3 | M27: 3 | N27: 3 | O27: Sudah baik tingkatkan terus
A28: 7 | B28: 37 | C28: Perempuan | D28: S-1 | E28: Instansi Pemkab Sleman | F28: 4 | G28: 4 | H28: 4 | I28: 4 | J28: 4 | K28: 4 | L28: 4 | M28: 4 | N28: 4 | O28: baik
A29: 8 | B29: 31 | C29: Perempuan | D29: D1 - D3 - D4 | E29: Instansi Pemkab Sleman | F29: 3 | G29: 3 | H29: 3 | I29: 3 | J29: 3 | K29: 3 | L29: 3 | M29: 3 | N29: 3 | O29: Mantap
A30: 9 | B30: 35 | C30: Laki-Laki | D30: S-1 | E30: Instansi Pemkab Sleman | F30: 3 | G30: 3 | H30: 3 | I30: 3 | J30: 3 | K30: 4 | L30: 3 | M30: 3 | N30: 3 | O30: Sudah baik lanjutkan
A31: 10 | B31: 49 | C31: Perempuan | D31: D1 - D3 - D4 | E31: Instansi Pemkab Sleman | F31: 3 | G31: 3 | H31: 3 | I31: 3 | J31: 3 | K31: 3 | L31: 3 | M31: 3 | N31: 3 | O31: Baik
A32: 11 | B32: 35 | C32: Perempuan | D32: D1 - D3 - D4 | E32: Instansi Pemkab Sleman | F32: 4 | G32: 4 | H32: 4 | I32: 4 | J32: 4 | K32: 4 | L32: 4 | M32: 4 | N32: 4 | O32: Sudah baik
A33: 12 | B33: 31 | C33: Perempuan | D33: D1 - D3 - D4 | E33: Instansi Pemkab Sleman | F33: 3 | G33: 3 | H33: 3 | I33: 3 | J33: 3 | K33: 3 | L33: 3 | M33: 3 | N33: 3 | O33: Materi sudah sesuai
... A61: 40 | B61: 21 | C61: Perempuan | D61: S-1 | E61: Instansi Pemkab Sleman | F61: 3 | G61: 3 | H61: 3 | I61: 3 | J61: 3 | K61: 3 | L61: 3 | M61: 3 | N61: 3 | O61: Baik

Sheet Survim-R
D1: BIDANG P2P
D2: TIM KERJA SURVEILANS DAN IMUNISASI
A4: Tipe Kuisioner: Rapat
A5: NO | B5: KARAKTERISTIK | C5: INDIKATOR | D5: JUMLAH | E5: PERSENTASE (%)
A6: 1 | B6: Jenis kelamin | C6: Laki-Laki | D6: =COUNTIF(C22:C1000,"Laki-Laki") -> 15 | E6: =+D6/40 -> 0.375
C7: Perempuan | D7: =COUNTIF(C22:C1000,"Perempuan") -> 85 | E7: =+D7/40 -> 2.125
A8: 2 | B8: Pendidikan | C8: SD Kebawah | D8: =COUNTIF(D22:D1000,"SD Kebawah") -> 0 | E8: =+D8/40 -> 0
C9: SLTP | D9: =COUNTIF(D22:D1000,"SLTP") -> 0 | E9: =+D9/40 -> 0
C10: SLTA | D10: =COUNTIF(D22:D1000,"SLTA") -> 0 | E10: =+D10/40 -> 0
C11: D1 - D3 - D4 | D11: =COUNTIF(D22:D1000,"D1 - D3 - D4") -> 59 | E11: =+D11/40 -> 1.475
C12: S-1 | D12: =COUNTIF(D22:D1000,"S-1") -> 36 | E12: =+D12/40 -> 0.9
C13: S-2 ke atas | D13: =COUNTIF(D22:D1000,"S-2 ke atas") -> 5 | E13: =+D13/40 -> 0.125
A14: 3 | B14: Instansi | C14: Instansi Pemkab Sleman | D14: =COUNTIF(E22:E1000,"Instansi Pemkab Sleman") -> 71 | E14: =+D14/40 -> 1.775
C15: Pegawai Swasta | D15: =COUNTIF(E22:E1000,"Pegawai Swasta") -> 16 | E15: =+D15/40 -> 0.4
C16: Akademisi | D16: =COUNTIF(E22:E1000,"Akademisi") -> 0 | E16: =+D16/40 -> 0
C17: Masyarakat | D17: =COUNTIF(E22:E1000,"Masyarakat") -> 0 | E17: =+D17/40 -> 0
C18: Lainnya | D18: =COUNTIF(E22:E1000,"Lainnya") -> 13 | E18: =+D18/40 -> 0.325
F19: =AVERAGE(F22:F1000) -> 3.46 | G19: =AVERAGE(G22:G1000) -> 3.48 | H19: =AVERAGE(H22:H1000) -> 3.52 | I19: =AVERAGE(I22:I1000) -> 3.54 | J19: =AVERAGE(J22:J1000) -> 3.44 | K19: =AVERAGE(K22:K1000) -> 3.56 | L19: =AVERAGE(L22:L1000) -> 3.56 | M19: =AVERAGE(M22:M1000) -> 3.55 | N19: =AVERAGE(N22:N1000) -> 3.49
A20: Laporan | Responden | IKM
A21: No | B21: Umur | C21: Jenis Kelamin | D21: Pendidikan | E21: Pekerjaan | F21: U1 | G21: U2 | H21: U3 | I21: U4 | J21: U5 | K21: U6 | L21: U7 | M21: U8 | N21: U9 | O21: Kritik/Saran
A22: 1 | B22: 43 | C22: Perempuan | D22: D1 - D3 - D4 | E22: Instansi Pemkab Sleman | F22: 4 | G22: 4 | H22: 4 | I22: 4 | J22: 4 | K22: 4 | L22: 4 | M22: 4 | N22: 4 | O22: Sudah baik
A23: 2 | B23: 48 | C23: Perempuan | D23: D1 - D3 - D4 | E23: Instansi Pemkab Sleman | F23: 3 | G23: 3 | H23: 3 | I23: 3 | J23: 3 | K23: 3 | L23: 3 | M23: 3 | N23: 3 | O23: On time
A24: 3 | B24: 28 | C24: Perempuan | D24: D1 - D3 - D4 | E24: Instansi Pemkab Sleman | F24: 3 | G24: 4 | H24: 3 | I24: 3 | J24: 3 | K24: 3 | L24: 3 | M24: 3 | N24: 3 | O24: sudah baik
A25: 4 | B25: 35 | C25: Perempuan | D25: D1 - D3 - D4 | E25: Instansi Pemkab Sleman | F25: 3 | G25: 4 | H25: 4 | I25: 4 | J25: 4 | K25: 4 | L25: 4 | M25: 4 | N25: 3 | O25: Tampilan layar terlihat kurang jelas dari baris ke 4
A26: 5 | B26: 56 | C26: Perempuan | D26: D1 - D3 - D4 | E26: Instansi Pemkab Sleman | F26: 3 | G26: 3 | H26: 4 | I26: 4 | J26: 3 | K26: 4 | L26: 3 | M26: 3 | N26: 3 | O26: Secara umum pelaksanaan sdh baik
A27: 6 | B27: 50 | C27: Perempuan | D27: S-1 | E27: Instansi Pemkab Sleman | F27: 3 | G27: 3 | H27: 4 | I27: 4 | J27: 3 | K27: 4 | L27: 4 | M27: 3 | N27: 3 | O27: Sangat nyaman tempatnya narsum ok
A28: 7 | B28: 30 | C28: Perempuan | D28: D1 - D3 - D4 | E28: Instansi Pemkab Sleman | F28: 3 | G28: 3 | H28: 3 | I28: 3 | J28: 3 | K28: 3 | L28: 3 | M28: 3 | N28: 3 | O28: Untuk jam kegiatan kalau bisa jgn jam nanggung
A29: 8 | B29: 34 | C29: Perempuan | D29: D1 - D3 - D4 | E29: Instansi Pemkab Sleman | F29: 3 | G29: 3 | H29: 3 | I29: 3 | J29: 3 | K29: 3 | L29: 3 | M29: 3 | N29: 3 | O29: Sudah baik
A30: 9 | B30: 35 | C30: Perempuan | D30: D1 - D3 - D4 | E30: Instansi Pemkab Sleman | F30: 4 | G30: 4 | H30: 4 | I30: 4 | J30: 4 | K30: 4 | L30: 4 | M30: 4 | N30: 4 | O30: Baik
A31: 10 | B31: 36 | C31: Perempuan | D31: D1 - D3 - D4 | E31: Instansi Pemkab Sleman | F31: 3 | G31: 3 | H31: 3 | I31: 3 | J31: 3 | K31: 3 | L31: 3 | M31: 3 | N31: 3 | O31: Baik
A32: 11 | B32: 37 | C32: Perempuan | D32: D1 - D3 - D4 | E32: Instansi Pemkab Sleman | F32: 4 | G32: 4 | H32: 4 | I32: 4 | J32: 4 | K32: 4 | L32: 4 | M32: 4 | N32: 4 | O32: Sudah sangat baik
A33: 12 | B33: 27 | C33: Perempuan | D33: D1 - D3 - D4 | E33: Instansi Pemkab Sleman | F33: 4 | G33: 3 | H33: 3 | I33: 3 | J33: 3 | K33: 3 | L33: 3 | M33: 4 | N33: 3 | O33: Sudah sesuai
... A121: 100 | B121: 41 | C121: Laki-Laki | D121: S-1 | E121: Instansi Pemkab Sleman | F121: 4 | G121: 4 | H121: 4 | I121: 4 | J121: 4 | K121: 4 | L121: 4 | M121: 4 | N121: 4 | O121: sudah berjalan baik

Sheet P2P-R
D1: BIDANG P2P
D2: TIM KERJA PENCEGAHAN DAN PENGENDALIAN PENYAKIT
A4: Tipe Kuisioner: Rapat
A5: NO | B5: KARAKTERISTIK | C5: INDIKATOR | D5: JUMLAH | E5: PERSENTASE (%)
A6: 1 | B6: Jenis kelamin | C6: Laki-Laki | D6: =COUNTIF(C22:C1000,"Laki-Laki") -> 13 | E6: =+D6/40 -> 0.325
C7: Perempuan | D7: =COUNTIF(C22:C1000,"Perempuan") -> 107 | E7: =+D7/40 -> 2.675
A8: 2 | B8: Pendidikan | C8: SD Kebawah | D8: =COUNTIF(D22:D1000,"SD Kebawah") -> 0 | E8: =+D8/40 -> 0
C9: SLTP | D9: =COUNTIF(D22:D1000,"SLTP") -> 0 | E9: =+D9/40 -> 0
C10: SLTA | D10: =COUNTIF(D22:D1000,"SLTA") -> 2 | E10: =+D10/40 -> 0.05
C11: D1 - D3 - D4 | D11: =COUNTIF(D22:D1000,"D1 - D3 - D4") -> 70 | E11: =+D11/40 -> 1.75
C12: S-1 | D12: =COUNTIF(D22:D1000,"S-1") -> 42 | E12: =+D12/40 -> 1.05
C13: S-2 ke atas | D13: =COUNTIF(D22:D1000,"S-2 ke atas") -> 6 | E13: =+D13/40 -> 0.15
A14: 3 | B14: Instansi | C14: Instansi Pemkab Sleman | D14: =COUNTIF(E22:E1000,"Instansi Pemkab Sleman") -> 76 | E14: =+D14/40 -> 1.9
C15: Pegawai Swasta | D15: =COUNTIF(E22:E1000,"Pegawai Swasta") -> 26 | E15: =+D15/40 -> 0.65
C16: Akademisi | D16: =COUNTIF(E22:E1000,"Akademisi") -> 1 | E16: =+D16/40 -> 0.025
C17: Masyarakat | D17: =COUNTIF(E22:E1000,"Masyarakat") -> 3 | E17: =+D17/40 -> 0.075
C18: Lainnya | D18: =COUNTIF(E22:E1000,"Lainnya") -> 12 | E18: =+D18/40 -> 0.3
F19: =AVERAGE(F22:F1000) -> 3.2416667 | G19: =AVERAGE(G22:G1000) -> 3.2583333 | H19: =AVERAGE(H22:H1000) -> 3.2833333 | I19: =AVERAGE(I22:I1000) -> 3.2916667 | J19: =AVERAGE(J22:J1000) -> 3.2333333 | K19: =AVERAGE(K22:K1000) -> 3.3 | L19: =AVERAGE(L22:L1000) -> 3.325 | M19: =AVERAGE(M22:M1000) -> 3.2833333 | N19: =AVERAGE(N22:N1000) -> 3.2333333
A20: Laporan | Responden | IKM
A21: # | B21: Umur | C21: Jenis Kelamin | D21: Pendidikan | E21: Pekerjaan | F21: U1 | G21: U2 | H21: U3 | I21: U4 | J21: U5 | K21: U6 | L21: U7 | M21: U8 | N21: U9 | O21: Kritik/Saran
A22: 1 | B22: 33 | C22: Perempuan | D22: D1 - D3 - D4 | E22: Instansi Pemkab Sleman | F22: 3 | G22: 3 | H22: 3 | I22: 3 | J22: 3 | K22: 3 | L22: 3 | M22: 3 | N22: 3 | O22: Sudah baik
A23: 2 | B23: 34 | C23: Perempuan | D23: S-1 | E23: Instansi Pemkab Sleman | F23: 3 | G23: 3 | H23: 3 | I23: 3 | J23: 3 | K23: 3 | L23: 3 | M23: 3 | N23: 3 | O23: Sudah bagus
A24: 3 | B24: 33 | C24: Perempuan | D24: S-2 ke atas | E24: Instansi Pemkab Sleman | F24: 4 | G24: 4 | H24: 4 | I24: 4 | J24: 4 | K24: 4 | L24: 4 | M24: 4 | N24: 4 | O24: -
A25: 4 | B25: 47 | C25: Perempuan | D25: S-1 | E25: Instansi Pemkab Sleman | F25: 4 | G25: 4 | H25: 4 | I25: 4 | J25: 4 | K25: 4 | L25: 4 | M25: 4 | N25: 4 | O25: Baikkk
A26: 5 | B26: 54 | C26: Perempuan | D26: S-1 | E26: Lainnya | F26: 4 | G26: 4 | H26: 4 | I26: 4 | J26: 4 | K26: 4 | L26: 4 | M26: 4 | N26: 4 | O26: Sudah baik lanjutkan
A27: 6 | B27: 31 | C27: Perempuan | D27: S-1 | E27: Pegawai Swasta | F27: 4 | G27: 3 | H27: 4 | I27: 4 | J27: 4 | K27: 4 | L27: 4 | M27: 4 | N27: 3 | O27: Kegiatan sudah dilaksanakan dengan baik
A28: 7 | B28: 54 | C28: Perempuan | D28: S-1 | E28: Lainnya | F28: 4 | G28: 4 | H28: 4 | I28: 4 | J28: 4 | K28: 4 | L28: 4 | M28: 4 | N28: 4 | O28: Sdh bagus
A29: 8 | B29: 46 | C29: Perempuan | D29: S-1 | E29: Lainnya | F29: 3 | G29: 4 | H29: 4 | I29: 4 | J29: 4 | K29: 4 | L29: 4 | M29: 4 | N29: 4 | O29: Pertemuan yang sangat bermanfaat
A30: 9 | B30: 31 | C30: Perempuan | D30: S-1 | E30: Instansi Pemkab Sleman | F30: 4 | G30: 3 | H30: 3 | I30: 4 | J30: 3 | K30: 4 | L30: 4 | M30: 4 | N30: 3 | O30: sudah baik
A31: 10 | B31: 36 | C31: Perempuan | D31: S-1 | E31: Lainnya | F31: 3 | G31: 4 | H31: 4 | I31: 4 | J31: 3 | K31: 4 | L31: 4 | M31: 4 | N31: 4 | O31: Sudah baik. Ditunggu bimtek selanjutnya.
A32: 11 | B32: 54 | C32: Perempuan | D32: S-1 | E32: Lainnya | F32: 4 | G32: 4 | H32: 4 | I32: 4 | J32: 4 | K32: 4 | L32: 4 | M32: 4 | N32: 4 | O32: Sdh bagus
A33: 12 | B33: 35 | C33: Perempuan | D33: S-1 | E33: Instansi Pemkab Sleman | F33: 4 | G33: 3 | H33: 4 | I33: 3 | J33: 3 | K33: 3 | L33: 4 | M33: 3 | N33: 3 | O33: Lanjutkan
... A65: 44 | B65: 44 | C65: Perempuan | D65: D1 - D3 - D4 | E65: Instansi Pemkab Sleman | F65: 3 | G65: 3 | H65: 3 | I65: 3 | J65: 3 | K65: 4 | L65: 4 | M65: 4 | N65: 3 | O65: Semakin baik yaa
A66: 45 | B66: 31 | C66: Perempuan | D66: D1 - D3 - D4 | E66: Instansi Pemkab Sleman | F66: 3 | G66: 3 | H66: 3 | I66: 3 | J66: 3 | K66: 3 | L66: 3 | M66: 3 | N66: 3
A67: 46 | B67: 30 | C67: Perempuan | D67: D1 - D3 - D4 | E67: Instansi Pemkab Sleman | F67: 3 | G67: 3 | H67: 3 | I67: 3 | J67: 3 | K67: 4 | L67: 3 | M67: 3 | N67: 3 | O67: Terimakasih atas undangannya
A68: 47 | B68: 31 | C68: Perempuan | D68: D1 - D3 - D4 | E68: Instansi Pemkab Sleman | F68: 3 | G68: 3 | H68: 3 | I68: 3 | J68: 3 | K68: 3 | L68: 3 | M68: 3 | N68: 3 | O68: sudah baik
A69: 48 | B69: 42 | C69: Perempuan | D69: S-1 | E69: Instansi Pemkab Sleman | F69: 3 | G69: 3 | H69: 3 | I69: 3 | J69: 3 | K69: 3 | L69: 3 | M69: 3 | N69: 3 | O69: Xx
A70: 49 | B70: 31 | C70: Perempuan | D70: D1 - D3 - D4 | E70: Instansi Pemkab Sleman | F70: 3 | G70: 3 | H70: 3 | I70: 3 | J70: 3 | K70: 3 | L70: 3 | M70: 3 | N70: 3 | O70: sudah baik
A71: 50 | B71: 41 | C71: Laki-Laki | D71: S-1 | E71: Instansi Pemkab Sleman | F71: 3 | G71: 3 | H71: 3 | I71: 3 | J71: 3 | K71: 3 | L71: 3 | M71: 3 | N71: 3 | O71: sudah baik dilanjutkan
A72: 51 | B72: 27 | C72: Perempuan | D72: D1 - D3 - D4 | E72: Instansi Pemkab Sleman | F72: 3 | G72: 3 | H72: 3 | I72: 3 | J72: 3 | K72: 3 | L72: 3 | M72: 3 | N72: 3 | O72: Sudah baik
A73: 52 | B73: 38 | C73: Perempuan | D73: D1 - D3 - D4 | E73: Instansi Pemkab Sleman | F73: 3 | G73: 3 | H73: 3 | I73: 3 | J73: 3 | K73: 3 | L73: 3 | M73: 3 | N73: 3 | O73: Baik
A74: 53 | B74: 27 | C74: Perempuan | D74: D1 - D3 - D4 | E74: Instansi Pemkab Sleman | F74: 3 | G74: 3 | H74: 3 | I74: 3 | J74: 3 | K74: 3 | L74: 3 | M74: 3 | N74: 3 | O74: Sudah baik
A75: 54 | B75: 45 | C75: Perempuan | D75: D1 - D3 - D4 | E75: Instansi Pemkab Sleman | F75: 3 | G75: 3 | H75: 3 | I75: 3 | J75: 3 | K75: 3 | L75: 3 | M75: 3 | N75: 3 | O75: Utk program PTM lebih sering koordinasi
A76: 55 | B76: 39 | C76: Perempuan | D76: S-1 | E76: Instansi Pemkab Sleman | F76: 3 | G76: 3 | H76: 3 | I76: 3 | J76: 3 | K76: 3 | L76: 3 | M76: 3 | N76: 3 | O76: Pelaksanana sudah baik namun sebaiknya undangan disesuaikan dg jam pelayanan puskesmas
A77: 56 | B77: 36 | C77: Perempuan | D77: D1 - D3 - D4 | E77: Instansi Pemkab Sleman | F77: 3 | G77: 3 | H77: 3 | I77: 3 | J77: 3 | K77: 3 | L77: 3 | M77: 3 | N77: 3 | O77: Baik
A78: 57 | B78: 33 | C78: Perempuan | D78: D1 - D3 - D4 | E78: Instansi Pemkab Sleman | F78: 3 | G78: 3 | H78: 3 | I78: 3 | J78: 3 | K78: 3 | L78: 3 | M78: 3 | N78: 3 | O78: Sudah baik
... A141: 120 | B141: 30 | C141: Perempuan | D141: D1 - D3 - D4 | E141: Instansi Pemkab Sleman | F141: 3 | G141: 3 | H141: 3 | I141: 3 | J141: 3 | K141: 3 | L141: 3 | M141: 3 | N141: 3 | O141: Sudah baik

Sheet Kesling-R
D1: BIDANG P2P
D2: TIM KERJA PENYEHATAN LINGKUNGAN
A4: Tipe Kuisioner: Rapat
A5: NO | B5: KARAKTERISTIK | C5: INDIKATOR | D5: JUMLAH | E5: PERSENTASE (%)
A6: 1 | B6: Jenis kelamin | C6: Laki-Laki | D6: =COUNTIF(C22:C1000,"Laki-Laki") -> 8 | E6: =+D6/40 -> 0.2
C7: Perempuan | D7: =COUNTIF(C22:C1000,"Perempuan") -> 32 | E7: =+D7/40 -> 0.8
A8: 2 | B8: Pendidikan | C8: SD Kebawah | D8: =COUNTIF(D22:D1000,"SD Kebawah") -> 0 | E8: =+D8/40 -> 0
C9: SLTP | D9: =COUNTIF(D22:D1000,"SLTP") -> 0 | E9: =+D9/40 -> 0
C10: SLTA | D10: =COUNTIF(D22:D1000,"SLTA") -> 0 | E10: =+D10/40 -> 0
C11: D1 - D3 - D4 | D11: =COUNTIF(D22:D1000,"D1 - D3 - D4") -> 26 | E11: =+D11/40 -> 0.65
C12: S-1 | D12: =COUNTIF(D22:D1000,"S-1") -> 7 | E12: =+D12/40 -> 0.175
C13: S-2 ke atas | D13: =COUNTIF(D22:D1000,"S-2 ke atas") -> 7 | E13: =+D13/40 -> 0.175
A14: 3 | B14: Instansi | C14: Instansi Pemkab Sleman | D14: =COUNTIF(E22:E1000,"Instansi Pemkab Sleman") -> 38 | E14: =+D14/40 -> 0.95
C15: Pegawai Swasta | D15: =COUNTIF(E22:E1000,"Pegawai Swasta") -> 0 | E15: =+D15/40 -> 0
C16: Akademisi | D16: =COUNTIF(E22:E1000,"Akademisi") -> 0 | E16: =+D16/40 -> 0
C17: Masyarakat | D17: =COUNTIF(E22:E1000,"Masyarakat") -> 0 | E17: =+D17/40 -> 0
C18: Lainnya | D18: =COUNTIF(E22:E1000,"Lainnya") -> 2 | E18: =+D18/40 -> 0.05
F19: =AVERAGE(F22:F1000) -> 3.55 | G19: =AVERAGE(G22:G1000) -> 3.525 | H19: =AVERAGE(H22:H1000) -> 3.6 | I19: =AVERAGE(I22:I1000) -> 3.575 | J19: =AVERAGE(J22:J1000) -> 3.175 | K19: =AVERAGE(K22:K1000) -> 3.5 | L19: =AVERAGE(L22:L1000) -> 3.55 | M19: =AVERAGE(M22:M1000) -> 3.525 | N19: =AVERAGE(N22:N1000) -> 3.275
A20: Laporan | Responden | IKM
A21: # | B21: Umur | C21: Jenis Kelamin | D21: Pendidikan | E21: Pekerjaan | F21: U1 | G21: U2 | H21: U3 | I21: U4 | J21: U5 | K21: U6 | L21: U7 | M21: U8 | N21: U9 | O21: Kritik/Saran
A22: 1 | B22: 31 | C22: Perempuan | D22: D1 - D3 - D4 | E22: Instansi Pemkab Sleman | F22: 4 | G22: 3 | H22: 4 | I22: 4 | J22: 3 | K22: 4 | L22: 4 | M22: 4 | N22: 4 | O22: Baik
A23: 2 | B23: 39 | C23: Perempuan | D23: D1 - D3 - D4 | E23: Instansi Pemkab Sleman | F23: 2 | G23: 2 | H23: 4 | I23: 3 | J23: 2 | K23: 3 | L23: 3 | M23: 3 | N23: 3 | O23: Hanya soal waktu saja... Semoga bisa lebih tepat waktu
A24: 3 | B24: 54 | C24: Perempuan | D24: S-1 | E24: Instansi Pemkab Sleman | F24: 4 | G24: 3 | H24: 3 | I24: 3 | J24: 3 | K24: 3 | L24: 3 | M24: 3 | N24: 3 | O24: Waktu kurang on time
A25: 4 | B25: 44 | C25: Perempuan | D25: S-2 ke atas | E25: Instansi Pemkab Sleman | F25: 3 | G25: 3 | H25: 3 | I25: 3 | J25: 3 | K25: 3 | L25: 3 | M25: 3 | N25: 3 | O25: Pertahankan n diharapkan selalu update info peraturan terbaru agar terinfokan secara baik menambah pengetahuan peserta
A26: 5 | B26: 46 | C26: Perempuan | D26: S-2 ke atas | E26: Instansi Pemkab Sleman | F26: 3 | G26: 3 | H26: 3 | I26: 3 | J26: 3 | K26: 3 | L26: 3 | M26: 3 | N26: 3 | O26: -
A27: 6 | B27: 57 | C27: Perempuan | D27: S-1 | E27: Instansi Pemkab Sleman | F27: 4 | G27: 4 | H27: 4 | I27: 4 | J27: 3 | K27: 3 | L27: 3 | M27: 3 | N27: 4 | O27: Sudah sesuai tp msh bisa ditingkatkan lagi
A28: 7 | B28: 56 | C28: Laki-Laki | D28: S-1 | E28: Instansi Pemkab Sleman | F28: 4 | G28: 4 | H28: 4 | I28: 3 | J28: 3 | K28: 4 | L28: 4 | M28: 4 | N28: 4 | O28: Good job
A29: 8 | B29: 50 | C29: Laki-Laki | D29: S-2 ke atas | E29: Instansi Pemkab Sleman | F29: 4 | G29: 4 | H29: 4 | I29: 3 | J29: 3 | K29: 3 | L29: 4 | M29: 3 | N29: 3 | O29: Pendingin ruangan rapat bisa lebih dioptimalkan mengingat peserta rapat cukup banyak.
A30: 9 | B30: 50 | C30: Laki-Laki | D30: S-2 ke atas | E30: Instansi Pemkab Sleman | F30: 4 | G30: 4 | H30: 4 | I30: 4 | J30: 3 | K30: 3 | L30: 4 | M30: 3 | N30: 3 | O30: Pendingin ruangan rapat bisa lebih dioptimalkan lagi mengingat jumlah peserta rapat yang cukup banyak.
A31: 10 | B31: 39 | C31: Perempuan | D31: D1 - D3 - D4 | E31: Instansi Pemkab Sleman | F31: 4 | G31: 4 | H31: 4 | I31: 4 | J31: 4 | K31: 4 | L31: 4 | M31: 4 | N31: 4 | O31: Sudah baik
A32: 11 | B32: 27 | C32: Perempuan | D32: D1 - D3 - D4 | E32: Instansi Pemkab Sleman | F32: 3 | G32: 3 | H32: 3 | I32: 3 | J32: 3 | K32: 3 | L32: 3 | M32: 3 | N32: 3 | O32: Baik
A33: 12 | B33: 30 | C33: Perempuan | D33: D1 - D3 - D4 | E33: Instansi Pemkab Sleman | F33: 3 | G33: 3 | H33: 3 | I33: 3 | J33: 3 | K33: 3 | L33: 3 | M33: 3 | N33: 3 | O33: Baik
... A61: 40 | B61: 52 | C61: Laki-Laki | D61: S-2 ke atas | E61: Instansi Pemkab Sleman | F61: 4 | G61: 4 | H61: 4 | I61: 4 | J61: 4 | K61: 4 | L61: 4 | M61: 4 | N61: 4 | O61: Bagus lanjutkan

Sheet PSDK-R
D1: BIDANG SDK
D2: TIM KERJA SARANA PRASARANA
A4: Tipe Kuisioner: Rapat
A5: NO | B5: KARAKTERISTIK | C5: INDIKATOR | D5: JUMLAH | E5: PERSENTASE (%)
A6: 1 | B6: Jenis kelamin | C6: Laki-Laki | D6: =COUNTIF(C22:C1000,"Laki-Laki") -> 8 | E6: =+D6/33 -> 0.24242424
C7: Perempuan | D7: =COUNTIF(C22:C1000,"Perempuan") -> 71 | E7: =+D7/33 -> 2.1515152
A8: 2 | B8: Pendidikan | C8: SD Kebawah | D8: =COUNTIF(D22:D1000,"SD Kebawah") -> 0 | E8: =+D8/33 -> 0
C9: SLTP | D9: =COUNTIF(D22:D1000,"SLTP") -> 0 | E9: =+D9/33 -> 0
C10: SLTA | D10: =COUNTIF(D22:D1000,"SLTA") -> 7 | E10: =+D10/33 -> 0.21212121
C11: D1 - D3 - D4 | D11: =COUNTIF(D22:D1000,"D1 - D3 - D4") -> 48 | E11: =+D11/33 -> 1.4545455
C12: S-1 | D12: =COUNTIF(D22:D1000,"S-1") -> 18 | E12: =+D12/33 -> 0.54545455
C13: S-2 ke atas | D13: =COUNTIF(D22:D1000,"S-2 ke atas") -> 6 | E13: =+D13/33 -> 0.18181818
A14: 3 | B14: Instansi | C14: Instansi Pemkab Sleman | D14: =COUNTIF(E22:E1000,"Instansi Pemkab Sleman") -> 60 | E14: =+D14/33 -> 1.8181818
C15: Pegawai Swasta | D15: =COUNTIF(E22:E1000,"Pegawai Swasta") -> 16 | E15: =+D15/33 -> 0.48484848
C16: Akademisi | D16: =COUNTIF(E22:E1000,"Akademisi") -> 0 | E16: =+D16/33 -> 0
C17: Masyarakat | D17: =COUNTIF(E22:E1000,"Masyarakat") -> 0 | E17: =+D17/33 -> 0
C18: Lainnya | D18: =COUNTIF(E22:E1000,"Lainnya") -> 3 | E18: =+D18/33 -> 0.090909091
F19: =AVERAGE(F22:F1000) -> 3.2151899 | G19: =AVERAGE(G22:G1000) -> 3.2658228 | H19: =AVERAGE(H22:H1000) -> 3.3164557 | I19: =AVERAGE(I22:I1000) -> 3.2531646 | J19: =AVERAGE(J22:J1000) -> 3.164557 | K19: =AVERAGE(K22:K1000) -> 3.3291139 | L19: =AVERAGE(L22:L1000) -> 3.278481 | M19: =AVERAGE(M22:M1000) -> 3.3037975 | N19: =AVERAGE(N22:N1000) -> 3.2151899
A20: Laporan | Responden | IKM
A21: No | B21: Umur | C21: Jenis Kelamin | D21: Pendidikan | E21: Pekerjaan | F21: U1 | G21: U2 | H21: U3 | I21: U4 | J21: U5 | K21: U6 | L21: U7 | M21: U8 | N21: U9 | O21: Kritik/Saran
A22: 1 | B22: 36 | C22: Perempuan | D22: D1 - D3 - D4 | E22: Pegawai Swasta | F22: 3 | G22: 3 | H22: 3 | I22: 3 | J22: 3 | K22: 3 | L22: 3 | M22: 3 | N22: 3 | O22: Lanjutkan
A23: 2 | B23: 24 | C23: Perempuan | D23: D1 - D3 - D4 | E23: Pegawai Swasta | F23: 4 | G23: 4 | H23: 4 | I23: 4 | J23: 4 | K23: 4 | L23: 4 | M23: 4 | N23: 4 | O23: Terima kasih
A24: 3 | B24: 29 | C24: Perempuan | D24: D1 - D3 - D4 | E24: Pegawai Swasta | F24: 4 | G24: 4 | H24: 4 | I24: 3 | J24: 4 | K24: 4 | L24: 4 | M24: 4 | N24: 4 | O24: sesuai
A25: 4 | B25: 25 | C25: Perempuan | D25: S-1 | E25: Pegawai Swasta | F25: 3 | G25: 3 | H25: 3 | I25: 3 | J25: 3 | K25: 3 | L25: 3 | M25: 3 | N25: 3 | O25: Sudah baik
A26: 5 | B26: 24 | C26: Perempuan | D26: D1 - D3 - D4 | E26: Pegawai Swasta | F26: 3 | G26: 3 | H26: 3 | I26: 3 | J26: 3 | K26: 3 | L26: 3 | M26: 3 | N26: 3 | O26: -
A27: 6 | B27: 30 | C27: Perempuan | D27: S-1 | E27: Instansi Pemkab Sleman | F27: 3 | G27: 3 | H27: 3 | I27: 3 | J27: 3 | K27: 3 | L27: 3 | M27: 3 | N27: 3 | O27: Lebih on time
A28: 7 | B28: 37 | C28: Perempuan | D28: S-2 ke atas | E28: Instansi Pemkab Sleman | F28: 4 | G28: 4 | H28: 4 | I28: 4 | J28: 4 | K28: 4 | L28: 4 | M28: 4 | N28: 4 | O28: Bagus
A29: 8 | B29: 39 | C29: Perempuan | D29: S-1 | E29: Instansi Pemkab Sleman | F29: 3 | G29: 3 | H29: 3 | I29: 3 | J29: 3 | K29: 3 | L29: 3 | M29: 3 | N29: 3 | O29: Baik
A30: 9 | B30: 47 | C30: Perempuan | D30: S-1 | E30: Instansi Pemkab Sleman | F30: 3 | G30: 3 | H30: 3 | I30: 3 | J30: 3 | K30: 3 | L30: 3 | M30: 3 | N30: 3 | O30: Dibuat grub utk komunikasi terkait sds pws
A31: 10 | B31: 47 | C31: Perempuan | D31: S-1 | E31: Instansi Pemkab Sleman | F31: 3 | G31: 3 | H31: 3 | I31: 3 | J31: 3 | K31: 3 | L31: 3 | M31: 3 | N31: 3 | O31: Dibuat grub utk komunikasi terkait sds pws
A32: 11 | B32: 50 | C32: Perempuan | D32: D1 - D3 - D4 | E32: Instansi Pemkab Sleman | F32: 3 | G32: 3 | H32: 3 | I32: 3 | J32: 3 | K32: 3 | L32: 3 | M32: 3 | N32: 3 | O32: -
A33: 12 | B33: 35 | C33: Perempuan | D33: D1 - D3 - D4 | E33: Pegawai Swasta | F33: 2 | G33: 3 | H33: 3 | I33: 3 | J33: 3 | K33: 3 | L33: 3 | M33: 4 | N33: 3 | O33: -
... A100: 79 | B100: 46 | C100: Perempuan | D100: SLTA | E100: Instansi Pemkab Sleman | F100: 3 | G100: 3 | H100: 3 | I100: 3 | J100: 3 | K100: 3 | L100: 3 | M100: 3 | N100: 3 | O100: Sdh bagus sekali mohon di pertahankan

Sheet Sarpras-R
D1: BIDANG SDK
D2: TIM KERJA SARANA PRASARANA
A4: Tipe Kuisioner: Rapat
A5: NO | B5: KARAKTERISTIK | C5: INDIKATOR | D5: JUMLAH | E5: PERSENTASE (%)
A6: 1 | B6: Jenis kelamin | C6: Laki-Laki | D6: =COUNTIF(C22:C1000,"Laki-Laki") -> 20 | E6: =+D6/33 -> 0.60606061
C7: Perempuan | D7: =COUNTIF(C22:C1000,"Perempuan") -> 36 | E7: =+D7/33 -> 1.0909091
A8: 2 | B8: Pendidikan | C8: SD Kebawah | D8: =COUNTIF(D22:D1000,"SD Kebawah") -> 0 | E8: =+D8/33 -> 0
C9: SLTP | D9: =COUNTIF(D22:D1000,"SLTP") -> 0 | E9: =+D9/33 -> 0
C10: SLTA | D10: =COUNTIF(D22:D1000,"SLTA") -> 11 | E10: =+D10/33 -> 0.33333333
C11: D1 - D3 - D4 | D11: =COUNTIF(D22:D1000,"D1 - D3 - D4") -> 28 | E11: =+D11/33 -> 0.84848485
C12: S-1 | D12: =COUNTIF(D22:D1000,"S-1") -> 15 | E12: =+D12/33 -> 0.45454545
C13: S-2 ke atas | D13: =COUNTIF(D22:D1000,"S-2 ke atas") -> 2 | E13: =+D13/33 -> 0.060606061
A14: 3 | B14: Instansi | C14: Instansi Pemkab Sleman | D14: =COUNTIF(E22:E1000,"Instansi Pemkab Sleman") -> 36 | E14: =+D14/33 -> 1.0909091
C15: Pegawai Swasta | D15: =COUNTIF(E22:E1000,"Pegawai Swasta") -> 17 | E15: =+D15/33 -> 0.51515152
C16: Akademisi | D16: =COUNTIF(E22:E1000,"Akademisi") -> 0 | E16: =+D16/33 -> 0
C17: Masyarakat | D17: =COUNTIF(E22:E1000,"Masyarakat") -> 0 | E17: =+D17/33 -> 0
C18: Lainnya | D18: =COUNTIF(E22:E1000,"Lainnya") -> 3 | E18: =+D18/33 -> 0.090909091
F19: =AVERAGE(F22:F1000) -> 3.3571429 | G19: =AVERAGE(G22:G1000) -> 3.4107143 | H19: =AVERAGE(H22:H1000) -> 3.4285714 | I19: =AVERAGE(I22:I1000) -> 3.3928571 | J19: =AVERAGE(J22:J1000) -> 3.3928571 | K19: =AVERAGE(K22:K1000) -> 3.4821429 | L19: =AVERAGE(L22:L1000) -> 3.4464286 | M19: =AVERAGE(M22:M1000) -> 3.3571429 | N19: =AVERAGE(N22:N1000) -> 3.3571429
A20: Laporan | Responden | IKM
A21: No | B21: Umur | C21: Jenis Kelamin | D21: Pendidikan | E21: Pekerjaan | F21: U1 | G21: U2 | H21: U3 | I21: U4 | J21: U5 | K21: U6 | L21: U7 | M21: U8 | N21: U9 | O21: Kritik/Saran
A22: 1 | B22: 39 | C22: Perempuan | D22: D1 - D3 - D4 | E22: Instansi Pemkab Sleman | F22: 3 | G22: 3 | H22: 3 | I22: 3 | J22: 3 | K22: 3 | L22: 3 | M22: 3 | N22: 3 | O22: Sesuai
A23: 2 | B23: 46 | C23: Perempuan | D23: S-2 ke atas | E23: Instansi Pemkab Sleman | F23: 3 | G23: 3 | H23: 3 | I23: 3 | J23: 3 | K23: 3 | L23: 3 | M23: 3 | N23: 3 | O23: Sudah sesuai
A24: 3 | B24: 42 | C24: Perempuan | D24: D1 - D3 - D4 | E24: Instansi Pemkab Sleman | F24: 3 | G24: 3 | H24: 3 | I24: 3 | J24: 2 | K24: 3 | L24: 3 | M24: 3 | N24: 3 | O24: Ok
A25: 4 | B25: 42 | C25: Perempuan | D25: D1 - D3 - D4 | E25: Instansi Pemkab Sleman | F25: 3 | G25: 3 | H25: 3 | I25: 3 | J25: 2 | K25: 3 | L25: 3 | M25: 3 | N25: 3 | O25: Ok
A26: 5 | B26: 45 | C26: Laki-Laki | D26: D1 - D3 - D4 | E26: Instansi Pemkab Sleman | F26: 4 | G26: 4 | H26: 4 | I26: 4 | J26: 3 | K26: 4 | L26: 4 | M26: 3 | N26: 3 | O26: -
A27: 6 | B27: 38 | C27: Laki-Laki | D27: D1 - D3 - D4 | E27: Instansi Pemkab Sleman | F27: 3 | G27: 3 | H27: 3 | I27: 3 | J27: 3 | K27: 3 | L27: 3 | M27: 3 | N27: 3 | O27: Sangat baik
A28: 7 | B28: 45 | C28: Laki-Laki | D28: SLTA | E28: Instansi Pemkab Sleman | F28: 3 | G28: 3 | H28: 3 | I28: 3 | J28: 3 | K28: 3 | L28: 3 | M28: 3 | N28: 3 | O28: Lanjutkan . Mantap
A29: 8 | B29: 38 | C29: Laki-Laki | D29: D1 - D3 - D4 | E29: Instansi Pemkab Sleman | F29: 3 | G29: 3 | H29: 3 | I29: 3 | J29: 3 | K29: 3 | L29: 3 | M29: 3 | N29: 3 | O29: Pelalsanaan bagus
A30: 9 | B30: 44 | C30: Laki-Laki | D30: D1 - D3 - D4 | E30: Instansi Pemkab Sleman | F30: 4 | G30: 4 | H30: 4 | I30: 4 | J30: 4 | K30: 4 | L30: 4 | M30: 3 | N30: 3 | O30: -
A31: 10 | B31: 31 | C31: Laki-Laki | D31: D1 - D3 - D4 | E31: Instansi Pemkab Sleman | F31: 3 | G31: 3 | H31: 3 | I31: 3 | J31: 3 | K31: 3 | L31: 3 | M31: 3 | N31: 3 | O31: Pertahankan.
A32: 11 | B32: 39 | C32: Laki-Laki | D32: SLTA | E32: Instansi Pemkab Sleman | F32: 3 | G32: 3 | H32: 3 | I32: 3 | J32: 3 | K32: 4 | L32: 3 | M32: 3 | N32: 3 | O32: Lcd proyektor kurang jelas
A33: 12 | B33: 45 | C33: Laki-Laki | D33: SLTA | E33: Instansi Pemkab Sleman | F33: 3 | G33: 3 | H33: 3 | I33: 3 | J33: 3 | K33: 3 | L33: 4 | M33: 4 | N33: 4 | O33: Materi nya perlu diperbaiki lagi disesuaikan dgn kebutuhan peserta
... A77: 56 | B77: 40 | C77: Perempuan | D77: S-1 | E77: Pegawai Swasta | F77: 3 | G77: 3 | H77: 3 | I77: 3 | J77: 3 | K77: 3 | L77: 3 | M77: 3 | N77: 3 | O77: Sdh oke

Sheet Farmakmin-R
D1: BIDANG SDK
D2: TIM KERJA FARMASI DAN KESEHATAN MAKANAN MINUMAN
A4: Tipe Kuisioner: Rapat
A5: NO | B5: KARAKTERISTIK | C5: INDIKATOR | D5: JUMLAH | E5: PERSENTASE (%)
A6: 1 | B6: Jenis kelamin | C6: Laki-Laki | D6: =COUNTIF(C22:C1000,"Laki-Laki") -> 8 | E6: =+D6/33 -> 0.24242424
C7: Perempuan | D7: =COUNTIF(C22:C1000,"Perempuan") -> 51 | E7: =+D7/33 -> 1.5454545
A8: 2 | B8: Pendidikan | C8: SD Kebawah | D8: =COUNTIF(D22:D1000,"SD Kebawah") -> 0 | E8: =+D8/33 -> 0
C9: SLTP | D9: =COUNTIF(D22:D1000,"SLTP") -> 0 | E9: =+D9/33 -> 0
C10: SLTA | D10: =COUNTIF(D22:D1000,"SLTA") -> 0 | E10: =+D10/33 -> 0
C11: D1 - D3 - D4 | D11: =COUNTIF(D22:D1000,"D1 - D3 - D4") -> 6 | E11: =+D11/33 -> 0.18181818
C12: S-1 | D12: =COUNTIF(D22:D1000,"S-1") -> 48 | E12: =+D12/33 -> 1.4545455
C13: S-2 ke atas | D13: =COUNTIF(D22:D1000,"S-2 ke atas") -> 5 | E13: =+D13/33 -> 0.15151515
A14: 3 | B14: Instansi | C14: Instansi Pemkab Sleman | D14: =COUNTIF(E22:E1000,"Instansi Pemkab Sleman") -> 43 | E14: =+D14/33 -> 1.3030303
C15: Pegawai Swasta | D15: =COUNTIF(E22:E1000,"Pegawai Swasta") -> 10 | E15: =+D15/33 -> 0.3030303
C16: Akademisi | D16: =COUNTIF(E22:E1000,"Akademisi") -> 0 | E16: =+D16/33 -> 0
C17: Masyarakat | D17: =COUNTIF(E22:E1000,"Masyarakat") -> 1 | E17: =+D17/33 -> 0.03030303
C18: Lainnya | D18: =COUNTIF(E22:E1000,"Lainnya") -> 5 | E18: =+D18/33 -> 0.15151515
F19: =AVERAGE(F22:F1000) -> 3.5254237 | G19: =AVERAGE(G22:G1000) -> 3.5762712 | H19: =AVERAGE(H22:H1000) -> 3.6101695 | I19: =AVERAGE(I22:I1000) -> 3.5762712 | J19: =AVERAGE(J22:J1000) -> 3.4067797 | K19: =AVERAGE(K22:K1000) -> 3.559322 | L19: =AVERAGE(L22:L1000) -> 3.6779661 | M19: =AVERAGE(M22:M1000) -> 3.559322 | N19: =AVERAGE(N22:N1000) -> 3.559322
A20: Laporan | Responden | IKM
A21: No | B21: Umur | C21: Jenis Kelamin | D21: Pendidikan | E21: Pekerjaan | F21: U1 | G21: U2 | H21: U3 | I21: U4 | J21: U5 | K21: U6 | L21: U7 | M21: U8 | N21: U9 | O21: Kritik/Saran
A22: 1 | B22: 51 | C22: Perempuan | D22: S-2 ke atas | E22: Instansi Pemkab Sleman | F22: 4 | G22: 4 | H22: 4 | I22: 4 | J22: 3 | K22: 4 | L22: 4 | M22: 4 | N22: 4 | O22: Leebih tepat waktu
A23: 2 | B23: 37 | C23: Perempuan | D23: S-1 | E23: Instansi Pemkab Sleman | F23: 3 | G23: 4 | H23: 4 | I23: 4 | J23: 3 | K23: 4 | L23: 4 | M23: 4 | N23: 4 | O23: -
A24: 3 | B24: 34 | C24: Perempuan | D24: S-1 | E24: Instansi Pemkab Sleman | F24: 4 | G24: 4 | H24: 4 | I24: 4 | J24: 4 | K24: 4 | L24: 4 | M24: 4 | N24: 4 | O24: Baik
A25: 4 | B25: 34 | C25: Perempuan | D25: S-1 | E25: Instansi Pemkab Sleman | F25: 4 | G25: 4 | H25: 4 | I25: 4 | J25: 4 | K25: 4 | L25: 4 | M25: 4 | N25: 4 | O25: Baik
A26: 5 | B26: 48 | C26: Perempuan | D26: S-1 | E26: Instansi Pemkab Sleman | F26: 3 | G26: 3 | H26: 4 | I26: 4 | J26: 3 | K26: 3 | L26: 3 | M26: 3 | N26: 3 | O26: -
A27: 6 | B27: 46 | C27: Perempuan | D27: S-1 | E27: Instansi Pemkab Sleman | F27: 4 | G27: 4 | H27: 4 | I27: 4 | J27: 4 | K27: 4 | L27: 4 | M27: 4 | N27: 4 | O27: -
A28: 7 | B28: 31 | C28: Perempuan | D28: S-1 | E28: Lainnya | F28: 4 | G28: 4 | H28: 4 | I28: 4 | J28: 4 | K28: 4 | L28: 4 | M28: 4 | N28: 4 | O28: Baik
A29: 8 | B29: 31 | C29: Perempuan | D29: S-1 | E29: Instansi Pemkab Sleman | F29: 4 | G29: 4 | H29: 4 | I29: 4 | J29: 3 | K29: 3 | L29: 4 | M29: 3 | N29: 3 | O29: -
A30: 9 | B30: 37 | C30: Perempuan | D30: S-1 | E30: Instansi Pemkab Sleman | F30: 3 | G30: 4 | H30: 4 | I30: 4 | J30: 4 | K30: 4 | L30: 4 | M30: 4 | N30: 4 | O30: Ok
A31: 10 | B31: 39 | C31: Perempuan | D31: S-2 ke atas | E31: Instansi Pemkab Sleman | F31: 4 | G31: 4 | H31: 4 | I31: 4 | J31: 3 | K31: 4 | L31: 4 | M31: 4 | N31: 4 | O31: Mantap...
A32: 11 | B32: 35 | C32: Perempuan | D32: S-1 | E32: Instansi Pemkab Sleman | F32: 3 | G32: 3 | H32: 3 | I32: 3 | J32: 3 | K32: 3 | L32: 3 | M32: 3 | N32: 3 | O32: -
A33: 12 | B33: 40 | C33: Perempuan | D33: S-1 | E33: Instansi Pemkab Sleman | F33: 3 | G33: 3 | H33: 3 | I33: 3 | J33: 3 | K33: 3 | L33: 3 | M33: 3 | N33: 3 | O33: -
... A45: 24 | B45: 52 | C45: Perempuan | D45: S-1 | E45: Instansi Pemkab Sleman | F45: 4 | G45: 4 | H45: 4 | I45: 3 | J45: 4 | K45: 4 | L45: 4 | M45: 4 | N45: 4 | O45: Sudah sangat baik
A46: 25 | B46: 29 | C46: Perempuan | D46: D1 - D3 - D4 | E46: Instansi Pemkab Sleman | F46: 3 | G46: 3 | H46: 3 | I46: 3 | J46: 3 | K46: 3 | L46: 4 | M46: 4 | N46: 2
A47: 26 | B47: 44 | C47: Laki-Laki | D47: D1 - D3 - D4 | E47: Instansi Pemkab Sleman | F47: 3 | G47: 4 | H47: 4 | I47: 3 | J47: 3 | K47: 3 | L47: 4 | M47: 3 | N47: 3 | O47: Semakin baik terimakasih
A48: 27 | B48: 35 | C48: Perempuan | D48: D1 - D3 - D4 | E48: Instansi Pemkab Sleman | F48: 3 | G48: 3 | H48: 3 | I48: 3 | J48: 3 | K48: 3 | L48: 3 | M48: 3 | N48: 3 | O48: Baik
A49: 28 | B49: 39 | C49: Perempuan | D49: S-1 | E49: Instansi Pemkab Sleman | F49: 3 | G49: 3 | H49: 3 | I49: 3 | J49: 3 | K49: 3 | L49: 3 | M49: 3 | N49: 3 | O49: good
A50: 29 | B50: 49 | C50: Perempuan | D50: D1 - D3 - D4 | E50: Instansi Pemkab Sleman | F50: 3 | G50: 4 | H50: 4 | I50: 4 | J50: 4 | K50: 4 | L50: 4 | M50: 4 | N50: 4 | O50: Pertahanan
A51: 30 | B51: 49 | C51: Perempuan | D51: D1 - D3 - D4 | E51: Instansi Pemkab Sleman | F51: 4 | G51: 4 | H51: 4 | I51: 4 | J51: 4 | K51: 4 | L51: 4 | M51: 4 | N51: 4 | O51: Lanjutan
A52: 31 | B52: 39 | C52: Perempuan | D52: S-1 | E52: Instansi Pemkab Sleman | F52: 3 | G52: 3 | H52: 3 | I52: 3 | J52: 3 | K52: 3 | L52: 3 | M52: 3 | N52: 3 | O52: Bagus
A53: 32 | B53: 57 | C53: Perempuan | D53: D1 - D3 - D4 | E53: Instansi Pemkab Sleman | F53: 3 | G53: 3 | H53: 3 | I53: 4 | J53: 3 | K53: 3 | L53: 4 | M53: 3 | N53: 3 | O53: Bagus
A54: 33 | B54: 52 | C54: Perempuan | D54: S-1 | E54: Instansi Pemkab Sleman | F54: 3 | G54: 3 | H54: 3 | I54: 3 | J54: 3 | K54: 3 | L54: 3 | M54: 3 | N54: 3 | O54: sudah bagus
A55: 34 | B55: 47 | C55: Perempuan | D55: S-2 ke atas | E55: Instansi Pemkab Sleman | F55: 4 | G55: 4 | H55: 4 | I55: 4 | J55: 4 | K55: 4 | L55: 4 | M55: 4 | N55: 4 | O55: -
A56: 35 | B56: 34 | C56: Perempuan | D56: S-1 | E56: Instansi Pemkab Sleman | F56: 3 | G56: 3 | H56: 3 | I56: 3 | J56: 3 | K56: 3 | L56: 3 | M56: 4 | N56: 4 | O56: sudah bagus laksanakan
A57: 36 | B57: 36 | C57: Perempuan | D57: S-1 | E57: Instansi Pemkab Sleman | F57: 3 | G57: 3 | H57: 4 | I57: 4 | J57: 3 | K57: 4 | L57: 3 | M57: 3 | N57: 3 | O57: Sudah baik
A58: 37 | B58: 37 | C58: Perempuan | D58: S-1 | E58: Instansi Pemkab Sleman | F58: 4 | G58: 4 | H58: 4 | I58: 4 | J58: 4 | K58: 4 | L58: 4 | M58: 4 | N58: 4 | O58: Ok
... A75: 54 | B75: 33 | C75: Perempuan | D75: S-1 | E75: Pegawai Swasta | F75: 4 | G75: 3 | H75: 4 | I75: 4 | J75: 3 | K75: 4 | L75: 4 | M75: 4 | N75: 4 | O75: Tidak ada sudah oke
A76: 55 | B76: 38 | C76: Laki-Laki | D76: S-1 | E76: Pegawai Swasta | F76: 3 | G76: 3 | H76: 3 | I76: 3 | J76: 3 | K76: 3 | L76: 3 | M76: 3 | N76: 3 | O76: 0
A77: 56 | B77: 44 | C77: Perempuan | D77: S-1 | E77: Instansi Pemkab Sleman | F77: 4 | G77: 4 | H77: 4 | I77: 4 | J77: 4 | K77: 4 | L77: 4 | M77: 4 | N77: 4 | O77: sudah sesuai
A78: 57 | B78: 25 | C78: Perempuan | D78: S-1 | E78: Pegawai Swasta | F78: 4 | G78: 4 | H78: 4 | I78: 4 | J78: 4 | K78: 4 | L78: 4 | M78: 4 | N78: 4 | O78: -
A79: 58 | B79: 42 | C79: Laki-Laki | D79: S-1 | E79: Instansi Pemkab Sleman | F79: 4 | G79: 4 | H79: 3 | I79: 3 | J79: 4 | K79: 4 | L79: 4 | M79: 3 | N79: 3 | O79: Bagus
A80: 59 | B80: 32 | C80: Laki-Laki | D80: S-1 | E80: Pegawai Swasta | F80: 4 | G80: 4 | H80: 4 | I80: 4 | J80: 4 | K80: 4 | L80: 4 | M80: 4 | N80: 4 | O80: Baik
