Workbook

Sheet REKAP PER UNSUR
A1: IKM SKM STANDAR BIDANG PELAYANAN KESEHATAN | U1: U1 | V1: Persyaratan
A2: 1) IKM Tim Kerja Registrasi Lisensi dan Mutu Pelayanan | U2: U2 | V2: Prosedur
B3: Nilai Unsur Pelayanan | N3: 1 | O3: D | P3: 25 | Q3: D | R3: Tidak Baik | U3: U3 | V3: Jangka Waktu
B4: U1 | C4: U2 | D4: U3 | E4: U4 | F4: U5 | G4: U6 | H4: U7 | I4: U8 | J4: U9 | N4: 2.6 | O4: C | P4: 65 | Q4: C | R4: Kurang Baik | U4: U4 | V4: Tarif
A5: IKM per unsur | B5: ='Regli-S'!F19 -> 3.5974026 | C5: ='Regli-S'!G19 -> 3.5714286 | D5: ='Regli-S'!H19 -> 3.5844156 | E5: ='Regli-S'!I19 -> 3.8701299 | F5: ='Regli-S'!J19 -> 3.5454545 | G5: ='Regli-S'!K19 -> 3.5844156 | H5: ='Regli-S'!L19 -> 3.5714286 | I5: ='Regli-S'!M19 -> 3.8701299 | J5: ='Regli-S'!N19 -> 3.5454545 | L5: =ROUND((AVERAGE(B5:J5)/4)*100,2) -> 90.95 | M5: 77 | N5: 3.07 | O5: B | P5: 76.61 | Q5: B | R5: Baik | U5: U5 | V5: Produk
A6: Kategori | B6: =VLOOKUP(B5,$N$3:$O$6,2,TRUE) -> A | C6: =VLOOKUP(C5,$N$3:$O$6,2,TRUE) -> A | D6: =VLOOKUP(D5,$N$3:$O$6,2,TRUE) -> A | E6: =VLOOKUP(E5,$N$3:$O$6,2,TRUE) -> A | F6: =VLOOKUP(F5,$N$3:$O$6,2,TRUE) -> A | G6: =VLOOKUP(G5,$N$3:$O$6,2,TRUE) -> A | H6: =VLOOKUP(H5,$N$3:$O$6,2,TRUE) -> A | I6: =VLOOKUP(I5,$N$3:$O$6,2,TRUE) -> A | J6: =VLOOKUP(J5,$N$3:$O$6,2,TRUE) -> A | N6: 3.54 | O6: A | P6: 88.31 | Q6: A | R6: Sangat Baik | U6: U6 | V6: Kompetensi
A7: IKM Unit Layanan | B7: =TEXT(L5,"0,00")&" ("&VLOOKUP(L5,$P$3:$Q$6,2,TRUE)&" dan Kinerja Pelayanan "&VLOOKUP(L7,$Q$3:$R$6,2,FALSE)&")" -> 90,95 (A dan Kinerja Pelayanan Sangat Baik) | L7: =VLOOKUP(L5,$P$3:$Q$6,2,TRUE) -> A | U7: U7 | V7: Perilaku
U8: U8 | V8: Pengaduan
A9: 2) IKM Tim Kerja Kesehatan Khusus | U9: U9 | V9: Sarpras
B10: Nilai Unsur Pelayanan
B11: U1 | C11: U2 | D11: U3 | E11: U4 | F11: U5 | G11: U6 | H11: U7 | I11: U8 | J11: U9
A12: IKM per unsur | B12: ='Kesus-S'!F19 -> 3.4942529 | C12: ='Kesus-S'!G19 -> 3.5172414 | D12: ='Kesus-S'!H19 -> 3.4597701 | E12: ='Kesus-S'!I19 -> 3.9425287 | F12: ='Kesus-S'!J19 -> 3.4712644 | G12: ='Kesus-S'!K19 -> 3.5517241 | H12: ='Kesus-S'!L19 -> 3.6436782 | I12: ='Kesus-S'!M19 -> 3.9885057 | J12: ='Kesus-S'!N19 -> 3.7356322 | L12: =ROUND((AVERAGE(B12:J12)/4)*100,2) -> 91.12 | M12: 87
A13: Kategori | B13: =VLOOKUP(B12,$N$3:$O$6,2,TRUE) -> B | C13: =VLOOKUP(C12,$N$3:$O$6,2,TRUE) -> B | D13: =VLOOKUP(D12,$N$3:$O$6,2,TRUE) -> B | E13: =VLOOKUP(E12,$N$3:$O$6,2,TRUE) -> A | F13: =VLOOKUP(F12,$N$3:$O$6,2,TRUE) -> B | G13: =VLOOKUP(G12,$N$3:$O$6,2,TRUE) -> A | H13: =VLOOKUP(H12,$N$3:$O$6,2,TRUE) -> A | I13: =VLOOKUP(I12,$N$3:$O$6,2,TRUE) -> A | J13: =VLOOKUP(J12,$N$3:$O$6,2,TRUE) -> A
A14: IKM Unit Layanan | B14: =TEXT(L12,"0,00")&" ("&VLOOKUP(L12,$P$3:$Q$6,2,TRUE)&" dan Kinerja Pelayanan "&VLOOKUP(L14,$Q$3:$R$6,2,FALSE)&")" -> 91,12 (A dan Kinerja Pelayanan Sangat Baik) | L14: =VLOOKUP(L12,$P$3:$Q$6,2,TRUE) -> A
A16: 3) IKM Tim Kerja Kesehatan dasar dan Rujukan
B17: Nilai Unsur Pelayanan | U17: Nilai Unsur Pelayanan
B18: U1 | C18: U2 | D18: U3 | E18: U4 | F18: U5 | G18: U6 | H18: U7 | I18: U8 | J18: U9 | U18: U1 | V18: U2 | W18: U3 | X18: U4 | Y18: U5 | Z18: U6 | AA18: U7 | AB18: U8 | AC18: U9
A19: IKM per unsur | B19: ='Kesdas-S'!F19 -> 3.5238095 | C19: ='Kesdas-S'!G19 -> 3.5714286 | D19: ='Kesdas-S'!H19 -> 3.6190476 | E19: ='Kesdas-S'!I19 -> 3.7619048 | F19: ='Kesdas-S'!J19 -> 3.5714286 | G19: ='Kesdas-S'!K19 -> 3.5714286 | H19: ='Kesdas-S'!L19 -> 3.7142857 | I19: ='Kesdas-S'!M19 -> 4 | J19: ='Kesdas-S'!N19 -> 3.5238095 | L19: =ROUND((AVERAGE(B19:J19)/4)*100,2) -> 91.27 | M19: 33 | T19: IKM per unsur | U19: =SUM(B5,B12,B19)/COUNT(B5,B12,B19) -> 3.5384883 | V19: =SUM(C5,C12,C19)/COUNT(C5,C12,C19) -> 3.5533662 | W19: =SUM(D5,D12,D19)/COUNT(D5,D12,D19) -> 3.5544111 | X19: =SUM(E5,E12,E19)/COUNT(E5,E12,E19) -> 3.8581878 | Y19: =SUM(F5,F12,F19)/COUNT(F5,F12,F19) -> 3.5293825 | Z19: =SUM(G5,G12,G19)/COUNT(G5,G12,G19) -> 3.5691894 | AA19: =SUM(H5,H12,H19)/COUNT(H5,H12,H19) -> 3.6431308 | AB19: =SUM(I5,I12,I19)/COUNT(I5,I12,I19) -> 3.9528785 | AC19: =SUM(J5,J12,J19)/COUNT(J5,J12,J19) -> 3.6016321 | AE19: =ROUND((AVERAGE(U19:AC19)/4)*100,2) -> 91.11 | AF19: 3
A20: Kategori | B20: =VLOOKUP(B19,$N$3:$O$6,2,TRUE) -> B | C20: =VLOOKUP(C19,$N$3:$O$6,2,TRUE) -> A | D20: =VLOOKUP(D19,$N$3:$O$6,2,TRUE) -> A | E20: =VLOOKUP(E19,$N$3:$O$6,2,TRUE) -> A | F20: =VLOOKUP(F19,$N$3:$O$6,2,TRUE) -> A | G20: =VLOOKUP(G19,$N$3:$O$6,2,TRUE) -> A | H20: =VLOOKUP(H19,$N$3:$O$6,2,TRUE) -> A | I20: =VLOOKUP(I19,$N$3:$O$6,2,TRUE) -> A | J20: =VLOOKUP(J19,$N$3:$O$6,2,TRUE) -> B | T20: Kategori | U20: =VLOOKUP(U19,$N$3:$O$6,2,TRUE) -> B | V20: =VLOOKUP(V19,$N$3:$O$6,2,TRUE) -> A | W20: =VLOOKUP(W19,$N$3:$O$6,2,TRUE) -> A | X20: =VLOOKUP(X19,$N$3:$O$6,2,TRUE) -> A | Y20: =VLOOKUP(Y19,$N$3:$O$6,2,TRUE) -> B | Z20: =VLOOKUP(Z19,$N$3:$O$6,2,TRUE) -> A | AA20: =VLOOKUP(AA19,$N$3:$O$6,2,TRUE) -> A | AB20: =VLOOKUP(AB19,$N$3:$O$6,2,TRUE) -> A | AC20: =VLOOKUP(AC19,$N$3:$O$6,2,TRUE) -> A
A21: IKM Unit Layanan | B21: =TEXT(L19,"0,00")&" ("&VLOOKUP(L19,$P$3:$Q$6,2,TRUE)&" dan Kinerja Pelayanan "&VLOOKUP(L21,$Q$3:$R$6,2,FALSE)&")" -> 91,27 (A dan Kinerja Pelayanan Sangat Baik) | L21: =VLOOKUP(L19,$P$3:$Q$6,2,TRUE) -> A | T21: IKM Unit Layanan | U21: =TEXT(AE19,"0,00")&" ("&VLOOKUP(AE19,$P$3:$Q$6,2,TRUE)&" dan Kinerja Pelayanan "&VLOOKUP(AE21,$Q$3:$R$6,2,FALSE)&")" -> 91,11 (A dan Kinerja Pelayanan Sangat Baik) | AE21: =VLOOKUP(AE19,$P$3:$Q$6,2,TRUE) -> A
A23: IKM SKM STANDAR BIDANG SUMBER DAYA KESEHATAN
A24: 1) IKM Tim Kerja Pengembangan Sumber Daya Kesehatan
B25: Nilai Unsur Pelayanan | AJ25: Nilai Unsur Pelayanan
B26: U1 | C26: U2 | D26: U3 | E26: U4 | F26: U5 | G26: U6 | H26: U7 | I26: U8 | J26: U9 | AJ26: U1 | AK26: U2 | AL26: U3 | AM26: U4 | AN26: U5 | AO26: U6 | AP26: U7 | AQ26: U8 | AR26: U9 | AT26: =AVERAGE(AJ29:AR29) -> 3.656244
A27: IKM per unsur | B27: ='PSDK-S'!F19 -> 3.6267281 | C27: ='PSDK-S'!G19 -> 3.6589862 | D27: ='PSDK-S'!H19 -> 3.5990783 | E27: ='PSDK-S'!I19 -> 3.8341014 | F27: ='PSDK-S'!J19 -> 3.6175115 | G27: ='PSDK-S'!K19 -> 3.6635945 | H27: ='PSDK-S'!L19 -> 3.6313364 | I27: ='PSDK-S'!M19 -> 3.9262673 | J27: ='PSDK-S'!N19 -> 3.6543779 | L27: =ROUND((AVERAGE(B27:J27)/4)*100,2) -> 92.26 | M27: 168 | AI27: Bidang YANKES | AJ27: =U19 -> 3.5384883 | AK27: =V19 -> 3.5533662 | AL27: =W19 -> 3.5544111 | AM27: =X19 -> 3.8581878 | AN27: =Y19 -> 3.5293825 | AO27: =Z19 -> 3.5691894 | AP27: =AA19 -> 3.6431308 | AQ27: =AB19 -> 3.9528785 | AR27: =AC19 -> 3.6016321 | AT27: =ROUND((AVERAGE(AJ29:AR29)/4)*100,2) -> 91.41 | AU27: 3
A28: Kategori | B28: =VLOOKUP(B27,$N$3:$O$6,2,TRUE) -> A | C28: =VLOOKUP(C27,$N$3:$O$6,2,TRUE) -> A | D28: =VLOOKUP(D27,$N$3:$O$6,2,TRUE) -> A | E28: =VLOOKUP(E27,$N$3:$O$6,2,TRUE) -> A | F28: =VLOOKUP(F27,$N$3:$O$6,2,TRUE) -> A | G28: =VLOOKUP(G27,$N$3:$O$6,2,TRUE) -> A | H28: =VLOOKUP(H27,$N$3:$O$6,2,TRUE) -> A | I28: =VLOOKUP(I27,$N$3:$O$6,2,TRUE) -> A | J28: =VLOOKUP(J27,$N$3:$O$6,2,TRUE) -> A | AI28: Bidang SDK | AJ28: =U41 -> 3.6079394 | AK28: =V41 -> 3.5912082 | AL28: =W41 -> 3.570798 | AM28: =X41 -> 3.8440244 | AN28: =Y41 -> 3.5041911 | AO28: =Z41 -> 3.6572652 | AP28: =AA41 -> 3.654302 | AQ28: =AB41 -> 3.8788616 | AR28: =AC41 -> 3.7031348
A29: IKM Unit Layanan | B29: =TEXT(L27,"0,00")&" ("&VLOOKUP(L27,$P$3:$Q$6,2,TRUE)&" dan Kinerja Pelayanan "&VLOOKUP(L29,$Q$3:$R$6,2,FALSE)&")" -> 92,26 (A dan Kinerja Pelayanan Sangat Baik) | L29: =VLOOKUP(L27,$P$3:$Q$6,2,TRUE) -> A | AI29: IKM DINKES | AJ29: =AVERAGE(AJ27:AJ28) -> 3.5732138 | AK29: =AVERAGE(AK27:AK28) -> 3.5722872 | AL29: =AVERAGE(AL27:AL28) -> 3.5626046 | AM29: =AVERAGE(AM27:AM28) -> 3.8511061 | AN29: =AVERAGE(AN27:AN28) -> 3.5167868 | AO29: =AVERAGE(AO27:AO28) -> 3.6132273 | AP29: =AVERAGE(AP27:AP28) -> 3.6487164 | AQ29: =AVERAGE(AQ27:AQ28) -> 3.9158701 | AR29: =AVERAGE(AR27:AR28) -> 3.6523834 | AT29: =VLOOKUP(AT27,$P$3:$Q$6,2,TRUE) -> A
AI30: Kategori | AJ30: =VLOOKUP(AJ29,$N$3:$O$6,2,TRUE) -> A | AK30: =VLOOKUP(AK29,$N$3:$O$6,2,TRUE) -> A | AL30: =VLOOKUP(AL29,$N$3:$O$6,2,TRUE) -> A | AM30: =VLOOKUP(AM29,$N$3:$O$6,2,TRUE) -> A | AN30: =VLOOKUP(AN29,$N$3:$O$6,2,TRUE) -> B | AO30: =VLOOKUP(AO29,$N$3:$O$6,2,TRUE) -> A | AP30: =VLOOKUP(AP29,$N$3:$O$6,2,TRUE) -> A | AQ30: =VLOOKUP(AQ29,$N$3:$O$6,2,TRUE) -> A | AR30: =VLOOKUP(AR29,$N$3:$O$6,2,TRUE) -> A
A31: 2) IKM Tim Kerja Sarana dan Prasarana | AI31: IKM Unit Layanan | AJ31: =TEXT(AT27,"0,00")&" ("&VLOOKUP(AT27,$P$3:$Q$6,2,TRUE)&" dan Kinerja Pelayanan "&VLOOKUP(AT29,$Q$3:$R$6,2,FALSE)&")" -> 91,41 (A dan Kinerja Pelayanan Sangat Baik)
B32: Nilai Unsur Pelayanan
B33: U1 | C33: U2 | D33: U3 | E33: U4 | F33: U5 | G33: U6 | H33: U7 | I33: U8 | J33: U9
A34: IKM per unsur | B34: ='Sarpras-S'!F19 -> 3.6785714 | C34: ='Sarpras-S'!G19 -> 3.5714286 | D34: ='Sarpras-S'!H19 -> 3.6071429 | E34: ='Sarpras-S'!I19 -> 3.8214286 | F34: ='Sarpras-S'!J19 -> 3.5 | G34: ='Sarpras-S'!K19 -> 3.6785714 | H34: ='Sarpras-S'!L19 -> 3.7142857 | I34: ='Sarpras-S'!M19 -> 3.8214286 | J34: ='Sarpras-S'!N19 -> 3.7142857 | L34: =ROUND((AVERAGE(B34:J34)/4)*100,2) -> 91.96 | M34: 28
A35: Kategori | B35: =VLOOKUP(B34,$N$3:$O$6,2,TRUE) -> A | C35: =VLOOKUP(C34,$N$3:$O$6,2,TRUE) -> A | D35: =VLOOKUP(D34,$N$3:$O$6,2,TRUE) -> A | E35: =VLOOKUP(E34,$N$3:$O$6,2,TRUE) -> A | F35: =VLOOKUP(F34,$N$3:$O$6,2,TRUE) -> B | G35: =VLOOKUP(G34,$N$3:$O$6,2,TRUE) -> A | H35: =VLOOKUP(H34,$N$3:$O$6,2,TRUE) -> A | I35: =VLOOKUP(I34,$N$3:$O$6,2,TRUE) -> A | J35: =VLOOKUP(J34,$N$3:$O$6,2,TRUE) -> A
A36: IKM Unit Layanan | B36: =TEXT(L34,"0,00")&" ("&VLOOKUP(L34,$P$3:$Q$6,2,TRUE)&" dan Kinerja Pelayanan "&VLOOKUP(L36,$Q$3:$R$6,2,FALSE)&")" -> 91,96 (A dan Kinerja Pelayanan Sangat Baik) | L36: =VLOOKUP(L34,$P$3:$Q$6,2,TRUE) -> A
A38: 3) IKM Tim Kerja Farmasi, Makanan dan Minuman
B39: Nilai Unsur Pelayanan | U39: Nilai Unsur Pelayanan
B40: U1 | C40: U2 | D40: U3 | E40: U4 | F40: U5 | G40: U6 | H40: U7 | I40: U8 | J40: U9 | U40: U1 | V40: U2 | W40: U3 | X40: U4 | Y40: U5 | Z40: U6 | AA40: U7 | AB40: U8 | AC40: U9
A41: IKM per unsur | B41: ='Farmakmin-S'!F19 -> 3.5185185 | C41: ='Farmakmin-S'!G19 -> 3.5432099 | D41: ='Farmakmin-S'!H19 -> 3.5061728 | E41: ='Farmakmin-S'!I19 -> 3.8765432 | F41: ='Farmakmin-S'!J19 -> 3.3950617 | G41: ='Farmakmin-S'!K19 -> 3.6296296 | H41: ='Farmakmin-S'!L19 -> 3.617284 | I41: ='Farmakmin-S'!M19 -> 3.8888889 | J41: ='Farmakmin-S'!N19 -> 3.7407407 | L41: =ROUND((AVERAGE(B41:J41)/4)*100,2) -> 90.88 | M41: 81 | T41: IKM per unsur | U41: =SUM(B27,B34,B41)/COUNT(B27,B34,B41) -> 3.6079394 | V41: =SUM(C27,C34,C41)/COUNT(C27,C34,C41) -> 3.5912082 | W41: =SUM(D27,D34,D41)/COUNT(D27,D34,D41) -> 3.570798 | X41: =SUM(E27,E34,E41)/COUNT(E27,E34,E41) -> 3.8440244 | Y41: =SUM(F27,F34,F41)/COUNT(F27,F34,F41) -> 3.5041911 | Z41: =SUM(G27,G34,G41)/COUNT(G27,G34,G41) -> 3.6572652 | AA41: =SUM(H27,H34,H41)/COUNT(H27,H34,H41) -> 3.654302 | AB41: =SUM(I27,I34,I41)/COUNT(I27,I34,I41) -> 3.8788616 | AC41: =SUM(J27,J34,J41)/COUNT(J27,J34,J41) -> 3.7031348 | AE41: =ROUND((AVERAGE(U41:AC41)/4)*100,2) -> 91.7 | AF41: 3
A42: Kategori | B42: =VLOOKUP(B41,$N$3:$O$6,2,TRUE) -> B | C42: =VLOOKUP(C41,$N$3:$O$6,2,TRUE) -> A | D42: =VLOOKUP(D41,$N$3:$O$6,2,TRUE) -> B | E42: =VLOOKUP(E41,$N$3:$O$6,2,TRUE) -> A | F42: =VLOOKUP(F41,$N$3:$O$6,2,TRUE) -> B | G42: =VLOOKUP(G41,$N$3:$O$6,2,TRUE) -> A | H42: =VLOOKUP(H41,$N$3:$O$6,2,TRUE) -> A | I42: =VLOOKUP(I41,$N$3:$O$6,2,TRUE) -> A | J42: =VLOOKUP(J41,$N$3:$O$6,2,TRUE) -> A | T42: Kategori | U42: =VLOOKUP(U41,$N$3:$O$6,2,TRUE) -> A | V42: =VLOOKUP(V41,$N$3:$O$6,2,TRUE) -> A | W42: =VLOOKUP(W41,$N$3:$O$6,2,TRUE) -> A | X42: =VLOOKUP(X41,$N$3:$O$6,2,TRUE) -> A | Y42: =VLOOKUP(Y41,$N$3:$O$6,2,TRUE) -> B | Z42: =VLOOKUP(Z41,$N$3:$O$6,2,TRUE) -> A | AA42: =VLOOKUP(AA41,$N$3:$O$6,2,TRUE) -> A | AB42: =VLOOKUP(AB41,$N$3:$O$6,2,TRUE) -> A | AC42: =VLOOKUP(AC41,$N$3:$O$6,2,TRUE) -> A
A43: IKM Unit Layanan | B43: =TEXT(L41,"0,00")&" ("&VLOOKUP(L41,$P$3:$Q$6,2,TRUE)&" dan Kinerja Pelayanan "&VLOOKUP(L43,$Q$3:$R$6,2,FALSE)&")" -> 90,88 (A dan Kinerja Pelayanan Sangat Baik) | L43: =VLOOKUP(L41,$P$3:$Q$6,2,TRUE) -> A | T43: IKM Unit Layanan | U43: =TEXT(AE41,"0,00")&" ("&VLOOKUP(AE41,$P$3:$Q$6,2,TRUE)&" dan Kinerja Pelayanan "&VLOOKUP(AE43,$Q$3:$R$6,2,FALSE)&")" -> 91,70 (A dan Kinerja Pelayanan Sangat Baik) | AE43: =VLOOKUP(AE41,$P$3:$Q$6,2,TRUE) -> A
...

Sheet REKAP PER INDIKATOR
A1: REKAP INDIKATOR STANDAR | M1: Standar | N1: Capaian
A2: NO | B2: KARAKTERISTIK | C2: INDIKATOR | D2: JUMLAH | E2: PERSENTASE | I2: 25 | J2: D | K2: Tidak Baik | M2: SMT II 2022 | N2: 84.02 | O2: =VLOOKUP(N2,$I$2:$J$5,2,TRUE) -> B
A3: 1 | B3: Jenis kelamin | C3: Laki-Laki | D3: =SUM('Regli-S'!D6,'Kesus-S'!D6,'Kesdas-S'!D6,'PSDK-S'!D6,'Sarpras-S'!D6,'Farmakmin-S'!D6) -> 130 | E3: =D3/SUM(D3:D4) -> 0.25440313 | G3: =SUM(D3:D4) -> 511 | I3: 65 | J3: C | K3: Kurang Baik | M3: SMT I 2023 | N3: 85.18 | O3: =VLOOKUP(N3,$I$2:$J$5,2,TRUE) -> B
C4: Perempuan | D4: =SUM('Regli-S'!D7,'Kesus-S'!D7,'Kesdas-S'!D7,'PSDK-S'!D7,'Sarpras-S'!D7,'Farmakmin-S'!D7) -> 381 | E4: =D4/SUM(D3:D4) -> 0.74559687 | I4: 76.61 | J4: B | K4: Baik | M4: SMT II 2023 | N4: 87.92 | O4: =VLOOKUP(N4,$I$2:$J$5,2,TRUE) -> B
A5: 2 | B5: Pendidikan | C5: SD Kebawah | D5: =SUM('Regli-S'!D8,'Kesus-S'!D8,'Kesdas-S'!D8,'PSDK-S'!D8,'Sarpras-S'!D8,'Farmakmin-S'!D8) -> 7 | E5: =D5/SUM($D$5:$D$10) -> 0.01369863 | I5: 88.31 | J5: A | K5: Sangat Baik | M5: SMT I 2024 | N5: 87.83 | O5: =VLOOKUP(N5,$I$2:$J$5,2,TRUE) -> B
C6: SLTP | D6: =SUM('Regli-S'!D9,'Kesus-S'!D9,'Kesdas-S'!D9,'PSDK-S'!D9,'Sarpras-S'!D9,'Farmakmin-S'!D9) -> 12 | E6: =D6/SUM($D$5:$D$10) -> 0.023483366 | M6: SMT II 2024 | N6: 87.39 | O6: =VLOOKUP(N6,$I$2:$J$5,2,TRUE) -> B
C7: SLTA | D7: =SUM('Regli-S'!D10,'Kesus-S'!D10,'Kesdas-S'!D10,'PSDK-S'!D10,'Sarpras-S'!D10,'Farmakmin-S'!D10) -> 231 | E7: =D7/SUM($D$5:$D$10) -> 0.45205479 | M7: SMT I 2025 | N7: 89.66 | O7: =VLOOKUP(N7,$I$2:$J$5,2,TRUE) -> A
C8: D1 - D3 - D4 | D8: =SUM('Regli-S'!D11,'Kesus-S'!D11,'Kesdas-S'!D11,'PSDK-S'!D11,'Sarpras-S'!D11,'Farmakmin-S'!D11) -> 103 | E8: =D8/SUM($D$5:$D$10) -> 0.20156556 | M8: SMT II 2025 | N8: 89.03 | O8: =VLOOKUP(N8,$I$2:$J$5,2,TRUE) -> A
C9: S-1 | D9: =SUM('Regli-S'!D12,'Kesus-S'!D12,'Kesdas-S'!D12,'PSDK-S'!D12,'Sarpras-S'!D12,'Farmakmin-S'!D12) -> 142 | E9: =D9/SUM($D$5:$D$10) -> 0.2778865 | M9: SMT I 2026 | N9: 91.41 | O9: =VLOOKUP(N9,$I$2:$J$5,2,TRUE) -> A
C10: S-2 ke atas | D10: =SUM('Regli-S'!D13,'Kesus-S'!D13,'Kesdas-S'!D13,'PSDK-S'!D13,'Sarpras-S'!D13,'Farmakmin-S'!D13) -> 16 | E10: =D10/SUM($D$5:$D$10) -> 0.031311155
A11: 3 | B11: Instansi | C11: PNS/TNI/POLRI | D11: =SUM('Regli-S'!D14,'Kesus-S'!D14,'Kesdas-S'!D14,'PSDK-S'!D14,'Sarpras-S'!D14,'Farmakmin-S'!D14) -> 29 | E11: =D11/SUM($D$11:$D$15) -> 0.057312253
C12: Instansi Luar | D12: =SUM('Regli-S'!D15,'Kesus-S'!D15,'Kesdas-S'!D15,'PSDK-S'!D15,'Sarpras-S'!D15,'Farmakmin-S'!D15) -> 13 | E12: =D12/SUM($D$11:$D$15) -> 0.0256917
C13: Wirausahawan/Usahawan | D13: =SUM('Regli-S'!D16,'Kesus-S'!D16,'Kesdas-S'!D16,'PSDK-S'!D16,'Sarpras-S'!D16,'Farmakmin-S'!D16) -> 63 | E13: =D13/SUM($D$11:$D$15) -> 0.12450593
C14: Pelajar/Mahasiswa | D14: =SUM('Regli-S'!D17,'Kesus-S'!D17,'Kesdas-S'!D17,'PSDK-S'!D17,'Sarpras-S'!D17,'Farmakmin-S'!D17) -> 236 | E14: =D14/SUM($D$11:$D$15) -> 0.46640316
C15: Lainnya | D15: =SUM('Regli-S'!D18,'Kesus-S'!D18,'Kesdas-S'!D18,'PSDK-S'!D18,'Sarpras-S'!D18,'Farmakmin-S'!D18) -> 165 | E15: =D15/SUM($D$11:$D$15) -> 0.32608696
A17: REKAP INDIKATOR RAPAT
A18: NO | B18: KARAKTERISTIK | C18: INDIKATOR | D18: JUMLAH | E18: PERSENTASE | M18: Rapat | N18: Capaian
A19: 1 | B19: Jenis kelamin | C19: Laki-Laki | D19: =SUM('Umpeg-R'!$D6,'Keuangan-R'!$D6,'PE-R'!$D6,'Regli-R'!$D6,'Kesus-R'!$D6,'Kesdas-R'!$D6,'Promkes-R'!$D6,'GiziKIA-R'!$D6,'Keswapol-R'!$D6,'Survim-R'!$D6,'P2P-R'!$D6,'Kesling-R'!$D6,'PSDK-R'!$D6,'Sarpras-R'!$D6,'Farmakmin-R'!$D6) -> 223 | E19: =D19/SUM(D19:D20) -> 0.23350785 | G19: =SUM(D19:D20) -> 955 | M19: SMT II 2022 | N19: 82.55 | O19: =VLOOKUP(N19,$I$2:$J$5,2,TRUE) -> B
C20: Perempuan | D20: =SUM('Umpeg-R'!$D7,'Keuangan-R'!$D7,'PE-R'!$D7,'Regli-R'!$D7,'Kesus-R'!$D7,'Kesdas-R'!$D7,'Promkes-R'!$D7,'GiziKIA-R'!$D7,'Keswapol-R'!$D7,'Survim-R'!$D7,'P2P-R'!$D7,'Kesling-R'!$D7,'PSDK-R'!$D7,'Sarpras-R'!$D7,'Farmakmin-R'!$D7) -> 732 | E20: =D20/SUM(D19:D20) -> 0.76649215 | G20: =SUM(D21:D26) -> 955 | M20: SMT I 2023 | N20: 82.94 | O20: =VLOOKUP(N20,$I$2:$J$5,2,TRUE) -> B
A21: 2 | B21: Pendidikan | C21: SD Kebawah | D21: =SUM('Umpeg-R'!D8,'Keuangan-R'!D8,'PE-R'!D8,'Regli-R'!D8,'Kesus-R'!D8,'Kesdas-R'!D8,'Promkes-R'!D8,'GiziKIA-R'!D8,'Keswapol-R'!D8,'Survim-R'!D8,'P2P-R'!D8,'Kesling-R'!D8,'PSDK-R'!D8,'Sarpras-R'!D8,'Farmakmin-R'!D8) -> 0 | E21: =D21/SUM(D21:D26) -> 0 | M21: SMT II 2023 | N21: 82.33 | O21: =VLOOKUP(N21,$I$2:$J$5,2,TRUE) -> B
C22: SLTP | D22: =SUM('Umpeg-R'!D9,'Keuangan-R'!D9,'PE-R'!D9,'Regli-R'!D9,'Kesus-R'!D9,'Kesdas-R'!D9,'Promkes-R'!D9,'GiziKIA-R'!D9,'Keswapol-R'!D9,'Survim-R'!D9,'P2P-R'!D9,'Kesling-R'!D9,'PSDK-R'!D9,'Sarpras-R'!D9,'Farmakmin-R'!D9) -> 6 | E22: =D22/SUM(D21:D26) -> 0.0062827225 | M22: SMT I 2024 | N22: 83.14 | O22: =VLOOKUP(N22,$I$2:$J$5,2,TRUE) -> B
C23: SLTA | D23: =SUM('Umpeg-R'!D10,'Keuangan-R'!D10,'PE-R'!D10,'Regli-R'!D10,'Kesus-R'!D10,'Kesdas-R'!D10,'Promkes-R'!D10,'GiziKIA-R'!D10,'Keswapol-R'!D10,'Survim-R'!D10,'P2P-R'!D10,'Kesling-R'!D10,'PSDK-R'!D10,'Sarpras-R'!D10,'Farmakmin-R'!D10) -> 76 | E23: =D23/SUM(D21:D26) -> 0.079581152 | M23: SMT II 2024 | N23: 84.92 | O23: =VLOOKUP(N23,$I$2:$J$5,2,TRUE) -> B
C24: D1 - D3 - D4 | D24: =SUM('Umpeg-R'!D11,'Keuangan-R'!D11,'PE-R'!D11,'Regli-R'!D11,'Kesus-R'!D11,'Kesdas-R'!D11,'Promkes-R'!D11,'GiziKIA-R'!D11,'Keswapol-R'!D11,'Survim-R'!D11,'P2P-R'!D11,'Kesling-R'!D11,'PSDK-R'!D11,'Sarpras-R'!D11,'Farmakmin-R'!D11) -> 438 | E24: =D24/SUM(D21:D26) -> 0.45863874 | M24: SMT I 2025 | N24: 84.54 | O24: =VLOOKUP(N24,$I$2:$J$5,2,TRUE) -> B
C25: S-1 | D25: =SUM('Umpeg-R'!D12,'Keuangan-R'!D12,'PE-R'!D12,'Regli-R'!D12,'Kesus-R'!D12,'Kesdas-R'!D12,'Promkes-R'!D12,'GiziKIA-R'!D12,'Keswapol-R'!D12,'Survim-R'!D12,'P2P-R'!D12,'Kesling-R'!D12,'PSDK-R'!D12,'Sarpras-R'!D12,'Farmakmin-R'!D12) -> 360 | E25: =D25/SUM(D21:D26) -> 0.37696335 | M25: SMT II 2025 | N25: 85.33 | O25: =VLOOKUP(N25,$I$2:$J$5,2,TRUE) -> B
C26: S-2 ke atas | D26: =SUM('Umpeg-R'!D13,'Keuangan-R'!D13,'PE-R'!D13,'Regli-R'!D13,'Kesus-R'!D13,'Kesdas-R'!D13,'Promkes-R'!D13,'GiziKIA-R'!D13,'Keswapol-R'!D13,'Survim-R'!D13,'P2P-R'!D13,'Kesling-R'!D13,'PSDK-R'!D13,'Sarpras-R'!D13,'Farmakmin-R'!D13) -> 75 | E26: =D26/SUM(D21:D26) -> 0.078534031 | M26: SMT I 2026 | N26: 86.28 | O26: =VLOOKUP(N26,$I$2:$J$5,2,TRUE) -> B
A27: 3 | B27: Instansi | C27: Instansi Pemkab Sleman | D27: =SUM('Umpeg-R'!D14,'Keuangan-R'!D14,'PE-R'!D14,'Regli-R'!D14,'Kesus-R'!D14,'Kesdas-R'!D14,'Promkes-R'!D14,'GiziKIA-R'!D14,'Keswapol-R'!D14,'Survim-R'!D14,'P2P-R'!D14,'Kesling-R'!D14,'PSDK-R'!D14,'Sarpras-R'!D14,'Farmakmin-R'!D14) -> 647 | E27: =D27/SUM(D27:D31) -> 0.68033649
C28: Pegawai Swasta | D28: =SUM('Umpeg-R'!D15,'Keuangan-R'!D15,'PE-R'!D15,'Regli-R'!D15,'Kesus-R'!D15,'Kesdas-R'!D15,'Promkes-R'!D15,'GiziKIA-R'!D15,'Keswapol-R'!D15,'Survim-R'!D15,'P2P-R'!D15,'Kesling-R'!D15,'PSDK-R'!D15,'Sarpras-R'!D15,'Farmakmin-R'!D15) -> 142 | E28: =D28/SUM(D27:D31) -> 0.14931651
C29: Akademisi | D29: =SUM('Umpeg-R'!D16,'Keuangan-R'!D16,'PE-R'!D16,'Regli-R'!D16,'Kesus-R'!D16,'Kesdas-R'!D16,'Promkes-R'!D16,'GiziKIA-R'!D16,'Keswapol-R'!D16,'Survim-R'!D16,'P2P-R'!D16,'Kesling-R'!D16,'PSDK-R'!D16,'Sarpras-R'!D16,'Farmakmin-R'!D16) -> 17 | E29: =D29/SUM(D27:D31) -> 0.01787592
C30: Masyarakat | D30: =SUM('Umpeg-R'!D17,'Keuangan-R'!D17,'PE-R'!D17,'Regli-R'!D17,'Kesus-R'!D17,'Kesdas-R'!D17,'Promkes-R'!D17,'GiziKIA-R'!D17,'Keswapol-R'!D17,'Survim-R'!D17,'P2P-R'!D17,'Kesling-R'!D17,'PSDK-R'!D17,'Sarpras-R'!D17,'Farmakmin-R'!D17) -> 37 | E30: =D30/SUM(D27:D31) -> 0.038906414
C31: Lainnya | D31: =SUM('Umpeg-R'!D18,'Keuangan-R'!D18,'PE-R'!D18,'Regli-R'!D18,'Kesus-R'!D18,'Kesdas-R'!D18,'Promkes-R'!D18,'GiziKIA-R'!D18,'Keswapol-R'!D18,'Survim-R'!D18,'P2P-R'!D18,'Kesling-R'!D18,'PSDK-R'!D18,'Sarpras-R'!D18,'Farmakmin-R'!D18) -> 108 | E31: =D31/SUM(D27:D31) -> 0.11356467
W33: NILAI IKM STANDAR | Y33: NILAI IKM RAPAT
D35: =D3+D4+D19+D20 -> 1466
W36: 0.9141 | Y36: 0.8628
X38: NILAI IKM DINAS KESEHATAN

Sheet REKAP FINAL
C3: INDEKS KEPUASAN MASYARAKAT (IKM)
C4: DINAS KESEHATAN KABUPATEN SLEMAN
C6: SEMESTER I TAHUN 2026
C8: NILAI IKM | E8: NAMA LAYANAN : DINAS KESEHATAN
E10: KARAKTERISTIK RESPONDEN
E11: JUMLAH | F11: : | I11: =P11 -> 1466 | J11: Orang | P11: =SUM(O12:P13) -> 1466
E12: JENIS KELAMIN | F12: : | G12: L | H12: = | I12: =P12 -> 353 | J12: Orang | P12: =V66+AB172 -> 353
G13: P | H13: = | I13: =P13 -> 1113 | J13: Orang | P13: =V67+AB173 -> 1113
E14: PENDIDIKAN | F14: : | G14: SD | H14: = | I14: =P14 -> 7 | J14: Orang | P14: =V68+AB174 -> 7 | R14: =SUM(P14:P19) -> 1466
G15: SMP | H15: = | I15: =P15 -> 18 | J15: Orang | P15: =V69+AB175 -> 18
G16: SMA | H16: = | I16: =P16 -> 307 | J16: Orang | P16: =V70+AB176 -> 307
G17: DI - DIV | H17: = | I17: =P17 -> 541 | J17: Orang | P17: =V71+AB177 -> 541
G18: S1 | H18: = | I18: =P18 -> 502 | J18: Orang | P18: =V72+AB178 -> 502
G19: S2 | H19: = | I19: =P19 -> 91 | J19: Orang | P19: =V73+AB179 -> 91
E20: PERIODE SURVEY : 01 Januari 2026 s/d 30 Juni 2026
C22: TERIMA KASIH ATAS PENILAIAN YANG TELAH ANDA BERIKAN MASUKAN ANDA SANGAT BERMANFAAT UNTUK KEMANJUAN UNIT KAMI AGAR TERUS MEMPERBAIKI DAN MENINGKATKAN KUALITAS PELAYANAN
O26: REKAP KARAKTERISTIK RESPONDEN KUESIONER STANDAR
O29: REKAP KARAKTERISTIK RESPONDEN BIDANG PELAYANAN KESEHATAN
O30: NO | P30: KARAKTERISTIK | Q30: INDIKATOR | R30: REGLI | T30: KESSUS | V30: KESDAS | X30: YANKES
R31: Jumlah | S31: % | T31: Jumlah | U31: % | V31: Jumlah | W31: % | X31: Jumlah | Y31: %
O32: 1 | P32: Jenis kelamin | Q32: Laki-Laki | R32: =SUM('Regli-S'!D6) -> 30 | S32: =R32/SUM(R32:R33) -> 0.38961039 | T32: =SUM('Kesus-S'!D6) -> 24 | U32: =T32/SUM(T32:T33) -> 0.27586207 | V32: =SUM('Kesdas-S'!D6) -> 6 | W32: =V32/SUM(V32:V33) -> 0.28571429 | X32: =SUM('Regli-S'!D6,'Kesus-S'!D6,'Kesdas-S'!D6) -> 60 | Y32: =X32/SUM(X32:X33) -> 0.32432432
Q33: Perempuan | R33: =SUM('Regli-S'!D7) -> 47 | S33: =R33/SUM(R32:R33) -> 0.61038961 | T33: =SUM('Kesus-S'!D7) -> 63 | U33: =T33/SUM(T32:T33) -> 0.72413793 | V33: =SUM('Kesdas-S'!D7) -> 15 | W33: =V33/SUM(V32:V33) -> 0.71428571 | X33: =SUM('Regli-S'!D7,'Kesus-S'!D7,'Kesdas-S'!D7) -> 125 | Y33: =X33/SUM(X32:X33) -> 0.67567568
O34: 2 | P34: Pendidikan | Q34: SD Kebawah | R34: =SUM('Regli-S'!D8) -> 0 | S34: =R34/SUM($R$34:$R$39) -> 0 | T34: =SUM('Kesus-S'!D8) -> 5 | U34: =T34/SUM($T$34:$T$39) -> 0.057471264 | V34: =SUM('Kesdas-S'!D8) -> 0 | W34: =V34/SUM(V$34:V$39) -> 0 | X34: =SUM('Regli-S'!D8,'Kesus-S'!D8,'Kesdas-S'!D8) -> 5 | Y34: =X34/SUM(X$34:X$39) -> 0.027027027
Q35: SLTP | R35: =SUM('Regli-S'!D9) -> 1 | S35: =R35/SUM($R$34:$R$39) -> 0.012987013 | T35: =SUM('Kesus-S'!D9) -> 10 | U35: =T35/SUM($T$34:$T$39) -> 0.11494253 | V35: =SUM('Kesdas-S'!D9) -> 0 | W35: =V35/SUM(V$34:V$39) -> 0 | X35: =SUM('Regli-S'!D9,'Kesus-S'!D9,'Kesdas-S'!D9) -> 11 | Y35: =X35/SUM(X$34:X$39) -> 0.059459459
Q36: SLTA | R36: =SUM('Regli-S'!D10) -> 14 | S36: =R36/SUM($R$34:$R$39) -> 0.18181818 | T36: =SUM('Kesus-S'!D10) -> 50 | U36: =T36/SUM($T$34:$T$39) -> 0.57471264 | V36: =SUM('Kesdas-S'!D10) -> 2 | W36: =V36/SUM(V$34:V$39) -> 0.095238095 | X36: =SUM('Regli-S'!D10,'Kesus-S'!D10,'Kesdas-S'!D10) -> 66 | Y36: =X36/SUM(X$34:X$39) -> 0.35675676
Q37: D1 - D4 | R37: =SUM('Regli-S'!D11) -> 14 | S37: =R37/SUM($R$34:$R$39) -> 0.18181818 | T37: =SUM('Kesus-S'!D11) -> 9 | U37: =T37/SUM($T$34:$T$39) -> 0.10344828 | V37: =SUM('Kesdas-S'!D11) -> 2 | W37: =V37/SUM(V$34:V$39) -> 0.095238095 | X37: =SUM('Regli-S'!D11,'Kesus-S'!D11,'Kesdas-S'!D11) -> 25 | Y37: =X37/SUM(X$34:X$39) -> 0.13513514
Q38: S-1 | R38: =SUM('Regli-S'!D12) -> 38 | S38: =R38/SUM($R$34:$R$39) -> 0.49350649 | T38: =SUM('Kesus-S'!D12) -> 13 | U38: =T38/SUM($T$34:$T$39) -> 0.14942529 | V38: =SUM('Kesdas-S'!D12) -> 17 | W38: =V38/SUM(V$34:V$39) -> 0.80952381 | X38: =SUM('Regli-S'!D12,'Kesus-S'!D12,'Kesdas-S'!D12) -> 68 | Y38: =X38/SUM(X$34:X$39) -> 0.36756757
Q39: S-2 ke atas | R39: =SUM('Regli-S'!D13) -> 10 | S39: =R39/SUM($R$34:$R$39) -> 0.12987013 | T39: =SUM('Kesus-S'!D13) -> 0 | U39: =T39/SUM($T$34:$T$39) -> 0 | V39: =SUM('Kesdas-S'!D13) -> 0 | W39: =V39/SUM(V$34:V$39) -> 0 | X39: =SUM('Regli-S'!D13,'Kesus-S'!D13,'Kesdas-S'!D13) -> 10 | Y39: =X39/SUM(X$34:X$39) -> 0.054054054
O40: 3 | P40: Instansi | Q40: PNS/TNI/POLRI | R40: =SUM('Regli-S'!D14) -> 22 | S40: =R40/SUM($R$40:$R$44) -> 0.28571429 | T40: =SUM('Kesus-S'!D14) -> 1 | U40: =T40/SUM($T$40:$T$44) -> 0.012195122 | V40: =SUM('Kesdas-S'!D14) -> 1 | W40: =V40/SUM(V$40:V$44) -> 0.047619048 | X40: =SUM('Regli-S'!D14,'Kesus-S'!D14,'Kesdas-S'!D14) -> 24 | Y40: =X40/SUM(X$40:X$44) -> 0.13333333
Q41: Instansi Luar | R41: =SUM('Regli-S'!D15) -> 7 | S41: =R41/SUM($R$40:$R$44) -> 0.090909091 | T41: =SUM('Kesus-S'!D15) -> 0 | U41: =T41/SUM($T$40:$T$44) -> 0 | V41: =SUM('Kesdas-S'!D15) -> 0 | W41: =V41/SUM(V$40:V$44) -> 0 | X41: =SUM('Regli-S'!D15,'Kesus-S'!D15,'Kesdas-S'!D15) -> 7 | Y41: =X41/SUM(X$40:X$44) -> 0.038888889
Q42: Wirausahawan/Usahawan | R42: =SUM('Regli-S'!D16) -> 1 | S42: =R42/SUM($R$40:$R$44) -> 0.012987013 | T42: =SUM('Kesus-S'!D16) -> 4 | U42: =T42/SUM($T$40:$T$44) -> 0.048780488 | V42: =SUM('Kesdas-S'!D16) -> 1 | W42: =V42/SUM(V$40:V$44) -> 0.047619048 | X42: =SUM('Regli-S'!D16,'Kesus-S'!D16,'Kesdas-S'!D16) -> 6 | Y42: =X42/SUM(X$40:X$44) -> 0.033333333
Q43: Pelajar/Mahasiswa | R43: =SUM('Regli-S'!D17) -> 1 | S43: =R43/SUM($R$40:$R$44) -> 0.012987013 | T43: =SUM('Kesus-S'!D17) -> 7 | U43: =T43/SUM($T$40:$T$44) -> 0.085365854 | V43: =SUM('Kesdas-S'!D17) -> 8 | W43: =V43/SUM(V$40:V$44) -> 0.38095238 | X43: =SUM('Regli-S'!D17,'Kesus-S'!D17,'Kesdas-S'!D17) -> 16 | Y43: =X43/SUM(X$40:X$44) -> 0.088888889
Q44: Lainnya | R44: =SUM('Regli-S'!D18) -> 46 | S44: =R44/SUM($R$40:$R$44) -> 0.5974026 | T44: =SUM('Kesus-S'!D18) -> 70 | U44: =T44/SUM($T$40:$T$44) -> 0.85365854 | V44: =SUM('Kesdas-S'!D18) -> 11 | W44: =V44/SUM(V$40:V$44) -> 0.52380952 | X44: =SUM('Regli-S'!D18,'Kesus-S'!D18,'Kesdas-S'!D18) -> 127 | Y44: =X44/SUM(X$40:X$44) -> 0.70555556
O46: REKAP KARAKTERISTIK RESPONDEN BIDANG PELAYANAN KESEHATAN
O47: NO | P47: KARAKTERISTIK | Q47: INDIKATOR | R47: PSDK | T47: FARMAKMIN | V47: SARPRAS | X47: SDK
R48: Jumlah | S48: % | T48: Jumlah | U48: % | V48: Jumlah | W48: % | X48: Jumlah | Y48: %
O49: 1 | P49: Jenis kelamin | Q49: Laki-Laki | R49: =SUM('PSDK-S'!D6) -> 18 | S49: =R49/SUM(R49:R50) -> 0.75 | T49: =SUM('Farmakmin-S'!D6) -> 29 | U49: =T49/SUM(T49:T50) -> 0.35802469 | V49: =SUM('Sarpras-S'!D6) -> 23 | W49: =V49/SUM(V49:V50) -> 0.82142857 | X49: =SUM('PSDK-S'!D6,'Sarpras-S'!D6,'Farmakmin-S'!D6) -> 70 | Y49: =X49/SUM(X49:X50) -> 0.21472393
Q50: Perempuan | R50: 6 | S50: =R50/SUM(R49:R50) -> 0.25 | T50: =SUM('Farmakmin-S'!D7) -> 52 | U50: =T50/SUM(T49:T50) -> 0.64197531 | V50: =SUM('Sarpras-S'!D7) -> 5 | W50: =V50/SUM(V49:V50) -> 0.17857143 | X50: =SUM('PSDK-S'!D7,'Sarpras-S'!D7,'Farmakmin-S'!D7) -> 256 | Y50: =X50/SUM(X49:X50) -> 0.78527607
O51: 2 | P51: Pendidikan | Q51: SD Kebawah | R51: =SUM('PSDK-S'!D8) -> 0 | S51: =R51/SUM($R51:$R56) -> 0 | T51: =SUM('Farmakmin-S'!D8) -> 2 | U51: =T51/SUM($T51:$T56) -> 0.024691358 | V51: =SUM('Sarpras-S'!D8) -> 0 | W51: =V51/SUM($V51:$V56) -> 0 | X51: =SUM('PSDK-S'!D8,'Sarpras-S'!D8,'Farmakmin-S'!D8) -> 2 | Y51: =X51/SUM($X51:X$56) -> 0.0061349693
Q52: SLTP | R52: =SUM('PSDK-S'!D9) -> 0 | S52: =R52/SUM($R51:$R56) -> 0 | T52: =SUM('Farmakmin-S'!D9) -> 1 | U52: =T52/SUM($T51:$T56) -> 0.012345679 | V52: =SUM('Sarpras-S'!D9) -> 0 | W52: =V52/SUM($V51:$V56) -> 0 | X52: =SUM('PSDK-S'!D9,'Sarpras-S'!D9,'Farmakmin-S'!D9) -> 1 | Y52: =X52/SUM($X51:X$56) -> 0.0030674847
...

Sheet Regli-S
A1: BIDANG PELAYANAN KESEHATAN TIM KERJA REGISTRASI LISENSI MUTU PELAYANAN
A4: Tipe Kuisioner: Standar
A5: NO | B5: KARAKTERISTIK | C5: INDIKATOR | D5: JUMLAH | E5: PERSENTASE (%)
A6: 1 | B6: Jenis kelamin | C6: Laki-Laki | D6: =COUNTIF(C22:C1000,"Laki-Laki") -> 30 | E6: =+D6/77 -> 0.38961039
C7: Perempuan | D7: =COUNTIF(C22:C1000,"Perempuan") -> 47 | E7: =+D7/77 -> 0.61038961
A8: 2 | B8: Pendidikan | C8: SD Kebawah | D8: =COUNTIF(D22:D1000,"SD Kebawah") -> 0 | E8: =+D8/77 -> 0
C9: SLTP | D9: =COUNTIF(D22:D1000,"SLTP") -> 1 | E9: =+D9/77 -> 0.012987013
C10: SLTA | D10: =COUNTIF(D22:D1000,"SLTA") -> 14 | E10: =+D10/77 -> 0.18181818
C11: D1 - D3 - D4 | D11: =COUNTIF(D22:D1000,"D1 - D3 - D4") -> 14 | E11: =+D11/77 -> 0.18181818
C12: S-1 | D12: =COUNTIF(D22:D1000,"S-1") -> 38 | E12: =+D12/77 -> 0.49350649
C13: S-2 ke atas | D13: =COUNTIF(D22:D1000,"S-2 ke atas") -> 10 | E13: =+D13/77 -> 0.12987013
A14: 3 | B14: Instansi | C14: PNS/TNI/POLRI | D14: =COUNTIF(E22:E1000,"PNS/TNI/POLRI") -> 22 | E14: =+D14/77 -> 0.28571429
C15: Instansi Luar | D15: =COUNTIF(E22:E1000,"Instansi Luar") -> 7 | E15: =+D15/77 -> 0.090909091
C16: Wirausahawan/Usahawan | D16: =COUNTIF(E22:E1000,"Wirausahawan/Usahawan") -> 1 | E16: =+D16/77 -> 0.012987013
C17: Pelajar/Mahasiswa | D17: =COUNTIF(E22:E1000,"Pelajar/Mahasiswa") -> 1 | E17: =+D17/77 -> 0.012987013
C18: Lainnya | D18: =COUNTIF(E22:E1000,"Lainnya") -> 46 | E18: =+D18/77 -> 0.5974026
F19: =AVERAGE(F22:F1000) -> 3.5974026 | G19: =AVERAGE(G22:G1000) -> 3.5714286 | H19: =AVERAGE(H22:H1000) -> 3.5844156 | I19: =AVERAGE(I22:I1000) -> 3.8701299 | J19: =AVERAGE(J22:J1000) -> 3.5454545 | K19: =AVERAGE(K22:K1000) -> 3.5844156 | L19: =AVERAGE(L22:L1000) -> 3.5714286 | M19: =AVERAGE(M22:M1000) -> 3.8701299 | N19: =AVERAGE(N22:N1000) -> 3.5454545
A21: No | B21: Umur | C21: Jenis Kelamin | D21: Pendidikan | E21: Pekerjaan | F21: U1 | G21: U2 | H21: U3 | I21: U4 | J21: U5 | K21: U6 | L21: U7 | M21: U8 | N21: U9 | O21: Kritik/Saran
A22: 1 | B22: 35 | C22: Perempuan | D22: S-2 ke atas | E22: Lainnya | F22: 3 | G22: 3 | H22: 3 | I22: 4 | J22: 3 | K22: 3 | L22: 3 | M22: 3 | N22: 3 | O22: Baik
A23: 2 | B23: 35 | C23: Perempuan | D23: SLTA | E23: Instansi Luar | F23: 4 | G23: 4 | H23: 4 | I23: 4 | J23: 4 | K23: 4 | L23: 4 | M23: 4 | N23: 4 | O23: Mantap langsung jadi. Semoga sllu trbaik
A24: 3 | B24: 30 | C24: Perempuan | D24: S-1 | E24: Lainnya | F24: 4 | G24: 3 | H24: 3 | I24: 4 | J24: 3 | K24: 4 | L24: 3 | M24: 1 | N24: 3 | O24: sudah baik
A25: 4 | B25: 36 | C25: Perempuan | D25: S-2 ke atas | E25: Lainnya | F25: 4 | G25: 4 | H25: 4 | I25: 4 | J25: 4 | K25: 4 | L25: 4 | M25: 4 | N25: 4 | O25: Tetap pertahankan pelayanan yg sudah sangat baik
A26: 5 | B26: 26 | C26: Laki-Laki | D26: D1 - D3 - D4 | E26: Lainnya | F26: 3 | G26: 3 | H26: 3 | I26: 4 | J26: 3 | K26: 3 | L26: 3 | M26: 4 | N26: 4 | O26: Kualitas Pelayanan sudah sangat baik
A27: 6 | B27: 21 | C27: Perempuan | D27: D1 - D3 - D4 | E27: Lainnya | F27: 3 | G27: 3 | H27: 3 | I27: 3 | J27: 3 | K27: 3 | L27: 3 | M27: 3 | N27: 3 | O27: untuk cs manusia harap lebih diupgrade
A28: 7 | B28: 36 | C28: Perempuan | D28: S-1 | E28: Lainnya | F28: 3 | G28: 3 | H28: 4 | I28: 4 | J28: 3 | K28: 4 | L28: 3 | M28: 4 | N28: 3 | O28: Terimakasih untuk bantuannya. Walaupun terkejut tempat praktek nya berbeda nama dg yg sy ajukan. Semoga kedepannya tdk bermasalah. Terimakasih ????
A29: 8 | B29: 25 | C29: Perempuan | D29: S-1 | E29: Lainnya | F29: 3 | G29: 3 | H29: 3 | I29: 4 | J29: 3 | K29: 3 | L29: 3 | M29: 4 | N29: 3 | O29: -
A30: 9 | B30: 42 | C30: Perempuan | D30: S-1 | E30: PNS/TNI/POLRI | F30: 4 | G30: 4 | H30: 4 | I30: 4 | J30: 4 | K30: 4 | L30: 4 | M30: 4 | N30: 4 | O30: saya dibantu oleh petugas an. Joko. sangat membantu. terimakasih
A31: 10 | B31: 40 | C31: Perempuan | D31: S-1 | E31: PNS/TNI/POLRI | F31: 4 | G31: 4 | H31: 4 | I31: 4 | J31: 4 | K31: 4 | L31: 4 | M31: 4 | N31: 4 | O31: dipertahankan dan ditingkatkan
A32: 11 | B32: 43 | C32: Perempuan | D32: S-2 ke atas | E32: Lainnya | F32: 4 | G32: 4 | H32: 4 | I32: 4 | J32: 4 | K32: 4 | L32: 4 | M32: 4 | N32: 4 | O32: Pertahankan kualitas layanan yg sudah bagus dan tidak mempersulit..mantap
A33: 12 | B33: 26 | C33: Perempuan | D33: S-1 | E33: Lainnya | F33: 3 | G33: 3 | H33: 3 | I33: 4 | J33: 3 | K33: 3 | L33: 3 | M33: 4 | N33: 2 | O33: -
... A98: 77 | B98: 37 | C98: Laki-Laki | D98: SLTA | E98: Lainnya | F98: 4 | G98: 4 | H98: 4 | I98: 4 | J98: 4 | K98: 4 | L98: 4 | M98: 4 | N98: 4 | O98: Joss gandos

Sheet Kesus-S
D1: BIDANG PELAYANAN KESEHATAN
D2: TIM KERJA KESEHATAN KHUSUS DAN PENJAMINAN
A4: Tipe Kuisioner: Standar
A5: NO | B5: KARAKTERISTIK | C5: INDIKATOR | D5: JUMLAH | E5: PERSENTASE (%)
A6: 1 | B6: Jenis kelamin | C6: Laki-Laki | D6: =COUNTIF(C22:C1000,"Laki-Laki") -> 24 | E6: =+D6/87 -> 0.27586207 | H6: =SUM(D6:D7) -> 87
C7: Perempuan | D7: =COUNTIF(C22:C1000,"Perempuan") -> 63 | E7: =+D7/87 -> 0.72413793 | H7: =SUM(D8:D13) -> 87
A8: 2 | B8: Pendidikan | C8: SD Kebawah | D8: =COUNTIF(D22:D1000,"SD ke bawah") -> 5 | E8: =+D8/87 -> 0.057471264
C9: SLTP | D9: =COUNTIF(D22:D1000,"SLTP") -> 10 | E9: =+D9/87 -> 0.11494253
C10: SLTA | D10: =COUNTIF(D22:D1000,"SLTA") -> 50 | E10: =+D10/87 -> 0.57471264
C11: D1 - D3 - D4 | D11: =COUNTIF(D22:D1000,"D1 - D3 - D4") -> 9 | E11: =+D11/87 -> 0.10344828
C12: S-1 | D12: =COUNTIF(D22:D1000,"S-1") -> 13 | E12: =+D12/87 -> 0.14942529
C13: S-2 ke atas | D13: =COUNTIF(D22:D1000,"S-2 ke atas") -> 0 | E13: =+D13/87 -> 0
A14: 3 | B14: Instansi | C14: PNS/TNI/POLRI | D14: =COUNTIF(E22:E1000,"PNS/TNI/POLRI") -> 1 | E14: =+D14/87 -> 0.011494253
C15: Instansi Luar | D15: =COUNTIF(E22:E1000,"Instansi Luar") -> 0 | E15: =+D15/87 -> 0
C16: Wirausahawan/Usahawan | D16: =COUNTIF(E22:E1000,"Wirausahawan/Usahawan") -> 4 | E16: =+D16/87 -> 0.045977011
C17: Pelajar/Mahasiswa | D17: =COUNTIF(E22:E1000,"Pelajar/Mahasiswa") -> 7 | E17: =+D17/87 -> 0.08045977
C18: Lainnya | D18: =COUNTIF(E22:E1000,"Lainnya") -> 70 | E18: =+D18/87 -> 0.8045977
F19: =AVERAGE(F22:F1000) -> 3.4942529 | G19: =AVERAGE(G22:G1000) -> 3.5172414 | H19: =AVERAGE(H22:H1000) -> 3.4597701 | I19: =AVERAGE(I22:I1000) -> 3.9425287 | J19: =AVERAGE(J22:J1000) -> 3.4712644 | K19: =AVERAGE(K22:K1000) -> 3.5517241 | L19: =AVERAGE(L22:L1000) -> 3.6436782 | M19: =AVERAGE(M22:M1000) -> 3.9885057 | N19: =AVERAGE(N22:N1000) -> 3.7356322
A20: Laporan | Responden | IKM
A21: No | B21: Umur | C21: Jenis Kelamin | D21: Pendidikan | E21: Pekerjaan | F21: U1 | G21: U2 | H21: U3 | I21: U4 | J21: U5 | K21: U6 | L21: U7 | M21: U8 | N21: U9 | O21: Kritik/Saran
A22: 1 | B22: 35 | C22: Perempuan | D22: SLTA | E22: Lainnya | F22: 3 | G22: 3 | H22: 4 | I22: 4 | J22: 4 | K22: 4 | L22: 4 | M22: 4 | N22: 4 | O22: Sudah sangat baik dlm pelayanan dan penanganan untuk masyarakat. Dipertahankan dan ditingkatkan lagi
A23: 2 | B23: 57 | C23: Laki-Laki | D23: SD ke bawah | E23: Lainnya | F23: 3 | G23: 3 | H23: 3 | I23: 4 | J23: 3 | K23: 4 | L23: 4 | M23: 4 | N23: 3 | O23: Pelayanan dan penanganan sangat baik.
A24: 3 | B24: 25 | C24: Perempuan | D24: SLTA | E24: Lainnya | F24: 3 | G24: 3 | H24: 3 | I24: 4 | J24: 3 | K24: 3 | L24: 4 | M24: 4 | N24: 3 | O24: Semakin meningkat lebih baik
A25: 4 | B25: 62 | C25: Perempuan | D25: SD ke bawah | E25: Lainnya | F25: 4 | G25: 3 | H25: 4 | I25: 4 | J25: 4 | K25: 4 | L25: 3 | M25: 4 | N25: 3 | O25: Pelayanan cepat dan memuaskan
A26: 5 | B26: 69 | C26: Laki-Laki | D26: SD ke bawah | E26: Lainnya | F26: 3 | G26: 3 | H26: 3 | I26: 4 | J26: 3 | K26: 3 | L26: 3 | M26: 4 | N26: 3 | O26: Cukup baik
A27: 6 | B27: 54 | C27: Perempuan | D27: SLTA | E27: Lainnya | F27: 3 | G27: 3 | H27: 3 | I27: 3 | J27: 3 | K27: 2 | L27: 3 | M27: 4 | N27: 3 | O27: Dengarkan suara rakyat kecil
A28: 7 | B28: 56 | C28: Perempuan | D28: SLTA | E28: Lainnya | F28: 3 | G28: 3 | H28: 3 | I28: 3 | J28: 3 | K28: 3 | L28: 3 | M28: 4 | N28: 3 | O28: Cukup memuaskan
A29: 8 | B29: 61 | C29: Perempuan | D29: SLTA | E29: Lainnya | F29: 3 | G29: 4 | H29: 4 | I29: 4 | J29: 4 | K29: 4 | L29: 4 | M29: 4 | N29: 4 | O29: Sudah sangat bagus cepat dalam penanganan....pertahankan
A30: 9 | B30: 59 | C30: Perempuan | D30: SLTA | E30: Lainnya | F30: 3 | G30: 3 | H30: 3 | I30: 4 | J30: 3 | K30: 3 | L30: 3 | M30: 4 | N30: 3 | O30: Semakin di maksimalkan.
A31: 10 | B31: 59 | C31: Perempuan | D31: SLTA | E31: Lainnya | F31: 3 | G31: 3 | H31: 3 | I31: 4 | J31: 3 | K31: 3 | L31: 3 | M31: 4 | N31: 3 | O31: Semakin di maksimalkan.
A32: 11 | B32: 26 | C32: Perempuan | D32: SLTA | E32: Lainnya | F32: 4 | G32: 3 | H32: 4 | I32: 4 | J32: 3 | K32: 3 | L32: 4 | M32: 4 | N32: 4 | O32: Semoga stafnya bisa ramah dan displin trs.
A33: 12 | B33: 49 | C33: Perempuan | D33: SLTA | E33: Lainnya | F33: 3 | G33: 3 | H33: 3 | I33: 4 | J33: 3 | K33: 3 | L33: 4 | M33: 4 | N33: 4 | O33: Terima kasih atas pelayanannya dngan baik
... A108: 87 | B108: 43 | C108: Perempuan | D108: S-1 | E108: Lainnya | F108: 4 | G108: 4 | H108: 4 | I108: 4 | J108: 4 | K108: 4 | L108: 4 | M108: 4 | N108: 4 | O108: -

Sheet Kesdas-S
D1: BIDANG PELAYANAN KESEHATAN
D2: TIM KERJA KESEHATAN KHUSUS DAN PENJAMINAN
A4: Tipe Kuisioner: Standar
A5: NO | B5: KARAKTERISTIK | C5: INDIKATOR | D5: JUMLAH | E5: PERSENTASE (%)
A6: 1 | B6: Jenis kelamin | C6: Laki-Laki | D6: =COUNTIF(C22:C1000,"Laki-Laki") -> 6 | E6: =+D6/21 -> 0.28571429 | I6: =SUM(D6:D7) -> 21
C7: Perempuan | D7: =COUNTIF(C22:C1000,"Perempuan") -> 15 | E7: =+D7/21 -> 0.71428571 | I7: =SUM(D8:D13) -> 21
A8: 2 | B8: Pendidikan | C8: SD Kebawah | D8: =COUNTIF(D22:D1000,"SD ke bawah") -> 0 | E8: =+D8/21 -> 0
C9: SLTP | D9: =COUNTIF(D22:D1000,"SLTP") -> 0 | E9: =+D9/21 -> 0
C10: SLTA | D10: =COUNTIF(D22:D1000,"SLTA") -> 2 | E10: =+D10/21 -> 0.095238095
C11: D1 - D3 - D4 | D11: =COUNTIF(D22:D1000,"D1 - D3 - D4") -> 2 | E11: =+D11/21 -> 0.095238095
C12: S-1 | D12: =COUNTIF(D22:D1000,"S-1") -> 17 | E12: =+D12/21 -> 0.80952381
C13: S-2 ke atas | D13: =COUNTIF(D22:D1000,"S-2 ke atas") -> 0 | E13: =+D13/21 -> 0
A14: 3 | B14: Instansi | C14: PNS/TNI/POLRI | D14: =COUNTIF(E22:E1000,"PNS/TNI/POLRI") -> 1 | E14: =+D14/21 -> 0.047619048
C15: Instansi Luar | D15: =COUNTIF(E22:E1000,"Instansi Luar") -> 0 | E15: =+D15/21 -> 0
C16: Wirausahawan/Usahawan | D16: =COUNTIF(E22:E1000,"Wirausahawan/Usahawan") -> 1 | E16: =+D16/21 -> 0.047619048
C17: Pelajar/Mahasiswa | D17: =COUNTIF(E22:E1000,"Pelajar/Mahasiswa") -> 8 | E17: =+D17/21 -> 0.38095238
C18: Lainnya | D18: =COUNTIF(E22:E1000,"Lainnya") -> 11 | E18: =+D18/21 -> 0.52380952
F19: =AVERAGE(F22:F1000) -> 3.5238095 | G19: =AVERAGE(G22:G1000) -> 3.5714286 | H19: =AVERAGE(H22:H1000) -> 3.6190476 | I19: =AVERAGE(I22:I1000) -> 3.7619048 | J19: =AVERAGE(J22:J1000) -> 3.5714286 | K19: =AVERAGE(K22:K1000) -> 3.5714286 | L19: =AVERAGE(L22:L1000) -> 3.7142857 | M19: =AVERAGE(M22:M1000) -> 4 | N19: =AVERAGE(N22:N1000) -> 3.5238095
A20: Laporan | Responden | IKM
A21: No | B21: Umur | C21: Jenis Kelamin | D21: Pendidikan | E21: Pekerjaan | F21: U1 | G21: U2 | H21: U3 | I21: U4 | J21: U5 | K21: U6 | L21: U7 | M21: U8 | N21: U9 | O21: Kritik/Saran
A22: 1 | B22: 30 | C22: Perempuan | D22: S-1 | E22: PNS/TNI/POLRI | F22: 4 | G22: 4 | H22: 4 | I22: 4 | J22: 4 | K22: 4 | L22: 3 | M22: 4 | N22: 4 | O22: Sudah baik
A23: 2 | B23: 22 | C23: Laki-Laki | D23: SLTA | E23: Lainnya | F23: 3 | G23: 3 | H23: 3 | I23: 4 | J23: 3 | K23: 3 | L23: 3 | M23: 4 | N23: 3 | O23: Lanjutkan
A24: 3 | B24: 21 | C24: Perempuan | D24: D1 - D3 - D4 | E24: Pelajar/Mahasiswa | F24: 3 | G24: 4 | H24: 4 | I24: 4 | J24: 3 | K24: 3 | L24: 4 | M24: 4 | N24: 3 | O24: Baik
A25: 4 | B25: 21 | C25: Perempuan | D25: D1 - D3 - D4 | E25: Pelajar/Mahasiswa | F25: 3 | G25: 3 | H25: 4 | I25: 4 | J25: 3 | K25: 3 | L25: 4 | M25: 4 | N25: 3 | O25: Baik
A26: 5 | B26: 25 | C26: Perempuan | D26: S-1 | E26: Lainnya | F26: 3 | G26: 3 | H26: 3 | I26: 3 | J26: 3 | K26: 3 | L26: 4 | M26: 4 | N26: 3 | O26: ditingkatkan agar lebih baik kedepannya
A27: 6 | B27: 27 | C27: Laki-Laki | D27: S-1 | E27: Lainnya | F27: 4 | G27: 4 | H27: 4 | I27: 4 | J27: 4 | K27: 4 | L27: 4 | M27: 4 | N27: 4 | O27: Sudah sangat baik
A28: 7 | B28: 30 | C28: Laki-Laki | D28: S-1 | E28: Wirausahawan/Usahawan | F28: 4 | G28: 4 | H28: 4 | I28: 4 | J28: 4 | K28: 4 | L28: 4 | M28: 4 | N28: 4 | O28: sudah sangat baik
A29: 8 | B29: 26 | C29: Laki-Laki | D29: S-1 | E29: Pelajar/Mahasiswa | F29: 4 | G29: 4 | H29: 4 | I29: 4 | J29: 4 | K29: 4 | L29: 4 | M29: 4 | N29: 4 | O29: Sudah baik pelayan sudah cepat dan ramah
A30: 9 | B30: 24 | C30: Perempuan | D30: S-1 | E30: Pelajar/Mahasiswa | F30: 4 | G30: 4 | H30: 4 | I30: 4 | J30: 4 | K30: 4 | L30: 4 | M30: 4 | N30: 4 | O30: Petugas ramah dan cekatan. Terima kasih
A31: 10 | B31: 24 | C31: Perempuan | D31: S-1 | E31: Pelajar/Mahasiswa | F31: 4 | G31: 4 | H31: 4 | I31: 4 | J31: 4 | K31: 4 | L31: 4 | M31: 4 | N31: 4 | O31: Petugas cepat tanggap dan sangat membantu terimakasih
A32: 11 | B32: 24 | C32: Perempuan | D32: S-1 | E32: Lainnya | F32: 3 | G32: 3 | H32: 3 | I32: 3 | J32: 3 | K32: 3 | L32: 3 | M32: 4 | N32: 3 | O32: sangat baik pelayanan cepat dan ramah
A33: 12 | B33: 24 | C33: Perempuan | D33: S-1 | E33: Lainnya | F33: 3 | G33: 3 | H33: 3 | I33: 3 | J33: 3 | K33: 3 | L33: 3 | M33: 4 | N33: 3 | O33: sudah sangat baik pelayanan ramah dan cepat
... A42: 21 | B42: 26 | C42: Perempuan | D42: S-1 | E42: Lainnya | F42: 3 | G42: 4 | H42: 3 | I42: 3 | J42: 3 | K42: 3 | L42: 3 | M42: 4 | N42: 3 | O42: Tetap meningkatkan pelayanan dengan baik

Sheet PSDK-S
D1: BIDANG SUMBER DAYA KESEHATAN
D2: TIM KERJA PENGEMBANGAN SUMBER DAYA KESEHATAN
A4: Tipe Kuisioner: Standar
A5: NO | B5: KARAKTERISTIK | C5: INDIKATOR | D5: JUMLAH | E5: PERSENTASE (%)
A6: 1 | B6: Jenis kelamin | C6: Laki-Laki | D6: =COUNTIF(C22:C1000,"Laki-Laki") -> 18 | E6: =+D6/217 -> 0.082949309 | H6: =SUM(D6:D7) -> 217
C7: Perempuan | D7: =COUNTIF(C22:C1000,"Perempuan") -> 199 | E7: =+D7/217 -> 0.91705069 | H7: =SUM(D8:D13) -> 217
A8: 2 | B8: Pendidikan | C8: SD Kebawah | D8: =COUNTIF(D22:D1000,"SD Kebawah") -> 0 | E8: =+D8/168 -> 0
C9: SLTP | D9: =COUNTIF(D22:D1000,"SLTP") -> 0 | E9: =+D9/168 -> 0
C10: SLTA | D10: =COUNTIF(D22:D1000,"SLTA") -> 139 | E10: =+D10/168 -> 0.82738095
C11: D1 - D3 - D4 | D11: =COUNTIF(D22:D1000,"D1 - D3 - D4") -> 54 | E11: =+D11/168 -> 0.32142857
C12: S-1 | D12: =COUNTIF(D22:D1000,"S-1") -> 24 | E12: =+D12/168 -> 0.14285714
C13: S-2 ke atas | D13: =COUNTIF(D22:D1000,"S-2 ke atas") -> 0 | E13: =+D13/168 -> 0
A14: 3 | B14: Instansi | C14: PNS/TNI/POLRI | D14: =COUNTIF(E22:E1000,"PNS/TNI/POLRI") -> 3 | E14: =+D14/168 -> 0.017857143
C15: Instansi Luar | D15: =COUNTIF(E22:E1000,"Instansi Luar") -> 0 | E15: =+D15/168 -> 0
C16: Wirausahawan/Usahawan | D16: =COUNTIF(E22:E1000,"Wirausahawan/Usahawan") -> 0 | E16: =+D16/168 -> 0
C17: Pelajar/Mahasiswa | D17: =COUNTIF(E22:E1000,"Pelajar/Mahasiswa") -> 213 | E17: =+D17/168 -> 1.2678571
C18: Lainnya | D18: =COUNTIF(E22:E1000,"Lainnya") -> 1 | E18: =+D18/168 -> 0.005952381 | M18: `
F19: =AVERAGE(F22:F1000) -> 3.6267281 | G19: =AVERAGE(G22:G1000) -> 3.6589862 | H19: =AVERAGE(H22:H1000) -> 3.5990783 | I19: =AVERAGE(I22:I1000) -> 3.8341014 | J19: =AVERAGE(J22:J1000) -> 3.6175115 | K19: =AVERAGE(K22:K1000) -> 3.6635945 | L19: =AVERAGE(L22:L1000) -> 3.6313364 | M19: =AVERAGE(M22:M1000) -> 3.9262673 | N19: =AVERAGE(N22:N1000) -> 3.6543779
A20: Laporan | Responden | IKM
A21: No | B21: Umur | C21: Jenis Kelamin | D21: Pendidikan | E21: Pekerjaan | F21: U1 | G21: U2 | H21: U3 | I21: U4 | J21: U5 | K21: U6 | L21: U7 | M21: U8 | N21: U9 | O21: Kritik/Saran
A22: 1 | B22: 21 | C22: Perempuan | D22: D1 - D3 - D4 | E22: Pelajar/Mahasiswa | F22: 4 | G22: 4 | H22: 4 | I22: 4 | J22: 4 | K22: 4 | L22: 4 | M22: 4 | N22: 4 | O22: sangat membantu
A23: 2 | B23: 21 | C23: Perempuan | D23: D1 - D3 - D4 | E23: Pelajar/Mahasiswa | F23: 3 | G23: 3 | H23: 3 | I23: 4 | J23: 3 | K23: 3 | L23: 3 | M23: 4 | N23: 3 | O23: Sangat memudahkan dalam pengurusan surat izinnya terimakasih atas pelayanannya
A24: 3 | B24: 21 | C24: Perempuan | D24: SLTA | E24: Pelajar/Mahasiswa | F24: 3 | G24: 3 | H24: 3 | I24: 3 | J24: 3 | K24: 4 | L24: 4 | M24: 4 | N24: 4 | O24: Tidak ada
A25: 4 | B25: 21 | C25: Perempuan | D25: SLTA | E25: Pelajar/Mahasiswa | F25: 4 | G25: 4 | H25: 4 | I25: 4 | J25: 4 | K25: 4 | L25: 4 | M25: 4 | N25: 4 | O25: Tidak ada
A26: 5 | B26: 21 | C26: Perempuan | D26: SLTA | E26: Pelajar/Mahasiswa | F26: 3 | G26: 3 | H26: 3 | I26: 4 | J26: 3 | K26: 4 | L26: 4 | M26: 4 | N26: 4 | O26: sesuai
A27: 6 | B27: 21 | C27: Perempuan | D27: S-1 | E27: Pelajar/Mahasiswa | F27: 4 | G27: 4 | H27: 4 | I27: 4 | J27: 4 | K27: 4 | L27: 4 | M27: 4 | N27: 4 | O27: Semoga ditingkatkan kembali yang sudah baik
A28: 7 | B28: 22 | C28: Perempuan | D28: SLTA | E28: Pelajar/Mahasiswa | F28: 4 | G28: 4 | H28: 4 | I28: 4 | J28: 4 | K28: 4 | L28: 4 | M28: 4 | N28: 4 | O28: pelayanan sangat baik
A29: 8 | B29: 20 | C29: Perempuan | D29: SLTA | E29: Pelajar/Mahasiswa | F29: 3 | G29: 4 | H29: 4 | I29: 4 | J29: 3 | K29: 3 | L29: 3 | M29: 3 | N29: 3 | O29: Dipertahankan layanan yang sudah cukup baik
A30: 9 | B30: 21 | C30: Perempuan | D30: SLTA | E30: Pelajar/Mahasiswa | F30: 4 | G30: 4 | H30: 4 | I30: 4 | J30: 4 | K30: 4 | L30: 4 | M30: 4 | N30: 4 | O30: Pelayanan yang sopan dan ramah dipertahankan
A31: 10 | B31: 24 | C31: Perempuan | D31: S-1 | E31: Pelajar/Mahasiswa | F31: 4 | G31: 4 | H31: 4 | I31: 4 | J31: 4 | K31: 4 | L31: 4 | M31: 4 | N31: 4 | O31: Sangat baik dalam pelayanan dan jelas tepat cepat
A32: 11 | B32: 24 | C32: Perempuan | D32: D1 - D3 - D4 | E32: Pelajar/Mahasiswa | F32: 3 | G32: 3 | H32: 3 | I32: 4 | J32: 3 | K32: 3 | L32: 3 | M32: 4 | N32: 3 | O32: Tidak ada
A33: 12 | B33: 20 | C33: Laki-Laki | D33: SLTA | E33: Pelajar/Mahasiswa | F33: 3 | G33: 3 | H33: 3 | I33: 3 | J33: 3 | K33: 3 | L33: 3 | M33: 3 | N33: 3 | O33: Pihak dinkes sudah memberikan saya panduan yang cukup baik
... A223: 202 | B223: 23 | C223: Perempuan | D223: D1 - D3 - D4 | E223: Pelajar/Mahasiswa | F223: 3 | G223: 3 | H223: 3 | I223: 3 | J223: 3 | K223: 3 | L223: 3 | M223: 4 | N223: 3 | O223: cukup baik
A224: 203 | B224: 22 | C224: Perempuan | D224: D1 - D3 - D4 | E224: Pelajar/Mahasiswa | F224: 4 | G224: 4 | H224: 4 | I224: 4 | J224: 4 | K224: 4 | L224: 4 | M224: 4 | N224: 4
A225: 204 | B225: 23 | C225: Perempuan | D225: S-1 | E225: Pelajar/Mahasiswa | F225: 4 | G225: 4 | H225: 3 | I225: 4 | J225: 3 | K225: 4 | L225: 3 | M225: 4 | N225: 3 | O225: Semoga semakin baik
A226: 205 | B226: 22 | C226: Laki-Laki | D226: S-1 | E226: Pelajar/Mahasiswa | F226: 3 | G226: 3 | H226: 4 | I226: 3 | J226: 3 | K226: 3 | L226: 3 | M226: 4 | N226: 4 | O226: -
A227: 206 | B227: 2 | C227: Perempuan | D227: SLTA | E227: Pelajar/Mahasiswa | F227: 4 | G227: 4 | H227: 4 | I227: 4 | J227: 4 | K227: 4 | L227: 4 | M227: 4 | N227: 4 | O227: Sudah baik sangat responsif dan cepat.
A228: 207 | B228: 21 | C228: Perempuan | D228: SLTA | E228: Pelajar/Mahasiswa | F228: 4 | G228: 4 | H228: 4 | I228: 4 | J228: 4 | K228: 4 | L228: 4 | M228: 4 | N228: 4 | O228: Pelayanan baik dan cepat
A229: 208 | B229: 22 | C229: Perempuan | D229: SLTA | E229: Pelajar/Mahasiswa | F229: 3 | G229: 4 | H229: 4 | I229: 4 | J229: 4 | K229: 3 | L229: 3 | M229: 4 | N229: 4 | O229: Mungkin akan lebih maksimal jika layanan di buka setiap hari sukses selalu Kab. Sleman
A230: 209 | B230: 20 | C230: Perempuan | D230: D1 - D3 - D4 | E230: Pelajar/Mahasiswa | F230: 3 | G230: 4 | H230: 3 | I230: 4 | J230: 3 | K230: 4 | L230: 3 | M230: 4 | N230: 3 | O230: Sangat baik
...

Sheet Sarpras-S
D1: BIDANG SUMBER DAYA KESEHATAN
D2: TIM KERJA SARANA PRASARANA
A4: Tipe Kuisioner: Standar
A5: NO | B5: KARAKTERISTIK | C5: INDIKATOR | D5: JUMLAH | E5: PERSENTASE (%)
A6: 1 | B6: Jenis kelamin | C6: Laki-Laki | D6: =COUNTIF(C22:C1000,"Laki-Laki") -> 23 | E6: =+D6/28 -> 0.82142857
C7: Perempuan | D7: =COUNTIF(C22:C1000,"Perempuan") -> 5 | E7: =+D7/28 -> 0.17857143
A8: 2 | B8: Pendidikan | C8: SD Kebawah | D8: =COUNTIF(D22:D1000,"SD ke bawah") -> 0 | E8: =+D8/28 -> 0
C9: SLTP | D9: =COUNTIF(D22:D1000,"SLTP") -> 0 | E9: =+D9/28 -> 0
C10: SLTA | D10: =COUNTIF(D22:D1000,"SLTA") -> 7 | E10: =+D10/28 -> 0.25
C11: D1 - D3 - D4 | D11: =COUNTIF(D22:D1000,"D1 - D3 - D4") -> 9 | E11: =+D11/28 -> 0.32142857
C12: S-1 | D12: =COUNTIF(D22:D1000,"S-1") -> 12 | E12: =+D12/28 -> 0.42857143
C13: S-2 ke atas | D13: =COUNTIF(D22:D1000,"S-2 ke atas") -> 0 | E13: =+D13/28 -> 0
A14: 3 | B14: Instansi | C14: PNS/TNI/POLRI | D14: =COUNTIF(E22:E1000,"PNS/TNI/POLRI") -> 0 | E14: =+D14/28 -> 0
C15: Instansi Luar | D15: =COUNTIF(E22:E1000,"Instansi Luar") -> 3 | E15: =+D15/28 -> 0.10714286
C16: Wirausahawan/Usahawan | D16: =COUNTIF(E22:E1000,"Wirausahawan/Usahawan") -> 10 | E16: =+D16/28 -> 0.35714286
C17: Pelajar/Mahasiswa | D17: =COUNTIF(E22:E1000,"Pelajar/Mahasiswa") -> 0 | E17: =+D17/28 -> 0
C18: Lainnya | D18: =COUNTIF(E22:E1000,"Lainnya") -> 15 | E18: =+D18/28 -> 0.53571429 | M18: `
F19: =AVERAGE(F22:F1000) -> 3.6785714 | G19: =AVERAGE(G22:G1000) -> 3.5714286 | H19: =AVERAGE(H22:H1000) -> 3.6071429 | I19: =AVERAGE(I22:I1000) -> 3.8214286 | J19: =AVERAGE(J22:J1000) -> 3.5 | K19: =AVERAGE(K22:K1000) -> 3.6785714 | L19: =AVERAGE(L22:L1000) -> 3.7142857 | M19: =AVERAGE(M22:M1000) -> 3.8214286 | N19: =AVERAGE(N22:N1000) -> 3.7142857
A20: Laporan | Responden | IKM
A21: No | B21: Umur | C21: Jenis Kelamin | D21: Pendidikan | E21: Pekerjaan | F21: U1 | G21: U2 | H21: U3 | I21: U4 | J21: U5 | K21: U6 | L21: U7 | M21: U8 | N21: U9 | O21: Kritik/Saran
A22: 1 | B22: 47 | C22: Laki-Laki | D22: S-1 | E22: Instansi Luar | F22: 4 | G22: 4 | H22: 4 | I22: 3 | J22: 3 | K22: 3 | L22: 4 | M22: 4 | N22: 4 | O22: Sudah memuaskan
A23: 2 | B23: 35 | C23: Laki-Laki | D23: D1 - D3 - D4 | E23: Lainnya | F23: 4 | G23: 4 | H23: 4 | I23: 4 | J23: 4 | K23: 4 | L23: 4 | M23: 4 | N23: 4 | O23: Unggul dan Terpercaya
A24: 3 | B24: 39 | C24: Perempuan | D24: D1 - D3 - D4 | E24: Lainnya | F24: 4 | G24: 4 | H24: 4 | I24: 4 | J24: 4 | K24: 4 | L24: 4 | M24: 4 | N24: 4 | O24: Pelayanan sudah sangat baik
A25: 4 | B25: 50 | C25: Laki-Laki | D25: S-1 | E25: Lainnya | F25: 3 | G25: 3 | H25: 3 | I25: 4 | J25: 3 | K25: 3 | L25: 3 | M25: 1 | N25: 3 | O25: Pertahankan yang sudah bagus
A26: 5 | B26: 34 | C26: Laki-Laki | D26: D1 - D3 - D4 | E26: Lainnya | F26: 4 | G26: 4 | H26: 4 | I26: 4 | J26: 4 | K26: 4 | L26: 4 | M26: 4 | N26: 4 | O26: Teruskan kinerja baik anda
A27: 6 | B27: 39 | C27: Perempuan | D27: S-1 | E27: Wirausahawan/Usahawan | F27: 4 | G27: 4 | H27: 4 | I27: 4 | J27: 4 | K27: 4 | L27: 4 | M27: 4 | N27: 4 | O27: Pelayanan sangat memuaskan
A28: 7 | B28: 37 | C28: Laki-Laki | D28: D1 - D3 - D4 | E28: Wirausahawan/Usahawan | F28: 4 | G28: 4 | H28: 4 | I28: 4 | J28: 4 | K28: 4 | L28: 4 | M28: 4 | N28: 4 | O28: Dinkes Sleman ok
A29: 8 | B29: 50 | C29: Laki-Laki | D29: D1 - D3 - D4 | E29: Wirausahawan/Usahawan | F29: 3 | G29: 3 | H29: 3 | I29: 3 | J29: 3 | K29: 3 | L29: 3 | M29: 4 | N29: 3 | O29: Baik
A30: 9 | B30: 50 | C30: Laki-Laki | D30: D1 - D3 - D4 | E30: Wirausahawan/Usahawan | F30: 3 | G30: 3 | H30: 3 | I30: 3 | J30: 3 | K30: 3 | L30: 3 | M30: 4 | N30: 3 | O30: Sudah baik
A31: 10 | B31: 30 | C31: Laki-Laki | D31: S-1 | E31: Wirausahawan/Usahawan | F31: 3 | G31: 3 | H31: 3 | I31: 4 | J31: 3 | K31: 3 | L31: 3 | M31: 4 | N31: 4 | O31: Baik
A32: 11 | B32: 34 | C32: Laki-Laki | D32: SLTA | E32: Lainnya | F32: 4 | G32: 4 | H32: 4 | I32: 4 | J32: 4 | K32: 4 | L32: 4 | M32: 4 | N32: 4 | O32: Pertahankan kinerja baik anda
A33: 12 | B33: 42 | C33: Laki-Laki | D33: S-1 | E33: Wirausahawan/Usahawan | F33: 3 | G33: 3 | H33: 3 | I33: 4 | J33: 3 | K33: 3 | L33: 3 | M33: 4 | N33: 3 | O33: Baik
... A49: 28 | B49: 40 | C49: Laki-Laki | D49: S-1 | E49: Lainnya | F49: 3 | G49: 3 | H49: 3 | I49: 4 | J49: 3 | K49: 3 | L49: 3 | M49: 4 | N49: 3 | O49: semakin baik kualitasnya

Sheet Farmakmin-S
D1: BIDANG SUMBER DAYA KESEHATAN
D2: TIM KERJA FARMASI, MAKNAN DAN MINUMAN
A4: Tipe Kuisioner: Standar
A5: NO | B5: KARAKTERISTIK | C5: INDIKATOR | D5: JUMLAH | E5: PERSENTASE (%)
A6: 1 | B6: Jenis kelamin | C6: Laki-Laki | D6: =COUNTIF(C22:C1000,"Laki-Laki") -> 29 | E6: =+D6/81 -> 0.35802469
C7: Perempuan | D7: =COUNTIF(C22:C1000,"Perempuan") -> 52 | E7: =+D7/81 -> 0.64197531
A8: 2 | B8: Pendidikan | C8: SD Kebawah | D8: =COUNTIF(D22:D1000,"SD Ke bawah") -> 2 | E8: =+D8/81 -> 0.024691358
C9: SLTP | D9: =COUNTIF(D22:D1000,"SLTP") -> 1 | E9: =+D9/81 -> 0.012345679
C10: SLTA | D10: =COUNTIF(D22:D1000,"SLTA") -> 19 | E10: =+D10/81 -> 0.2345679
C11: D1 - D3 - D4 | D11: =COUNTIF(D22:D1000,"D1 - D3 - D4") -> 15 | E11: =+D11/81 -> 0.18518519
C12: S-1 | D12: =COUNTIF(D22:D1000,"S-1") -> 38 | E12: =+D12/81 -> 0.4691358
C13: S-2 ke atas | D13: =COUNTIF(D22:D1000,"S-2 ke atas") -> 6 | E13: =+D13/81 -> 0.074074074
A14: 3 | B14: Instansi | C14: PNS/TNI/POLRI | D14: =COUNTIF(E22:E1000,"PNS/TNI/POLRI") -> 2 | E14: =+D14/81 -> 0.024691358
C15: Instansi Luar | D15: =COUNTIF(E22:E1000,"Instansi Luar") -> 3 | E15: =+D15/81 -> 0.037037037
C16: Wirausahawan/Usahawan | D16: =COUNTIF(E22:E1000,"Wirausahawan/Usahawan") -> 47 | E16: =+D16/81 -> 0.58024691
C17: Pelajar/Mahasiswa | D17: =COUNTIF(E22:E1000,"Pelajar/Mahasiswa") -> 7 | E17: =+D17/81 -> 0.086419753
C18: Lainnya | D18: =COUNTIF(E22:E1000,"Lainnya") -> 22 | E18: =+D18/81 -> 0.27160494
F19: =AVERAGE(F22:F1000) -> 3.5185185 | G19: =AVERAGE(G22:G1000) -> 3.5432099 | H19: =AVERAGE(H22:H1000) -> 3.5061728 | I19: =AVERAGE(I22:I1000) -> 3.8765432 | J19: =AVERAGE(J22:J1000) -> 3.3950617 | K19: =AVERAGE(K22:K1000) -> 3.6296296 | L19: =AVERAGE(L22:L1000) -> 3.617284 | M19: =AVERAGE(M22:M1000) -> 3.8888889 | N19: =AVERAGE(N22:N1000) -> 3.7407407
A20: Laporan | Responden | IKM
A21: No | B21: Umur | C21: Jenis Kelamin | D21: Pendidikan | E21: Pekerjaan | F21: U1 | G21: U2 | H21: U3 | I21: U4 | J21: U5 | K21: U6 | L21: U7 | M21: U8 | N21: U9 | O21: Kritik/Saran
A22: 1 | B22: 31 | C22: Perempuan | D22: S-2 ke atas | E22: Lainnya | F22: 4 | G22: 3 | H22: 3 | I22: 3 | J22: 3 | K22: 4 | L22: 4 | M22: 3 | N22: 4 | O22: Penjelasan hari ini cukup sangat baik dan membantu.
A23: 2 | B23: 38 | C23: Perempuan | D23: D1 - D3 - D4 | E23: Lainnya | F23: 4 | G23: 4 | H23: 4 | I23: 4 | J23: 4 | K23: 4 | L23: 4 | M23: 4 | N23: 4 | O23: Baik
A24: 3 | B24: 44 | C24: Perempuan | D24: D1 - D3 - D4 | E24: Wirausahawan/Usahawan | F24: 3 | G24: 3 | H24: 3 | I24: 4 | J24: 3 | K24: 4 | L24: 4 | M24: 4 | N24: 4 | O24: Cepat dan informatif
A25: 4 | B25: 44 | C25: Perempuan | D25: D1 - D3 - D4 | E25: Wirausahawan/Usahawan | F25: 3 | G25: 3 | H25: 3 | I25: 4 | J25: 3 | K25: 4 | L25: 4 | M25: 4 | N25: 4 | O25: Cepat dan informatif
A26: 5 | B26: 56 | C26: Perempuan | D26: SLTA | E26: Wirausahawan/Usahawan | F26: 3 | G26: 4 | H26: 4 | I26: 4 | J26: 4 | K26: 4 | L26: 4 | M26: 4 | N26: 4 | O26: Sudah baik namun harus tetap ditingkatkan lagi
A27: 6 | B27: 44 | C27: Perempuan | D27: D1 - D3 - D4 | E27: Wirausahawan/Usahawan | F27: 4 | G27: 4 | H27: 4 | I27: 4 | J27: 4 | K27: 4 | L27: 4 | M27: 4 | N27: 4 | O27: Sangat membantuinformatifjelascepattanggap
A28: 7 | B28: 56 | C28: Laki-Laki | D28: D1 - D3 - D4 | E28: Wirausahawan/Usahawan | F28: 4 | G28: 3 | H28: 3 | I28: 4 | J28: 4 | K28: 4 | L28: 3 | M28: 4 | N28: 3 | O28: Terima kasih cukup baik
A29: 8 | B29: 45 | C29: Laki-Laki | D29: S-1 | E29: Lainnya | F29: 4 | G29: 4 | H29: 4 | I29: 4 | J29: 4 | K29: 4 | L29: 4 | M29: 4 | N29: 4 | O29: Sangat bagus melayani dengan sepenuh hati meskipun sudah jam istirahat tetap dilayani. Terima kasih ????????????????????
A30: 9 | B30: 55 | C30: Perempuan | D30: S-1 | E30: Lainnya | F30: 4 | G30: 3 | H30: 3 | I30: 4 | J30: 3 | K30: 4 | L30: 4 | M30: 4 | N30: 4 | O30: Pertahankan kepuasan masyarakat
A31: 10 | B31: 28 | C31: Perempuan | D31: S-1 | E31: Lainnya | F31: 4 | G31: 4 | H31: 4 | I31: 4 | J31: 4 | K31: 4 | L31: 4 | M31: 4 | N31: 4 | O31: Good
A32: 11 | B32: 40 | C32: Perempuan | D32: SD ke bawah | E32: Lainnya | F32: 4 | G32: 4 | H32: 4 | I32: 4 | J32: 4 | K32: 4 | L32: 4 | M32: 4 | N32: 4 | O32: Alhamdulillah sangat memuaskan trimakasih.. sukses selalu ????????
A33: 12 | B33: 29 | C33: Perempuan | D33: S-1 | E33: Wirausahawan/Usahawan | F33: 4 | G33: 4 | H33: 4 | I33: 4 | J33: 3 | K33: 4 | L33: 3 | M33: 4 | N33: 4 | O33: Bagus sekali
... A102: 81 | B102: 56 | C102: Perempuan | D102: SLTA | E102: Wirausahawan/Usahawan | F102: 3 | G102: 4 | H102: 4 | I102: 4 | J102: 3 | K102: 4 | L102: 3 | M102: 4 | N102: 4 | O102: Sabar memabantu

Sheet Umpeg-R
D1: SUBBAGIAN KEUANGAN
D2: SEKRETARIAT
A4: Tipe Kuisioner: Rapat
A5: NO | B5: KARAKTERISTIK | C5: INDIKATOR | D5: JUMLAH | E5: PERSENTASE (%)
A6: 1 | B6: Jenis kelamin | C6: Laki-Laki | D6: =COUNTIF(C22:C77,"Laki-Laki") -> 12 | E6: =+D6/47 -> 0.25531915
C7: Perempuan | D7: =COUNTIF(C22:C77,"Perempuan") -> 44 | E7: =+D7/47 -> 0.93617021
A8: 2 | B8: Pendidikan | C8: SD Kebawah | D8: =COUNTIF(D22:D77,"SD Kebawah") -> 0 | E8: =+D8/47 -> 0
C9: SLTP | D9: =COUNTIF(D22:D77,"SLTP") -> 1 | E9: =+D9/47 -> 0.021276596
C10: SLTA | D10: =COUNTIF(D22:D77,"SLTA") -> 14 | E10: =+D10/47 -> 0.29787234
C11: D1 - D3 - D4 | D11: =COUNTIF(D22:D77,"D1 - D3 - D4") -> 9 | E11: =+D11/47 -> 0.19148936
C12: S-1 | D12: =COUNTIF(D22:D77,"S-1") -> 28 | E12: =+D12/47 -> 0.59574468
C13: S-2 ke atas | D13: =COUNTIF(D22:D77,"S-2 ke atas") -> 4 | E13: =+D13/47 -> 0.085106383
A14: 3 | B14: Instansi | C14: Instansi Pemkab Sleman | D14: =COUNTIF(E22:E77,"Instansi Pemkab Sleman") -> 25 | E14: =+D14/47 -> 0.53191489
C15: Pegawai Swasta | D15: =COUNTIF(E22:E77,"Pegawai Swasta") -> 5 | E15: =+D15/47 -> 0.10638298
C16: Akademisi | D16: =COUNTIF(E22:E77,"Akademisi") -> 10 | E16: =+D16/47 -> 0.21276596
C17: Masyarakat | D17: =COUNTIF(E22:E77,"Masyarakat") -> 1 | E17: =+D17/47 -> 0.021276596
C18: Lainnya | D18: =COUNTIF(E22:E77,"Lainnya") -> 15 | E18: =+D18/47 -> 0.31914894
F19: =AVERAGE(F22:F1000) -> 3.5 | G19: =AVERAGE(G22:G1000) -> 3.4821429 | H19: =AVERAGE(H22:H1000) -> 3.5714286 | I19: =AVERAGE(I22:I1000) -> 3.6071429 | J19: =AVERAGE(J22:J1000) -> 3.4642857 | K19: =AVERAGE(K22:K1000) -> 3.5357143 | L19: =AVERAGE(L22:L1000) -> 3.6071429 | M19: =AVERAGE(M22:M1000) -> 3.6071429 | N19: =AVERAGE(N22:N1000) -> 3.5
A20: Laporan | Responden | IKM
A21: No | B21: Umur | C21: Jenis Kelamin | D21: Pendidikan | E21: Pekerjaan | F21: U1 | G21: U2 | H21: U3 | I21: U4 | J21: U5 | K21: U6 | L21: U7 | M21: U8 | N21: U9 | O21: Kritik/Saran
A22: 1 | B22: 55 | C22: Perempuan | D22: S-2 ke atas | E22: Lainnya | F22: 4 | G22: 4 | H22: 4 | I22: 4 | J22: 4 | K22: 4 | L22: 4 | M22: 4 | N22: 4 | O22: Sudah sangat bagus agar dipertahankan
A23: 2 | B23: 22 | C23: Perempuan | D23: SLTA | E23: Akademisi | F23: 4 | G23: 4 | H23: 4 | I23: 4 | J23: 4 | K23: 4 | L23: 4 | M23: 4 | N23: 4 | O23: -
A24: 3 | B24: 50 | C24: Laki-Laki | D24: S-1 | E24: Lainnya | F24: 4 | G24: 4 | H24: 4 | I24: 4 | J24: 4 | K24: 4 | L24: 4 | M24: 4 | N24: 4 | O24: Agar dapat dipertahankan
A25: 4 | B25: 22 | C25: Laki-Laki | D25: S-1 | E25: Lainnya | F25: 4 | G25: 4 | H25: 4 | I25: 4 | J25: 4 | K25: 4 | L25: 3 | M25: 3 | N25: 3 | O25: Mantap sukses terus dan selalu bermanfaat
A26: 5 | B26: 22 | C26: Laki-Laki | D26: S-1 | E26: Pegawai Swasta | F26: 3 | G26: 3 | H26: 3 | I26: 3 | J26: 3 | K26: 3 | L26: 3 | M26: 3 | N26: 3 | O26: bagus
A27: 6 | B27: 42 | C27: Laki-Laki | D27: S-1 | E27: Lainnya | F27: 4 | G27: 4 | H27: 4 | I27: 4 | J27: 4 | K27: 4 | L27: 4 | M27: 4 | N27: 4 | O27: Mantul mantap betul
A28: 7 | B28: 22 | C28: Perempuan | D28: SLTA | E28: Akademisi | F28: 3 | G28: 3 | H28: 3 | I28: 3 | J28: 3 | K28: 3 | L28: 3 | M28: 3 | N28: 3 | O28: Tidak ada
A29: 8 | B29: 21 | C29: Perempuan | D29: S-1 | E29: Lainnya | F29: 3 | G29: 3 | H29: 4 | I29: 3 | J29: 3 | K29: 3 | L29: 3 | M29: 4 | N29: 3 | O29: baik
A30: 9 | B30: 21 | C30: Perempuan | D30: SLTA | E30: Lainnya | F30: 4 | G30: 4 | H30: 4 | I30: 4 | J30: 4 | K30: 4 | L30: 4 | M30: 4 | N30: 4 | O30: -
A31: 10 | B31: 21 | C31: Perempuan | D31: S-1 | E31: Akademisi | F31: 4 | G31: 3 | H31: 3 | I31: 4 | J31: 3 | K31: 4 | L31: 3 | M31: 4 | N31: 3 | O31: Sukses selalu
A32: 11 | B32: 56 | C32: Perempuan | D32: D1 - D3 - D4 | E32: Lainnya | F32: 4 | G32: 4 | H32: 4 | I32: 4 | J32: 4 | K32: 3 | L32: 4 | M32: 4 | N32: 4 | O32: Sangat Baik
A33: 12 | B33: 56 | C33: Perempuan | D33: D1 - D3 - D4 | E33: Lainnya | F33: 4 | G33: 4 | H33: 4 | I33: 4 | J33: 4 | K33: 3 | L33: 4 | M33: 4 | N33: 4 | O33: Sudah sesuai harapan
